{"text_format":"1","workbook":"xlsx","n_sheets":12,"sheets":["入力欄","参加申込","大会参加確認書","当日一覧","体調記録","メンバー票a","メンバー票b","メンバー票c","メンバー票d","個人情報","個人情報確認","Sheet2"],"not_rendered":{"charts":0,"images":10,"macros":1,"external_links":0,"defined_names":11,"comments":1,"pivot_tables":0},"unopened":[],"bounds":{"document_bytes":16777216,"sheet_cells":100000,"rows_first":2000,"rows_last":500,"rows_between":2000,"halvings":0,"cell_chars":16384,"cell_head_chars":4096},"cells_cut":0,"cells_raw":0,"read":"whole","date_system":"1900"}

{"sheet":"入力欄","index":0,"n_rows":64,"n_cols":47,"rows_kept":64,"cut":false,"hidden":false,"merged":[[3,11,3,14],[4,11,4,14],[5,11,5,14],[6,11,6,14],[7,11,7,14],[3,7,3,10],[4,7,4,10],[5,7,5,10],[6,7,6,10],[7,7,7,10],[0,0,0,1],[6,4,6,5],[7,4,7,5],[8,4,8,5],[9,4,9,5],[0,2,0,4],[8,7,8,10],[8,11,8,14],[35,0,35,1],[10,7,11,13],[35,6,35,9],[10,4,10,5],[11,4,11,5],[17,5,18,8]]}
["香川県U-15バスケットボールリーグ",null,{"$f":"INDEX(L4:O9,MATCH(A1,H4:H9,0),1)","v":"(一社)香川県バスケットボール協会"},null,null,"データを保存する場合はファイル名の(チーム名男女)を変更してください。"]
[null,"入力(選択)欄","A1 のセルの大会名を変更してください"]
["申込年",{"$f":"YEAR(TODAY())","v":2022},"現在の日付が入力されています。",null,null,null,null,"大会名",null,null,null,"主催者名"]
["申込月",{"$f":"MONTH(TODAY())","v":7},"特定の日に変更したいときは直接セル(B3～B5)に入力してください。",null,null,null,null,"香川県ジュニアバスケットボール大会",null,null,null,"(一社)香川県バスケットボール協会"]
["申込日",{"$f":"DAY(TODAY())","v":26},null,null,null,null,null,"ＫＡＧＡＷＡ　ＣＵＰ",null,null,null,"(一社)香川県バスケットボール協会"]
[null,null,null,"合同チームの2チーム目",null,null,null,"高松市ジュニアバスケットボール大会",null,null,null,"高松市バスケットボール協会"]
["チーム名(正式)",null,null,"チーム名(正式)",null,null,null,"高松市バスケットボール協会長杯",null,null,null,"高松市バスケットボール協会"]
["チーム名(略称)",null,null,"チーム名(略称)",null,null,null,"香川県U-15バスケットボールリーグ",null,null,null,"(一社)香川県バスケットボール協会"]
["所在地",null,null,"所在地",null,null,null,"全国U15バスケットボール選手権香川県予選",null,null,null,"(一社)香川県バスケットボール協会"]
["電話番号",null,null,"電話番号"]
["チームＩＤ",null,null,"チームＩＤ",null,null,null,"各シートは、シートの保護をしています。様式を修正する場合は\n「校閲」→「シートの保護の解除」をしてください。"]
["責任者氏名",null,"所属","責任者氏名"]
["引率者氏名",null,null,"←合同チームの場合"]
["引率者職名",null,"所属"]
["連絡責任者氏名"]
["連絡責任者携帯電話",null,"↑",null,null,null,null,null,null,null,null,null,null,null,null,null,null,null,null,null,null,null,null,null,null,null,null,null,null,null,null,null,null,null,null,null,"香川県ジュニアバスケットボール大会","高松","小豆","さ東","綾坂","丸亀","仲善","三観"]
[null,null,"合同チームの場合",null,"×","個人情報について配慮が必要な者がいる場合は○、いない場合は×をつける。",null,null,null,null,null,null,null,null,null,null,null,null,null,null,null,null,null,null,null,null,null,null,null,null,null,null,null,null,null,null,"ＫＡＧＡＷＡ　ＣＵＰ","高松","小豆","さ東","綾坂","丸亀","仲善","三観"]
["地区",null,null,null,null,"個人情報の取り扱いについて",null,null,null,null,null,null,null,null,null,null,null,null,null,null,null,null,{"$f":"INDEX(AK16:AU20,MATCH(A1,AK16:AK20,0),2)","v":"東讃1部"},{"$f":"INDEX(AK16:AU20,MATCH(A1,AK16:AK20,0),3)","v":"西讃1部"},{"$f":"INDEX(AK16:AU20,MATCH(A1,AK16:AK20,0),4)","v":"東讃2部"},{"$f":"INDEX(AK16:AU20,MATCH(A1,AK16:AK20,0),5)","v":"西讃2部"},{"$f":"INDEX(AK16:AU20,MATCH(A1,AK16:AK20,0),6)","v":"東讃3部"},{"$f":"INDEX(AK16:AU20,MATCH(A1,AK16:AK20,0),7)","v":"西讃3部"},{"$f":"INDEX(AK16:AU20,MATCH(A1,AK16:AK20,0),8)","v":"東讃4部"},{"$f":"INDEX(AK16:AU20,MATCH(A1,AK16:AK20,0),9)","v":"西讃4部"},{"$f":"INDEX(AK16:AU20,MATCH(A1,AK16:AK20,0),10)","v":"東讃5部"},{"$f":"INDEX(AK16:AU20,MATCH(A1,AK16:AK20,0),11)","v":"西讃5部"},null,"○",null,null,"高松市ジュニアバスケットボール大会","高松","小豆","さ東","綾坂","丸亀","仲善","三観"]
["性別",null,"合同チームの場合",null,null,null,null,null,null,null,null,null,null,null,null,null,null,null,null,null,null,null,"男子","女子",null,null,null,null,null,null,null,null,null,"×",null,null,"高松市バスケットボール協会長杯","高松","小豆","さ東","綾坂","丸亀","仲善","三観"]
[null,null,"↓",null,"　参加申込によって得た個人情報は原則として、大会の運営に関することのみに利用します。",null,null,null,null,null,null,null,null,null,null,null,null,null,null,null,null,null,null,null,null,null,null,null,null,null,null,null,null,"選択必須",null,null,"香川県U-15バスケットボールリーグ","東讃1部","西讃1部","東讃2部","西讃2部","東讃3部","西讃3部","東讃4部","西讃4部","東讃5部","西讃5部"]
["コーチ氏名",null,"所属",null,"ただし、以下の場合に個人情報を公開および提供することがあります。",null,null,null,null,null,null,null,null,null,null,null,null,null,null,null,null,null,null,null,null,null,null,null,null,null,null,null,null,null,null,null,"全国U15バスケットボール選手権香川県予選","高松","小豆","さ東","綾坂","丸亀","仲善","三観"]
["コーチ職名",null,null,{"$f":"VLOOKUP(B22,$AF$27:$AG$34,2,)","v":{"$error":"#N/A"}},"① 大会プログラムを作成し、チームの集合写真・選手氏名・学年・身長等が掲載されることがあります。",null,null,null,null,null,null,null,null,null,null,null,null,null,null,null,null,null,"教諭","講師","部活動指導員","校長","教頭","主幹教諭","指導教諭"]
["コーチ資格",null,null,null,"② 新聞社に試合結果を提供します。その際に優秀選手等の個人名が提供されることがあります。",null,null,null,null,null,null,null,null,null,null,null,null,null,null,null,null,null,"A級","B級","C級","D級","E-1級","E-2級","なし"]
["コーチＩＤ",null,"合同チームの場合",null,"③ 新聞社が試合風景の写真を撮影し、掲載することがあります。"]
[null,null,"↓",null,"④ 協会ホームページに試合結果を掲載します。その際に優秀選手等の個人名が掲載されることがあります。"]
["Ａコーチ氏名",null,"所属",null,"⑤ 協会ホームページに試合風景の写真を掲載することがあります。"]
["Ａコーチ職名",null,null,{"$f":"VLOOKUP(B27,$AF$27:$AG$34,2,)","v":{"$error":"#N/A"}},"⑥ 県協会、日本協会の求めに応じて、優秀選手の推薦等の資料として個人名・身長等を提供することがあります。",null,null,null,null,null,null,null,null,null,null,null,null,null,null,null,null,null,"教諭","講師","部活動指導員","外部コーチ","校長","教頭","主幹教諭","指導教諭",null,"教諭","教員"]
["Ａコーチ資格",null,null,null,null,null,null,null,null,null,null,null,null,null,null,null,null,null,null,null,null,null,null,null,null,null,null,null,null,null,null,"講師","教員"]
["ＡコーチＩＤ",null,"合同チームの場合",null,null,null,null,null,null,null,null,null,null,null,null,null,null,null,null,null,null,null,null,null,null,null,null,null,null,null,null,"部活動指導員","部指"]
[null,null,"↓",null,null,null,null,null,null,null,null,null,null,null,null,null,null,null,null,null,null,null,null,null,null,null,null,null,null,null,null,"外部コーチ","外部"]
["マネージャー氏名",null,"所属",null,"基本ﾕﾆﾌｫｰﾑNo.は参加申込に反映されます。",null,null,null,null,null,null,null,null,null,null,null,null,null,null,null,null,null,null,null,null,null,null,null,null,null,null,"校長","教員"]
["マネージャー職名",null,null,null,"基本は同じNo.が複数いてもかまいません。",null,null,null,null,null,null,null,null,null,null,null,null,null,null,null,null,null,"教諭","講師","生徒","校長","教頭","主幹教諭","指導教諭",null,null,"教頭","教員"]
[null,null,null,null,"『00』を使用する場合はこの基本ﾕﾆﾌｫｰﾑNo.は『100』を入力してください。",null,null,null,null,null,null,null,null,null,null,null,null,null,null,null,null,null,null,null,null,null,null,null,null,null,null,"主幹教諭","教員"]
["トレーナー氏名",null,null,null,"『0』と『00』は同時には使用できません。",null,null,null,null,null,null,null,null,null,null,null,null,null,null,null,null,null,null,null,null,null,null,null,null,null,null,"指導教諭","教員"]
["トレーナー資格",null,null,"整数で","↓",null,null,null,null,"合同チームの場合",null,null,null,null,null,null,null,null,null,null,null,null,"医療に従事しており国家資格を有する者","トレーナーとして認定資格を有する者","当該校の養護教諭"]
["上からつめて入力してください↓",null,null,"↓","基本","申請中は『100000000』","メンバー票反映",null,null,null,"↓"]
[null,"選手氏名","学年","身長","ﾕﾆﾌｫｰﾑNo.","メンバーＩＤ","ａ","ｂ","ｃ","ｄ","備考"]
[1,null,null,null,null,null,null,null,null,null,null,null,null,null,null,null,null,null,null,null,null,null,null,"1年","2年","3年",{"$f":"B8","v":0},{"$f":"E8","v":0},{"$f":"IF(E38=\"\",\"*\",E38)","v":"*"}]
[2,null,null,null,null,null,null,null,null,null,null,null,null,null,null,null,null,null,null,null,null,null,null,null,null,null,null,null,"*"]
[3,null,null,null,null,null,null,null,null,null,null,null,"メンバー票の作成について",null,null,null,null,null,null,null,null,null,null,null,null,null,null,null,"*"]
[4,null,null,null,null,null,null,null,null,null,null,null,"25名中、任意の15名を選んだ4種類のメンバー票が作成できます。",null,null,null,null,null,null,null,null,null,null,null,null,null,null,null,"*"]
[5,null,null,null,null,null,null,null,null,null,null,null,"メンバー票はﾕﾆﾌｫｰﾑNo.の小さい順にならびます。参加申込は入力欄の順です。",null,null,null,null,null,null,null,null,null,null,null,null,null,null,null,"*"]
[6,null,null,null,null,null,null,null,null,null,null,null,null,null,null,null,null,null,null,null,null,null,null,null,null,null,null,null,"*"]
[7,null,null,null,null,null,null,null,null,null,null,null,"作成の手順",null,null,null,null,null,null,null,null,null,null,null,null,null,null,null,"*"]
[8,null,null,null,null,null,null,null,null,null,null,"①","上の『コピーする』をクリックし、基本のﾕﾆﾌｫｰﾑNo.をメンバー票反映a～dにコピーする",null,null,null,null,null,null,null,null,null,null,null,null,null,null,null,"*"]
[9,null,null,null,null,null,null,null,null,null,null,"②","そのゲームでベンチ入りしない者の欄に『*』を入力する。",null,null,null,null,null,null,null,null,null,null,null,null,null,null,null,"*"]
[10,null,null,null,null,null,null,null,null,null,null,null,"『*』は選手氏名がないところも含めて10個以上つけてください。メンバー票が正しく作成できません。",null,null,null,null,null,null,null,null,null,null,null,null,null,null,null,"*"]
[11,null,null,null,null,null,null,null,null,null,null,null,"『*』が入力されたセルは黄色で塗りつぶされます。",null,null,null,null,null,null,null,null,null,null,null,null,null,null,null,"*"]
[12,null,null,null,null,null,null,null,null,null,null,null,"10個より少ない場合はその列が赤く塗りつぶされます。",null,null,null,null,null,null,null,null,null,null,null,null,null,null,null,"*"]
[13,null,null,null,null,null,null,null,null,null,null,"③","同じNo.が同時に出場することはできません。",null,null,null,null,null,null,null,null,null,null,null,null,null,null,null,"*"]
[14,null,null,null,null,null,null,null,null,null,null,null,"同じ縦列で重複したNo.があるときはそのセルが緑に塗りつぶされます。",null,null,null,null,null,null,null,null,null,null,null,null,null,null,null,"*"]
[15,null,null,null,null,null,null,null,null,null,null,"④","メンバー票反映a～dは空欄を作らないでください。『0』と認識されます。",null,null,null,null,null,null,null,null,null,null,null,null,null,null,null,"*"]
[16,null,null,null,null,null,null,null,null,null,null,null,null,null,null,null,null,null,null,null,null,null,null,null,null,null,null,null,"*"]
[17,null,null,null,null,null,null,null,null,null,null,null,null,null,null,null,null,null,null,null,null,null,null,null,null,null,null,null,"*"]
[18,null,null,null,null,null,null,null,null,null,null,null,null,null,null,null,null,null,null,null,null,null,null,null,null,null,null,null,"*"]
[19,null,null,null,null,null,null,null,null,null,null,null,null,null,null,null,null,null,null,null,null,null,null,null,null,null,null,null,"*"]
[20,null,null,null,null,null,null,null,null,null,null,null,null,null,null,null,null,null,null,null,null,null,null,null,null,null,null,null,"*"]
[21,null,null,null,null,null,null,null,null,null,null,null,null,null,null,null,null,null,null,null,null,null,null,null,null,null,null,null,"*"]
[22,null,null,null,null,null,null,null,null,null,null,null,null,null,null,null,null,null,null,null,null,null,null,null,null,null,null,null,"*"]
[23,null,null,null,null,null,null,null,null,null,null,null,null,null,null,null,null,null,null,null,null,null,null,null,null,null,null,null,"*"]
[24,null,null,null,null,null,null,null,null,null,null,null,null,null,null,null,null,null,null,null,null,null,null,null,null,null,null,null,"*"]
[25,null,null,null,null,null,null,null,null,null,null,null,null,null,null,null,null,null,null,null,null,null,null,null,null,null,null,null,"*"]
[null,null,null,null,null,null,"『*』を\n増やす","『*』を\n増やす","*","『*』を\n増やす",null,null,null,null,null,null,null,null,null,null,null,null,null,null,null,null,null,null,"*"]
[null,null,null,null,null,null,{"$f":"COUNTIF(G38:G62,\"*\")","v":0},{"$f":"COUNTIF(H38:H62,\"*\")","v":0},{"$f":"COUNTIF(I38:I62,\"*\")","v":0},{"$f":"COUNTIF(J38:J62,\"*\")","v":0}]

{"sheet":"参加申込","index":1,"n_rows":47,"n_cols":31,"rows_kept":47,"cut":false,"hidden":false,"merged":[[9,23,9,28],[9,13,9,16],[8,21,8,22],[8,4,8,12],[8,0,8,3],[8,17,8,18],[4,0,5,3],[4,4,5,16],[4,17,4,19],[5,17,5,19],[1,14,1,16],[1,17,1,19],[2,14,2,16],[2,17,2,19],[0,7,0,23],[0,0,0,3],[11,13,11,14],[11,15,11,28],[6,0,6,3],[8,23,8,28],[4,20,4,28],[5,20,5,28],[10,13,10,16],[9,17,9,18],[1,20,1,28],[2,20,2,28],[6,4,6,12],[6,13,6,16],[7,0,7,3],[7,4,7,12],[7,13,7,16],[7,17,7,25],[8,13,8,16],[8,19,8,20],[16,0,16,1],[17,0,17,1],[18,0,18,1],[9,19,9,20],[9,21,9,22],[9,0,9,3],[10,0,10,3],[9,4,9,12],[10,4,10,12],[17,2,17,10],[17,11,17,13],[17,14,17,16],[16,11,16,13],[16,14,16,16],[11,0,11,3],[11,4,11,12],[14,0,14,1],[13,0,13,1],[15,0,15,1],[16,26,16,28],[13,26,13,28],[16,20,16,25],[37,0,37,1],[38,0,38,1],[13,14,13,16],[15,2,15,10],[15,11,15,13],[15,14,15,16],[31,0,31,1],[32,0,32,1],[33,0,33,1],[34,0,34,1],[35,0,35,1],[36,0,36,1],[25,0,25,1],[26,0,26,1],[27,0,27,1],[28,0,28,1],[29,0,29,1],[30,0,30,1],[19,0,19,1],[20,0,20,1],[21,0,21,1],[22,0,22,1],[23,0,23,1],[24,0,24,1],[13,17,13,19],[14,17,14,19],[15,17,15,19],[16,17,16,19],[16,2,16,10],[17,26,17,28],[18,2,18,10],[18,11,18,13],[18,14,18,16],[18,26,18,28],[13,11,13,13],[13,2,13,10],[14,2,14,10],[14,11,14,13],[14,14,14,16],[14,26,14,28],[13,20,13,25],[14,20,14,25],[15,20,15,25],[15,26,15,28],[19,2,19,10],[19,11,19,13],[19,14,19,16],[19,26,19,28],[17,20,17,25],[18,20,18,25],[19,20,19,25],[17,17,17,19],[18,17,18,19],[19,17,19,19],[20,2,20,10],[20,11,20,13],[20,14,20,16],[20,26,20,28],[21,2,21,10],[21,11,21,13],[21,14,21,16],[21,26,21,28],[20,20,20,25],[21,20,21,25],[20,17,20,19],[21,17,21,19],[22,2,22,10],[22,11,22,13],[22,14,22,16],[22,26,22,28],[23,2,23,10],[23,11,23,13],[23,14,23,16],[23,26,23,28],[22,20,22,25],[23,20,23,25],[22,17,22,19],[23,17,23,19],[24,2,24,10],[24,11,24,13],[24,14,24,16],[24,26,24,28],[25,2,25,10],[25,11,25,13],[25,14,25,16],[25,26,25,28],[24,20,24,25],[25,20,25,25],[24,17,24,19],[25,17,25,19],[28,26,28,28],[29,2,29,10],[29,11,29,13],[29,14,29,16],[29,26,29,28],[28,20,28,25],[29,20,29,25],[26,2,26,10],[26,11,26,13],[26,14,26,16],[26,26,26,28],[27,2,27,10],[27,11,27,13],[27,14,27,16],[27,26,27,28],[26,20,26,25],[27,20,27,25],[26,17,26,19],[27,17,27,19],[30,20,30,25],[31,20,31,25],[32,20,32,25],[33,20,33,25],[32,17,32,19],[33,17,33,19],[28,2,28,10],[28,11,28,13],[28,14,28,16],[30,2,30,10],[30,11,30,13],[30,14,30,16],[31,11,31,13],[31,14,31,16],[28,17,28,19],[29,17,29,19],[30,17,30,19],[35,2,35,10],[34,2,34,10],[34,11,34,13],[34,14,34,16],[34,26,34,28],[35,11,35,13],[35,14,35,16],[35,26,35,28],[32,2,32,10],[32,11,32,13],[32,14,32,16],[32,26,32,28],[33,2,33,10],[33,11,33,13],[33,14,33,16],[33,26,33,28],[34,17,34,19],[35,17,35,19],[30,26,30,28],[46,13,46,14],[45,16,45,24],[46,16,46,24],[40,0,41,28],[43,0,43,13],[42,17,42,19],[46,26,46,27],[45,3,45,11],[46,3,46,11],[31,17,31,19],[37,2,37,10],[37,11,37,13],[37,14,37,16],[37,26,37,28],[38,2,38,10],[38,11,38,13],[38,14,38,16],[38,26,38,28],[36,2,36,10],[36,11,36,13],[36,14,36,16],[36,26,36,28],[31,2,31,10],[36,17,36,19],[37,17,37,19],[38,17,38,19],[34,20,34,25],[35,20,35,25],[36,20,36,25],[37,20,37,25],[38,20,38,25],[31,26,31,28]]}
[{"$f":"IF(入力欄!B4>3,入力欄!B3,入力欄!B3-1)","v":2022},null,null,null,"年度",null,null,{"$f":"入力欄!A1","v":"香川県U-15バスケットボールリーグ"},null,null,null,null,null,null,null,null,null,null,null,null,null,null,null,null,"参加申込"]
[null,null,null,null,null,null,null,null,null,null,null,null,null,null,"地区",null,null,"性別",null,null,"チームＩＤ"]
[null,null,null,null,null,null,null,null,null,null,null,null,null,null,{"$f":"入力欄!B18","v":0},null,null,{"$f":"入力欄!B19","v":0},null,null,{"$f":"IF(入力欄!E7=\"\",入力欄!B11,入力欄!B11&\"，\"&入力欄!E11)","v":0}]
[]
["チーム名",null,null,null,{"$f":"IF(入力欄!E7=\"\",入力欄!B7,入力欄!B7&\"，\"&入力欄!E7)","v":0},null,null,null,null,null,null,null,null,null,null,null,null,"住所",null,null,{"$f":"IF(入力欄!E7=\"\",入力欄!B9,入力欄!B9&\"，\"&入力欄!E9)","v":0}]
[null,null,null,null,null,null,null,null,null,null,null,null,null,null,null,null,null,"電話",null,null,{"$f":"IF(入力欄!E7=\"\",入力欄!B10,入力欄!B10&\"，\"&入力欄!E10)","v":0},null,null,null,null,null,null,null,null,null,"『0』が表示されているところは、入力欄に戻って必ず入力してください。"]
["引率責任者",null,null,null,{"$f":"IF(入力欄!E7=\"\",入力欄!B13,入力欄!B13&\"（\"&入力欄!C13&\"）\")","v":0},null,null,null,null,null,null,null,null,{"$f":"入力欄!B14","v":0}]
["連絡責任者",null,null,null,{"$f":"IF(入力欄!E7=\"\",入力欄!B15,入力欄!B15&\"（\"&入力欄!C15&\"）\")","v":0},null,null,null,null,null,null,null,null,"緊急連絡先",null,null,null,{"$f":"入力欄!B16","v":0}]
["コーチ",null,null,null,{"$f":"IF(入力欄!E7=\"\",入力欄!B21,入力欄!B21&\"（\"&入力欄!C22&\"）\")","v":0},null,null,null,null,null,null,null,null,{"$f":"入力欄!B22","v":0},null,null,null,"資格",null,{"$f":"入力欄!B23","v":0},null,"ＩＤ",null,{"$f":"IF(入力欄!B24=\"\",\"\",入力欄!B24)","v":""}]
["Ａコーチ",null,null,null,{"$f":"IF(入力欄!B26=\"\",\"\",IF(入力欄!E7=\"\",入力欄!B26,入力欄!B26&\"（\"&入力欄!C27&\"）\"))","v":""},null,null,null,null,null,null,null,null,{"$f":"IF(入力欄!B26=\"\",\"\",入力欄!B27)","v":""},null,null,null,"資格",null,{"$f":"IF(入力欄!B26=\"\",\"\",入力欄!B28)","v":""},null,"ＩＤ",null,{"$f":"IF(入力欄!B29=\"\",\"\",入力欄!B29)","v":""}]
["マネージャー",null,null,null,{"$f":"IF(入力欄!E7=\"\",入力欄!B31,入力欄!B31&\"（\"&入力欄!C32&\"）\")","v":0},null,null,null,null,null,null,null,null,{"$f":"IF(入力欄!B31=\"\",\"\",入力欄!B32)","v":""}]
["トレーナー",null,null,null,{"$f":"IF(入力欄!B34=\"\",\"\",入力欄!B34)","v":""},null,null,null,null,null,null,null,null,"資格",null,{"$f":"IF(入力欄!B34=\"\",\"\",入力欄!B35)","v":""}]
[]
[null,null,"選　手　氏　名",null,null,null,null,null,null,null,null,"学年",null,null,"身長",null,null,"ﾕﾆﾌｫｰﾑ",null,null,"ＩＤ",null,null,null,null,null,"備考"]
[1,null,{"$f":"入力欄!B38","v":0},null,null,null,null,null,null,null,null,{"$f":"入力欄!C38","v":0},null,null,{"$f":"入力欄!D38","v":0},null,null,{"$f":"IF(入力欄!E38=\"\",\"\",IF(入力欄!E38=100,\"00\",入力欄!E38))","v":""},null,null,{"$f":"IF(入力欄!F38=100000000,\"申請中\",入力欄!F38)","v":0},null,null,null,null,null,{"$f":"IF(入力欄!$E$7=\"\",\"\",入力欄!K38)","v":""},null,null,null,"ﾕﾆﾌｫｰﾑNo.に『00』を使用する場合は"]
[2,null,{"$f":"入力欄!B39","v":0},null,null,null,null,null,null,null,null,{"$f":"入力欄!C39","v":0},null,null,{"$f":"入力欄!D39","v":0},null,null,{"$f":"IF(入力欄!E39=\"\",\"\",IF(入力欄!E39=100,\"00\",入力欄!E39))","v":""},null,null,{"$f":"IF(入力欄!F39=100000000,\"申請中\",入力欄!F39)","v":0},null,null,null,null,null,{"$f":"IF(入力欄!$E$7=\"\",\"\",入力欄!K39)","v":""},null,null,null,"入力欄のﾕﾆﾌｫｰﾑNo.を『100』と入力してください。"]
[3,null,{"$f":"入力欄!B40","v":0},null,null,null,null,null,null,null,null,{"$f":"入力欄!C40","v":0},null,null,{"$f":"入力欄!D40","v":0},null,null,{"$f":"IF(入力欄!E40=\"\",\"\",IF(入力欄!E40=100,\"00\",入力欄!E40))","v":""},null,null,{"$f":"IF(入力欄!F40=100000000,\"申請中\",入力欄!F40)","v":0},null,null,null,null,null,{"$f":"IF(入力欄!$E$7=\"\",\"\",入力欄!K40)","v":""},null,null,null,"なお、『0』と『00』は同時に使用できません。"]
[4,null,{"$f":"入力欄!B41","v":0},null,null,null,null,null,null,null,null,{"$f":"入力欄!C41","v":0},null,null,{"$f":"入力欄!D41","v":0},null,null,{"$f":"IF(入力欄!E41=\"\",\"\",IF(入力欄!E41=100,\"00\",入力欄!E41))","v":""},null,null,{"$f":"IF(入力欄!F41=100000000,\"申請中\",入力欄!F41)","v":0},null,null,null,null,null,{"$f":"IF(入力欄!$E$7=\"\",\"\",入力欄!K41)","v":""}]
[5,null,{"$f":"入力欄!B42","v":0},null,null,null,null,null,null,null,null,{"$f":"入力欄!C42","v":0},null,null,{"$f":"入力欄!D42","v":0},null,null,{"$f":"IF(入力欄!E42=\"\",\"\",IF(入力欄!E42=100,\"00\",入力欄!E42))","v":""},null,null,{"$f":"IF(入力欄!F42=100000000,\"申請中\",入力欄!F42)","v":0},null,null,null,null,null,{"$f":"IF(入力欄!$E$7=\"\",\"\",入力欄!K42)","v":""}]
[6,null,{"$f":"IF(入力欄!B43=\"\",\"*\",入力欄!B43)","v":"*"},null,null,null,null,null,null,null,null,{"$f":"IF(入力欄!C43=\"\",\"\",入力欄!C43)","v":""},null,null,{"$f":"IF(入力欄!D43=\"\",\"\",入力欄!D43)","v":""},null,null,{"$f":"IF(入力欄!E43=\"\",\"\",IF(入力欄!E43=100,\"00\",入力欄!E43))","v":""},null,null,{"$f":"IF(入力欄!F43=\"\",\"\",IF(入力欄!F43=100000000,\"申請中\",入力欄!F43))","v":""},null,null,null,null,null,{"$f":"IF(入力欄!$E$7=\"\",\"\",IF(入力欄!B43=\"\",\"\",入力欄!K43))","v":""}]
[7,null,{"$f":"IF(入力欄!B44=\"\",\"*\",入力欄!B44)","v":"*"},null,null,null,null,null,null,null,null,{"$f":"IF(入力欄!C44=\"\",\"\",入力欄!C44)","v":""},null,null,{"$f":"IF(入力欄!D44=\"\",\"\",入力欄!D44)","v":""},null,null,{"$f":"IF(入力欄!E44=\"\",\"\",IF(入力欄!E44=100,\"00\",入力欄!E44))","v":""},null,null,{"$f":"IF(入力欄!F44=\"\",\"\",IF(入力欄!F44=100000000,\"申請中\",入力欄!F44))","v":""},null,null,null,null,null,{"$f":"IF(入力欄!$E$7=\"\",\"\",IF(入力欄!B44=\"\",\"\",入力欄!K44))","v":""}]
[8,null,{"$f":"IF(入力欄!B45=\"\",\"*\",入力欄!B45)","v":"*"},null,null,null,null,null,null,null,null,{"$f":"IF(入力欄!C45=\"\",\"\",入力欄!C45)","v":""},null,null,{"$f":"IF(入力欄!D45=\"\",\"\",入力欄!D45)","v":""},null,null,{"$f":"IF(入力欄!E45=\"\",\"\",IF(入力欄!E45=100,\"00\",入力欄!E45))","v":""},null,null,{"$f":"IF(入力欄!F45=\"\",\"\",IF(入力欄!F45=100000000,\"申請中\",入力欄!F45))","v":""},null,null,null,null,null,{"$f":"IF(入力欄!$E$7=\"\",\"\",IF(入力欄!B45=\"\",\"\",入力欄!K45))","v":""}]
[9,null,{"$f":"IF(入力欄!B46=\"\",\"*\",入力欄!B46)","v":"*"},null,null,null,null,null,null,null,null,{"$f":"IF(入力欄!C46=\"\",\"\",入力欄!C46)","v":""},null,null,{"$f":"IF(入力欄!D46=\"\",\"\",入力欄!D46)","v":""},null,null,{"$f":"IF(入力欄!E46=\"\",\"\",IF(入力欄!E46=100,\"00\",入力欄!E46))","v":""},null,null,{"$f":"IF(入力欄!F46=\"\",\"\",IF(入力欄!F46=100000000,\"申請中\",入力欄!F46))","v":""},null,null,null,null,null,{"$f":"IF(入力欄!$E$7=\"\",\"\",IF(入力欄!B46=\"\",\"\",入力欄!K46))","v":""}]
[10,null,{"$f":"IF(入力欄!B47=\"\",\"*\",入力欄!B47)","v":"*"},null,null,null,null,null,null,null,null,{"$f":"IF(入力欄!C47=\"\",\"\",入力欄!C47)","v":""},null,null,{"$f":"IF(入力欄!D47=\"\",\"\",入力欄!D47)","v":""},null,null,{"$f":"IF(入力欄!E47=\"\",\"\",IF(入力欄!E47=100,\"00\",入力欄!E47))","v":""},null,null,{"$f":"IF(入力欄!F47=\"\",\"\",IF(入力欄!F47=100000000,\"申請中\",入力欄!F47))","v":""},null,null,null,null,null,{"$f":"IF(入力欄!$E$7=\"\",\"\",IF(入力欄!B47=\"\",\"\",入力欄!K47))","v":""}]
[11,null,{"$f":"IF(入力欄!B48=\"\",\"*\",入力欄!B48)","v":"*"},null,null,null,null,null,null,null,null,{"$f":"IF(入力欄!C48=\"\",\"\",入力欄!C48)","v":""},null,null,{"$f":"IF(入力欄!D48=\"\",\"\",入力欄!D48)","v":""},null,null,{"$f":"IF(入力欄!E48=\"\",\"\",IF(入力欄!E48=100,\"00\",入力欄!E48))","v":""},null,null,{"$f":"IF(入力欄!F48=\"\",\"\",IF(入力欄!F48=100000000,\"申請中\",入力欄!F48))","v":""},null,null,null,null,null,{"$f":"IF(入力欄!$E$7=\"\",\"\",IF(入力欄!B48=\"\",\"\",入力欄!K48))","v":""}]
[12,null,{"$f":"IF(入力欄!B49=\"\",\"*\",入力欄!B49)","v":"*"},null,null,null,null,null,null,null,null,{"$f":"IF(入力欄!C49=\"\",\"\",入力欄!C49)","v":""},null,null,{"$f":"IF(入力欄!D49=\"\",\"\",入力欄!D49)","v":""},null,null,{"$f":"IF(入力欄!E49=\"\",\"\",IF(入力欄!E49=100,\"00\",入力欄!E49))","v":""},null,null,{"$f":"IF(入力欄!F49=\"\",\"\",IF(入力欄!F49=100000000,\"申請中\",入力欄!F49))","v":""},null,null,null,null,null,{"$f":"IF(入力欄!$E$7=\"\",\"\",IF(入力欄!B49=\"\",\"\",入力欄!K49))","v":""}]
[13,null,{"$f":"IF(入力欄!B50=\"\",\"*\",入力欄!B50)","v":"*"},null,null,null,null,null,null,null,null,{"$f":"IF(入力欄!C50=\"\",\"\",入力欄!C50)","v":""},null,null,{"$f":"IF(入力欄!D50=\"\",\"\",入力欄!D50)","v":""},null,null,{"$f":"IF(入力欄!E50=\"\",\"\",IF(入力欄!E50=100,\"00\",入力欄!E50))","v":""},null,null,{"$f":"IF(入力欄!F50=\"\",\"\",IF(入力欄!F50=100000000,\"申請中\",入力欄!F50))","v":""},null,null,null,null,null,{"$f":"IF(入力欄!$E$7=\"\",\"\",IF(入力欄!B50=\"\",\"\",入力欄!K50))","v":""}]
[14,null,{"$f":"IF(入力欄!B51=\"\",\"*\",入力欄!B51)","v":"*"},null,null,null,null,null,null,null,null,{"$f":"IF(入力欄!C51=\"\",\"\",入力欄!C51)","v":""},null,null,{"$f":"IF(入力欄!D51=\"\",\"\",入力欄!D51)","v":""},null,null,{"$f":"IF(入力欄!E51=\"\",\"\",IF(入力欄!E51=100,\"00\",入力欄!E51))","v":""},null,null,{"$f":"IF(入力欄!F51=\"\",\"\",IF(入力欄!F51=100000000,\"申請中\",入力欄!F51))","v":""},null,null,null,null,null,{"$f":"IF(入力欄!$E$7=\"\",\"\",IF(入力欄!B51=\"\",\"\",入力欄!K51))","v":""}]
[15,null,{"$f":"IF(入力欄!B52=\"\",\"*\",入力欄!B52)","v":"*"},null,null,null,null,null,null,null,null,{"$f":"IF(入力欄!C52=\"\",\"\",入力欄!C52)","v":""},null,null,{"$f":"IF(入力欄!D52=\"\",\"\",入力欄!D52)","v":""},null,null,{"$f":"IF(入力欄!E52=\"\",\"\",IF(入力欄!E52=100,\"00\",入力欄!E52))","v":""},null,null,{"$f":"IF(入力欄!F52=\"\",\"\",IF(入力欄!F52=100000000,\"申請中\",入力欄!F52))","v":""},null,null,null,null,null,{"$f":"IF(入力欄!$E$7=\"\",\"\",IF(入力欄!B52=\"\",\"\",入力欄!K52))","v":""}]
[16,null,{"$f":"IF(入力欄!B53=\"\",\"*\",入力欄!B53)","v":"*"},null,null,null,null,null,null,null,null,{"$f":"IF(入力欄!C53=\"\",\"\",入力欄!C53)","v":""},null,null,{"$f":"IF(入力欄!D53=\"\",\"\",入力欄!D53)","v":""},null,null,{"$f":"IF(入力欄!E53=\"\",\"\",IF(入力欄!E53=100,\"00\",入力欄!E53))","v":""},null,null,{"$f":"IF(入力欄!F53=\"\",\"\",IF(入力欄!F53=100000000,\"申請中\",入力欄!F53))","v":""},null,null,null,null,null,{"$f":"IF(入力欄!$E$7=\"\",\"\",IF(入力欄!B53=\"\",\"\",入力欄!K53))","v":""}]
[17,null,{"$f":"IF(入力欄!B54=\"\",\"*\",入力欄!B54)","v":"*"},null,null,null,null,null,null,null,null,{"$f":"IF(入力欄!C54=\"\",\"\",入力欄!C54)","v":""},null,null,{"$f":"IF(入力欄!D54=\"\",\"\",入力欄!D54)","v":""},null,null,{"$f":"IF(入力欄!E54=\"\",\"\",IF(入力欄!E54=100,\"00\",入力欄!E54))","v":""},null,null,{"$f":"IF(入力欄!F54=\"\",\"\",IF(入力欄!F54=100000000,\"申請中\",入力欄!F54))","v":""},null,null,null,null,null,{"$f":"IF(入力欄!$E$7=\"\",\"\",IF(入力欄!B54=\"\",\"\",入力欄!K54))","v":""}]
[18,null,{"$f":"IF(入力欄!B55=\"\",\"*\",入力欄!B55)","v":"*"},null,null,null,null,null,null,null,null,{"$f":"IF(入力欄!C55=\"\",\"\",入力欄!C55)","v":""},null,null,{"$f":"IF(入力欄!D55=\"\",\"\",入力欄!D55)","v":""},null,null,{"$f":"IF(入力欄!E55=\"\",\"\",IF(入力欄!E55=100,\"00\",入力欄!E55))","v":""},null,null,{"$f":"IF(入力欄!F55=\"\",\"\",IF(入力欄!F55=100000000,\"申請中\",入力欄!F55))","v":""},null,null,null,null,null,{"$f":"IF(入力欄!$E$7=\"\",\"\",IF(入力欄!B55=\"\",\"\",入力欄!K55))","v":""}]
[19,null,{"$f":"IF(入力欄!B56=\"\",\"*\",入力欄!B56)","v":"*"},null,null,null,null,null,null,null,null,{"$f":"IF(入力欄!C56=\"\",\"\",入力欄!C56)","v":""},null,null,{"$f":"IF(入力欄!D56=\"\",\"\",入力欄!D56)","v":""},null,null,{"$f":"IF(入力欄!E56=\"\",\"\",IF(入力欄!E56=100,\"00\",入力欄!E56))","v":""},null,null,{"$f":"IF(入力欄!F56=\"\",\"\",IF(入力欄!F56=100000000,\"申請中\",入力欄!F56))","v":""},null,null,null,null,null,{"$f":"IF(入力欄!$E$7=\"\",\"\",IF(入力欄!B56=\"\",\"\",入力欄!K56))","v":""}]
[20,null,{"$f":"IF(入力欄!B57=\"\",\"*\",入力欄!B57)","v":"*"},null,null,null,null,null,null,null,null,{"$f":"IF(入力欄!C57=\"\",\"\",入力欄!C57)","v":""},null,null,{"$f":"IF(入力欄!D57=\"\",\"\",入力欄!D57)","v":""},null,null,{"$f":"IF(入力欄!E57=\"\",\"\",IF(入力欄!E57=100,\"00\",入力欄!E57))","v":""},null,null,{"$f":"IF(入力欄!F57=\"\",\"\",IF(入力欄!F57=100000000,\"申請中\",入力欄!F57))","v":""},null,null,null,null,null,{"$f":"IF(入力欄!$E$7=\"\",\"\",IF(入力欄!B57=\"\",\"\",入力欄!K57))","v":""}]
[21,null,{"$f":"IF(入力欄!B58=\"\",\"*\",入力欄!B58)","v":"*"},null,null,null,null,null,null,null,null,{"$f":"IF(入力欄!C58=\"\",\"\",入力欄!C58)","v":""},null,null,{"$f":"IF(入力欄!D58=\"\",\"\",入力欄!D58)","v":""},null,null,{"$f":"IF(入力欄!E58=\"\",\"\",IF(入力欄!E58=100,\"00\",入力欄!E58))","v":""},null,null,{"$f":"IF(入力欄!F58=\"\",\"\",IF(入力欄!F58=100000000,\"申請中\",入力欄!F58))","v":""},null,null,null,null,null,{"$f":"IF(入力欄!$E$7=\"\",\"\",IF(入力欄!B58=\"\",\"\",入力欄!K58))","v":""}]
[22,null,{"$f":"IF(入力欄!B59=\"\",\"*\",入力欄!B59)","v":"*"},null,null,null,null,null,null,null,null,{"$f":"IF(入力欄!C59=\"\",\"\",入力欄!C59)","v":""},null,null,{"$f":"IF(入力欄!D59=\"\",\"\",入力欄!D59)","v":""},null,null,{"$f":"IF(入力欄!E59=\"\",\"\",IF(入力欄!E59=100,\"00\",入力欄!E59))","v":""},null,null,{"$f":"IF(入力欄!F59=\"\",\"\",IF(入力欄!F59=100000000,\"申請中\",入力欄!F59))","v":""},null,null,null,null,null,{"$f":"IF(入力欄!$E$7=\"\",\"\",IF(入力欄!B59=\"\",\"\",入力欄!K59))","v":""}]
[23,null,{"$f":"IF(入力欄!B60=\"\",\"*\",入力欄!B60)","v":"*"},null,null,null,null,null,null,null,null,{"$f":"IF(入力欄!C60=\"\",\"\",入力欄!C60)","v":""},null,null,{"$f":"IF(入力欄!D60=\"\",\"\",入力欄!D60)","v":""},null,null,{"$f":"IF(入力欄!E60=\"\",\"\",IF(入力欄!E60=100,\"00\",入力欄!E60))","v":""},null,null,{"$f":"IF(入力欄!F60=\"\",\"\",IF(入力欄!F60=100000000,\"申請中\",入力欄!F60))","v":""},null,null,null,null,null,{"$f":"IF(入力欄!$E$7=\"\",\"\",IF(入力欄!B60=\"\",\"\",入力欄!K60))","v":""}]
[24,null,{"$f":"IF(入力欄!B61=\"\",\"*\",入力欄!B61)","v":"*"},null,null,null,null,null,null,null,null,{"$f":"IF(入力欄!C61=\"\",\"\",入力欄!C61)","v":""},null,null,{"$f":"IF(入力欄!D61=\"\",\"\",入力欄!D61)","v":""},null,null,{"$f":"IF(入力欄!E61=\"\",\"\",IF(入力欄!E61=100,\"00\",入力欄!E61))","v":""},null,null,{"$f":"IF(入力欄!F61=\"\",\"\",IF(入力欄!F61=100000000,\"申請中\",入力欄!F61))","v":""},null,null,null,null,null,{"$f":"IF(入力欄!$E$7=\"\",\"\",IF(入力欄!B61=\"\",\"\",入力欄!K61))","v":""}]
[25,null,{"$f":"IF(入力欄!B62=\"\",\"*\",入力欄!B62)","v":"*"},null,null,null,null,null,null,null,null,{"$f":"IF(入力欄!C62=\"\",\"\",入力欄!C62)","v":""},null,null,{"$f":"IF(入力欄!D62=\"\",\"\",入力欄!D62)","v":""},null,null,{"$f":"IF(入力欄!E62=\"\",\"\",IF(入力欄!E62=100,\"00\",入力欄!E62))","v":""},null,null,{"$f":"IF(入力欄!F62=\"\",\"\",IF(入力欄!F62=100000000,\"申請中\",入力欄!F62))","v":""},null,null,null,null,null,{"$f":"IF(入力欄!$E$7=\"\",\"\",IF(入力欄!B62=\"\",\"\",入力欄!K62))","v":""}]
[]
[{"$f":"IF(入力欄!E17=\"選択必須\",AE41,IF(入力欄!E17=\"○\",AE44,AE42))","v":"　上記の選手は本校在学生徒(本チーム在籍)で標記大会に参加することを承認します。\n　また，上記の者の個人情報の取り扱いについては，(一社)香川県バスケットボール協会が認めた範囲への公開・提供について承諾します。"},null,null,null,null,null,null,null,null,null,null,null,null,null,null,null,null,null,null,null,null,null,null,null,null,null,null,null,null,null,"入力項目に不備があります。\n　入力欄の個人情報の確認欄(セルE17)の　○ か × を選んでください。"]
[null,null,null,null,null,null,null,null,null,null,null,null,null,null,null,null,null,null,null,null,null,null,null,null,null,null,null,null,null,null,{"$f":"\"　上記の選手は本校在学生徒(本チーム在籍)で標記大会に参加することを承認します。\n　また，上記の者の個人情報の取り扱いについては，\"&入力欄!C1&\"が認めた範囲への公開・提供について承諾します。\"","v":"　上記の選手は本校在学生徒(本チーム在籍)で標記大会に参加することを承認します。\n　また，上記の者の個人情報の取り扱いについては，(一社)香川県バスケットボール協会が認めた範囲への公開・提供について承諾します。"}]
[null,null,null,null,null,null,null,null,null,null,null,null,null,null,null,null,null,{"$f":"入力欄!B3","v":2022},null,null,"年",{"$f":"入力欄!B4","v":7},"月",{"$f":"入力欄!B5","v":26},"日"]
[{"$f":"入力欄!C1&\"長 殿\"","v":"(一社)香川県バスケットボール協会長 殿"},null,null,null,null,null,null,null,null,null,null,null,null,null,null,null,null,null,null,null,null,null,null,null,null,null,null,null,null,null,{"$f":"\"　上記の選手は本校在学生徒(本チーム在籍)で標記大会に参加することを承認します。\n　また，別紙で提出した者以外の個人情報の取り扱いについては，\"&入力欄!C1&\"が認めた範囲への公開・提供について承諾します。\"","v":"　上記の選手は本校在学生徒(本チーム在籍)で標記大会に参加することを承認します。\n　また，別紙で提出した者以外の個人情報の取り扱いについては，(一社)香川県バスケットボール協会が認めた範囲への公開・提供について承諾します。"}]
[]
[null,null,null,{"$f":"IF(入力欄!E7=\"\",\"\",入力欄!E7)","v":""},null,null,null,null,null,null,null,null,null,null,null,null,{"$f":"入力欄!B7","v":0}]
[null,null,null,{"$f":"IF(入力欄!E7=\"\",\"\",入力欄!E12)","v":""},null,null,null,null,null,null,null,null,null,{"$f":"IF(入力欄!E7=\"\",\"\",\"印\")","v":""},null,null,{"$f":"入力欄!B12","v":0},null,null,null,null,null,null,null,null,null,"印"]

{"sheet":"大会参加確認書","index":2,"n_rows":33,"n_cols":12,"rows_kept":33,"cut":false,"hidden":false,"merged":[[11,2,11,8],[12,1,13,9],[14,2,14,8],[31,1,31,9],[2,1,2,9],[3,2,3,8],[4,2,4,8],[5,1,5,9],[6,1,7,9],[32,2,32,8],[33,1,34,9],[8,2,8,5],[22,1,22,9],[23,2,24,8],[25,1,25,9],[26,2,26,8],[28,3,28,4],[29,2,30,8],[15,1,15,9],[16,2,17,8],[18,1,18,9],[19,2,19,8],[20,1,20,9],[21,2,21,7],[9,1,10,9]]}
[]
[]
[]
[null,null,"大会参加確認書",null,null,null,null,null,null,null,null,"各学校で必要であれば使用してください。"]
[]
[null,{"$f":"参加申込!A1&\"年度　\"&入力欄!A1","v":"2022年度　香川県U-15バスケットボールリーグ"}]
[]
[]
[null,null,{"$f":"入力欄!B7","v":0},null,null,null,"校長　殿"]
[]
[]
[null,null,"学年【　　　】年　　生徒氏名【　　　　　　　　　　　】"]
[]
[]
[]
[]
[null,null,"私は、表記の大会に　　（　参加します　　・　　参加しません　）"]
[]
[]
[null,null,"※　どちらかに○をしてください。"]
[]
[]
[]
[null,null,"参加する際は、新型コロナウイルス感染拡大防止のために、検温やマスク着用、手洗い等に努めて大会に参加いたします。"]
[]
[]
[null,null,"令和４年　　　月　　　日"]
[]
[null,null,"【","保護者承諾",null,"】"]
[null,null,"　健康状態は良好で参加に問題ありません。また、大会の開催要項、ガイドラインに従い同大会に参加することを同意します。"]
[]
[]
[null,null,"保護者氏名【　　　　　　　　印　】"]

{"sheet":"当日一覧","index":3,"n_rows":37,"n_cols":10,"rows_kept":37,"cut":false,"hidden":false,"merged":[[2,0,2,1],[36,0,36,7],[1,0,1,7],[6,0,7,0],[6,1,7,1],[6,2,7,2],[6,3,6,7]]}
[null,null,null,null,null,null,null,"令和　３　年　　　月　　　日"]
["チーム同行者体調記録表"]
[{"$f":"入力欄!B7","v":0},null,{"$f":"入力欄!B19","v":0},null,"記載者氏名（　　　　　　　　　　　　　　）"]
[null,null,null,null,"緊急連絡先（　　　　　　　　　　　　　　）"]
["　①平熱を超える発熱（概ね３７．５度以上）",null,null,"　②咳、のどの痛みなどの風邪の症状"]
["　③だるさ（倦怠感）、息苦しさ（呼吸困難）",null,null,"　④味覚や嗅覚の異常"]
["No.","氏　　　名","本日の\n体温\n（℃）","体調記録表（２週間の間）において、異常がなければ各項目に✓をすること",null,null,null,null,null,"発熱（37.5度以上）、体調不良がある場合は大会参加を控えてください。"]
[null,null,null,"①","②","③","④","備考"]
["引率者",{"$f":"入力欄!B21","v":0},"　　．"]
["引率者",{"$f":"入力欄!B26","v":0},"　　．"]
["引率者",null,"　　．"]
[1,{"$f":"入力欄!B38","v":0},"　　．"]
[2,{"$f":"入力欄!B39","v":0},"　　．"]
[3,{"$f":"入力欄!B40","v":0},"　　．"]
[4,{"$f":"入力欄!B41","v":0},"　　．"]
[5,{"$f":"入力欄!B42","v":0},"　　．"]
[6,{"$f":"入力欄!B43","v":0},"　　．"]
[7,{"$f":"入力欄!B44","v":0},"　　．"]
[8,{"$f":"入力欄!B45","v":0},"　　．"]
[9,{"$f":"入力欄!B46","v":0},"　　．"]
[10,{"$f":"入力欄!B47","v":0},"　　．"]
[11,{"$f":"入力欄!B48","v":0},"　　．"]
[12,{"$f":"入力欄!B49","v":0},"　　．"]
[13,{"$f":"入力欄!B50","v":0},"　　．"]
[14,{"$f":"入力欄!B51","v":0},"　　．"]
[15,{"$f":"入力欄!B52","v":0},"　　．"]
[16,{"$f":"入力欄!B53","v":0},"　　．"]
[17,{"$f":"入力欄!B54","v":0},"　　．"]
[18,{"$f":"入力欄!B55","v":0},"　　．"]
[19,{"$f":"入力欄!B56","v":0},"　　．"]
[20,{"$f":"入力欄!B57","v":0},"　　．"]
[21,{"$f":"入力欄!B58","v":0},"　　．"]
[22,{"$f":"入力欄!B59","v":0},"　　．"]
[23,{"$f":"入力欄!B60","v":0},"　　．"]
[24,{"$f":"入力欄!B61","v":0},"　　．"]
[25,{"$f":"入力欄!B62","v":0},"　　．"]
["大会当日、受付で提出すること(日ごとに提出)　　　　　　　　　※個人の体調記録は学校保管とする(大会終了後3週間)。"]

{"sheet":"体調記録","index":4,"n_rows":21,"n_cols":11,"rows_kept":21,"cut":false,"hidden":false,"merged":[[0,1,0,8],[3,1,3,8],[5,5,5,8],[6,5,6,8],[7,5,7,8],[2,1,2,3],[19,1,20,1],[19,3,20,3],[19,4,20,4],[19,5,20,8],[14,5,14,8],[8,10,8,17],[15,5,15,8],[16,5,16,8],[17,5,17,8],[18,5,18,8],[8,5,8,8],[9,5,9,8],[10,5,10,8],[11,5,11,8],[12,5,12,8],[13,5,13,8]]}
[null,"体　調　記　録　表"]
[]
[null,{"$f":"入力欄!B7","v":0},null,null,{"$f":"入力欄!B19","v":0},"氏名（　　　　　　　　　　　　　）"]
[null,"　　◎自身の体調について、素直に申し出るようにしてください。体調の異変を感じた際は、\n　　　早めの相談や受診をお願いします。"]
[]
[null,"No.","月　　日","曜日","体温","体調について\n該当する項目にチェックを入れる",null,null,null,null,"大会前日の月日をC20のセルにを入力すると2週間前までに月日が入ります。"]
[null,1,{"$f":" C8-1","v":"2022-08-19"},{"$f":"TEXT(C7,\"aaa\")","v":"金"},"℃","□せき、のどなどの痛みなど風邪の症状はない\n□体のだるさ、息苦しさはない\n□味覚や、嗅覚（きゅうかく）の異常はない",null,null,null,null,"会場に入る顧問、外部コーチ、選手、部員全員の体調記録をとっておいてください。"]
[null,2,"2022-08-20",{"$f":"TEXT(C8,\"aaa\")","v":"土"},"℃","□せき、のどなどの痛みなど風邪の症状はない\n□体のだるさ、息苦しさはない\n□味覚や、嗅覚（きゅうかく）の異常はない",null,null,null,null,"発熱、体調不良が続く場合は大会参加を控えてください。"]
[null,3,"2022-08-21","日","℃","□せき、のどなどの痛みなど風邪の症状はない\n□体のだるさ、息苦しさはない\n□味覚や、嗅覚（きゅうかく）の異常はない",null,null,null,null,"大会本部から提出の求めがあった場合に体調記録を提出してください。\n学校保管の期間は大会終了後3週間とします。"]
[null,4,"2022-08-22","月","℃","□せき、のどなどの痛みなど風邪の症状はない\n□体のだるさ、息苦しさはない\n□味覚や、嗅覚（きゅうかく）の異常はない"]
[null,5,"2022-08-23","火","℃","□せき、のどなどの痛みなど風邪の症状はない\n□体のだるさ、息苦しさはない\n□味覚や、嗅覚（きゅうかく）の異常はない"]
[null,6,"2022-08-24","水","℃","□せき、のどなどの痛みなど風邪の症状はない\n□体のだるさ、息苦しさはない\n□味覚や、嗅覚（きゅうかく）の異常はない"]
[null,7,"2022-08-25","木","℃","□せき、のどなどの痛みなど風邪の症状はない\n□体のだるさ、息苦しさはない\n□味覚や、嗅覚（きゅうかく）の異常はない"]
[null,8,"2022-08-26","金","℃","□せき、のどなどの痛みなど風邪の症状はない\n□体のだるさ、息苦しさはない\n□味覚や、嗅覚（きゅうかく）の異常はない"]
[null,9,"2022-08-27","土","℃","□せき、のどなどの痛みなど風邪の症状はない\n□体のだるさ、息苦しさはない\n□味覚や、嗅覚（きゅうかく）の異常はない"]
[null,10,"2022-08-28","日","℃","□せき、のどなどの痛みなど風邪の症状はない\n□体のだるさ、息苦しさはない\n□味覚や、嗅覚（きゅうかく）の異常はない"]
[null,11,"2022-08-29","月","℃","□せき、のどなどの痛みなど風邪の症状はない\n□体のだるさ、息苦しさはない\n□味覚や、嗅覚（きゅうかく）の異常はない"]
[null,12,"2022-08-30","火","℃","□せき、のどなどの痛みなど風邪の症状はない\n□体のだるさ、息苦しさはない\n□味覚や、嗅覚（きゅうかく）の異常はない"]
[null,13,{"$f":" C20-1","v":"2022-08-31"},"水","℃","□せき、のどなどの痛みなど風邪の症状はない\n□体のだるさ、息苦しさはない\n□味覚や、嗅覚（きゅうかく）の異常はない"]
[null,14,"2022-09-01",{"$f":"TEXT(C20,\"aaa\")","v":"木"},"℃","□せき、のどなどの痛みなど風邪の症状はない\n□体のだるさ、息苦しさはない\n□味覚や、嗅覚（きゅうかく）の異常はない"]
[null,null,"（大会前日）"]

{"sheet":"メンバー票a","index":5,"n_rows":75,"n_cols":80,"rows_kept":75,"cut":false,"hidden":false,"merged":[[7,33,7,34],[6,63,6,64],[6,61,6,62],[6,59,6,60],[6,57,6,58],[6,55,6,56],[6,53,6,54],[5,68,7,72],[4,33,5,34],[4,55,4,64],[7,63,7,64],[7,61,7,62],[7,59,7,60],[7,57,7,58],[7,55,7,56],[7,53,7,54],[3,33,3,64],[1,38,2,61],[6,33,6,34],[5,63,5,64],[5,61,5,62],[5,59,5,60],[5,57,5,58],[5,55,5,56],[4,53,5,54],[4,51,5,52],[4,38,5,50],[4,35,5,37],[6,51,6,52],[6,38,6,50],[8,55,8,56],[8,53,8,54],[8,51,8,52],[8,38,8,50],[8,33,8,34],[9,63,9,64],[9,61,9,62],[9,59,9,60],[9,57,9,58],[9,55,9,56],[9,53,9,54],[9,51,9,52],[9,38,9,50],[11,51,11,52],[11,38,11,50],[7,38,7,50],[11,33,11,34],[10,63,10,64],[10,61,10,62],[10,59,10,60],[10,57,10,58],[10,55,10,56],[10,53,10,54],[10,51,10,52],[11,63,11,64],[11,61,11,62],[11,59,11,60],[11,57,11,58],[11,55,11,56],[11,53,11,54],[10,38,10,50],[10,33,10,34],[9,33,9,34],[8,63,8,64],[8,61,8,62],[8,59,8,60],[8,57,8,58],[12,63,12,64],[12,61,12,62],[12,59,12,60],[12,57,12,58],[12,55,12,56],[12,53,12,54],[12,51,12,52],[12,38,12,50],[12,33,12,34],[13,63,13,64],[13,61,13,62],[13,59,13,60],[13,57,13,58],[13,55,13,56],[13,53,13,54],[13,51,13,52],[13,38,13,50],[13,33,13,34],[15,51,15,52],[15,38,15,50],[15,33,15,34],[14,63,14,64],[14,61,14,62],[14,59,14,60],[14,57,14,58],[14,55,14,56],[14,53,14,54],[14,51,14,52],[15,63,15,64],[15,61,15,62],[15,59,15,60],[15,57,15,58],[15,55,15,56],[15,53,15,54],[14,38,14,50],[14,33,14,34],[16,63,16,64],[16,61,16,62],[16,59,16,60],[16,57,16,58],[16,55,16,56],[16,53,16,54],[16,51,16,52],[16,38,16,50],[16,33,16,34],[17,63,17,64],[17,61,17,62],[17,59,17,60],[17,57,17,58],[17,55,17,56],[17,53,17,54],[17,51,17,52],[17,38,17,50],[17,33,17,34],[18,63,18,64],[18,61,18,62],[18,59,18,60],[18,57,18,58],[18,55,18,56],[18,53,18,54],[18,51,18,52],[18,38,18,50],[18,33,18,34],[19,63,19,64],[19,61,19,62],[19,59,19,60],[19,57,19,58],[19,55,19,56],[19,53,19,54],[19,51,19,52],[19,38,19,50],[19,33,19,34],[21,63,21,64],[21,61,21,62],[21,59,21,60],[21,43,21,58],[21,33,21,39],[20,63,20,64],[20,61,20,62],[20,59,20,60],[20,57,20,58],[20,55,20,56],[20,53,20,54],[20,51,20,52],[20,38,20,50],[20,33,20,34],[26,33,27,34],[26,55,26,64],[25,33,25,64],[23,38,24,61],[22,63,22,64],[22,61,22,62],[22,59,22,60],[22,43,22,58],[22,33,22,39],[27,63,27,64],[27,61,27,62],[27,59,27,60],[27,57,27,58],[27,55,27,56],[26,53,27,54],[26,51,27,52],[26,38,27,50],[26,35,27,37],[29,51,29,52],[29,38,29,50],[29,33,29,34],[28,63,28,64],[28,61,28,62],[28,59,28,60],[28,57,28,58],[28,55,28,56],[28,53,28,54],[28,51,28,52],[29,63,29,64],[29,61,29,62],[29,59,29,60],[29,57,29,58],[29,55,29,56],[29,53,29,54],[28,38,28,50],[28,33,28,34],[30,63,30,64],[30,61,30,62],[30,59,30,60],[30,57,30,58],[30,55,30,56],[30,53,30,54],[30,51,30,52],[30,38,30,50],[30,33,30,34],[31,63,31,64],[31,61,31,62],[31,59,31,60],[31,57,31,58],[31,55,31,56],[31,53,31,54],[31,51,31,52],[31,38,31,50],[31,33,31,34],[33,51,33,52],[33,38,33,50],[33,33,33,34],[32,63,32,64],[32,61,32,62],[32,59,32,60],[32,57,32,58],[32,55,32,56],[32,53,32,54],[32,51,32,52],[33,63,33,64],[33,61,33,62],[33,59,33,60],[33,57,33,58],[33,55,33,56],[33,53,33,54],[32,38,32,50],[32,33,32,34],[34,63,34,64],[34,61,34,62],[34,59,34,60],[34,57,34,58],[34,55,34,56],[34,53,34,54],[34,51,34,52],[34,38,34,50],[34,33,34,34],[35,63,35,64],[35,61,35,62],[35,59,35,60],[35,57,35,58],[35,55,35,56],[35,53,35,54],[35,51,35,52],[35,38,35,50],[35,33,35,34],[37,51,37,52],[37,38,37,50],[37,33,37,34],[36,63,36,64],[36,61,36,62],[36,59,36,60],[36,57,36,58],[36,55,36,56],[36,53,36,54],[36,51,36,52],[37,63,37,64],[37,61,37,62],[37,59,37,60],[37,57,37,58],[37,55,37,56],[37,53,37,54],[36,38,36,50],[36,33,36,34],[38,63,38,64],[38,61,38,62],[38,59,38,60],[38,57,38,58],[38,55,38,56],[38,53,38,54],[38,51,38,52],[38,38,38,50],[38,33,38,34],[39,63,39,64],[39,61,39,62],[39,59,39,60],[39,57,39,58],[39,55,39,56],[39,53,39,54],[39,51,39,52],[39,38,39,50],[39,33,39,34],[40,63,40,64],[40,61,40,62],[40,59,40,60],[40,57,40,58],[40,55,40,56],[40,53,40,54],[40,51,40,52],[40,38,40,50],[40,33,40,34],[41,63,41,64],[41,61,41,62],[41,59,41,60],[41,57,41,58],[41,55,41,56],[41,53,41,54],[41,51,41,52],[41,38,41,50],[41,33,41,34],[42,63,42,64],[42,61,42,62],[42,59,42,60],[42,57,42,58],[42,55,42,56],[42,53,42,54],[42,51,42,52],[42,38,42,50],[42,33,42,34],[44,63,44,64],[44,61,44,62],[44,59,44,60],[44,43,44,58],[44,33,44,39],[43,1,43,7],[43,11,43,26],[43,27,43,28],[43,29,43,30],[43,31,43,32],[44,1,44,7],[44,11,44,26],[44,27,44,28],[44,29,44,30],[44,31,44,32],[43,63,43,64],[43,61,43,62],[43,59,43,60],[43,43,43,58],[43,33,43,39],[42,1,42,2],[42,6,42,18],[42,19,42,20],[42,21,42,22],[42,23,42,24],[42,25,42,26],[42,27,42,28],[42,29,42,30],[42,31,42,32],[41,1,41,2],[41,6,41,18],[41,19,41,20],[41,21,41,22],[41,23,41,24],[41,25,41,26],[41,27,41,28],[41,29,41,30],[41,31,41,32],[40,1,40,2],[40,6,40,18],[40,19,40,20],[40,21,40,22],[40,23,40,24],[40,25,40,26],[40,27,40,28],[40,29,40,30],[40,31,40,32],[38,27,38,28],[38,29,38,30],[38,31,38,32],[39,1,39,2],[39,6,39,18],[39,19,39,20],[39,21,39,22],[39,23,39,24],[39,25,39,26],[39,27,39,28],[38,1,38,2],[38,6,38,18],[38,19,38,20],[38,21,38,22],[38,23,38,24],[38,25,38,26],[39,29,39,30],[39,31,39,32],[37,1,37,2],[37,6,37,18],[37,19,37,20],[37,21,37,22],[37,23,37,24],[37,25,37,26],[37,27,37,28],[37,29,37,30],[37,31,37,32],[36,1,36,2],[36,6,36,18],[36,19,36,20],[36,21,36,22],[36,23,36,24],[36,25,36,26],[36,27,36,28],[36,29,36,30],[36,31,36,32],[34,27,34,28],[34,29,34,30],[34,31,34,32],[35,1,35,2],[35,6,35,18],[35,19,35,20],[35,21,35,22],[35,23,35,24],[35,25,35,26],[35,27,35,28],[34,1,34,2],[34,6,34,18],[34,19,34,20],[34,21,34,22],[34,23,34,24],[34,25,34,26],[35,29,35,30],[35,31,35,32],[33,1,33,2],[33,6,33,18],[33,19,33,20],[33,21,33,22],[33,23,33,24],[33,25,33,26],[33,27,33,28],[33,29,33,30],[33,31,33,32],[32,1,32,2],[32,6,32,18],[32,19,32,20],[32,21,32,22],[32,23,32,24],[32,25,32,26],[32,27,32,28],[32,29,32,30],[32,31,32,32],[30,27,30,28],[30,29,30,30],[30,31,30,32],[31,1,31,2],[31,6,31,18],[31,19,31,20],[31,21,31,22],[31,23,31,24],[31,25,31,26],[31,27,31,28],[30,1,30,2],[30,6,30,18],[30,19,30,20],[30,21,30,22],[30,23,30,24],[30,25,30,26],[31,29,31,30],[31,31,31,32],[29,1,29,2],[29,6,29,18],[29,19,29,20],[29,21,29,22],[29,23,29,24],[29,25,29,26],[29,27,29,28],[29,29,29,30],[29,31,29,32],[28,1,28,2],[28,6,28,18],[28,19,28,20],[28,21,28,22],[28,23,28,24],[28,25,28,26],[28,27,28,28],[28,29,28,30],[28,31,28,32],[26,1,27,2],[26,3,27,5],[26,6,27,18],[26,19,27,20],[26,21,27,22],[26,23,26,32],[27,23,27,24],[27,25,27,26],[27,27,27,28],[27,29,27,30],[27,31,27,32],[22,31,22,32],[23,6,24,29],[20,31,20,32],[21,1,21,7],[21,11,21,26],[21,27,21,28],[21,29,21,30],[21,31,21,32],[25,1,25,32],[20,1,20,2],[20,6,20,18],[20,19,20,20],[20,21,20,22],[20,23,20,24],[20,25,20,26],[20,27,20,28],[20,29,20,30],[22,1,22,7],[22,11,22,26],[22,27,22,28],[22,29,22,30],[18,27,18,28],[18,29,18,30],[18,31,18,32],[19,1,19,2],[19,6,19,18],[19,19,19,20],[19,21,19,22],[19,23,19,24],[19,25,19,26],[19,27,19,28],[18,1,18,2],[18,6,18,18],[18,19,18,20],[18,21,18,22],[18,23,18,24],[18,25,18,26],[19,29,19,30],[19,31,19,32],[17,1,17,2],[17,6,17,18],[17,19,17,20],[17,21,17,22],[17,23,17,24],[17,25,17,26],[17,27,17,28],[17,29,17,30],[17,31,17,32],[16,1,16,2],[16,6,16,18],[16,19,16,20],[16,21,16,22],[16,23,16,24],[16,25,16,26],[16,27,16,28],[16,29,16,30],[16,31,16,32],[14,27,14,28],[14,29,14,30],[14,31,14,32],[15,1,15,2],[15,6,15,18],[15,19,15,20],[15,21,15,22],[15,23,15,24],[15,25,15,26],[15,27,15,28],[14,1,14,2],[14,6,14,18],[14,19,14,20],[14,21,14,22],[14,23,14,24],[14,25,14,26],[15,29,15,30],[15,31,15,32],[13,1,13,2],[13,6,13,18],[13,19,13,20],[13,21,13,22],[13,23,13,24],[13,25,13,26],[13,27,13,28],[13,29,13,30],[13,31,13,32],[12,1,12,2],[12,6,12,18],[12,19,12,20],[12,21,12,22],[12,23,12,24],[12,25,12,26],[12,27,12,28],[12,29,12,30],[12,31,12,32],[10,27,10,28],[10,29,10,30],[10,31,10,32],[11,1,11,2],[11,6,11,18],[11,19,11,20],[11,21,11,22],[11,23,11,24],[11,25,11,26],[11,27,11,28],[10,1,10,2],[10,6,10,18],[10,19,10,20],[10,21,10,22],[10,23,10,24],[10,25,10,26],[11,29,11,30],[11,31,11,32],[8,27,8,28],[8,29,8,30],[8,31,8,32],[7,25,7,26],[7,27,7,28],[9,1,9,2],[9,6,9,18],[9,19,9,20],[9,21,9,22],[9,23,9,24],[9,25,9,26],[9,27,9,28],[9,29,9,30],[9,31,9,32],[1,68,3,76],[46,26,55,55],[1,6,2,29],[3,1,3,32],[4,1,5,2],[7,51,7,52],[4,3,5,5],[4,6,5,18],[4,19,5,20],[4,21,5,22],[4,23,4,32],[5,23,5,24],[5,25,5,26],[5,27,5,28],[5,29,5,30],[5,31,5,32],[6,27,6,28],[7,31,7,32],[8,1,8,2],[8,6,8,18],[8,19,8,20],[8,21,8,22],[8,23,8,24],[8,25,8,26],[6,29,6,30],[6,31,6,32],[7,1,7,2],[7,6,7,18],[7,19,7,20],[7,21,7,22],[7,23,7,24],[6,1,6,2],[6,6,6,18],[6,19,6,20],[6,21,6,22],[6,23,6,24],[6,25,6,26],[7,29,7,30]]}
["ａ"]
[null," チーム",null,null,null,null,{"$f":"IF(入力欄!E8=\"\",入力欄!B8&\"　(\"&入力欄!B19&\"）\",入力欄!B8&\"・\"&入力欄!E8&\"　(\"&入力欄!B19&\"）\")","v":"　(）"},null,null,null,null,null,null,null,null,null,null,null,null,null,null,null,null,null,null,null,null,null,null,null,null,null,null," チーム",null,null,null,null,{"$f":"$G$2","v":"　(）"},null,null,null,null,null,null,null,null,null,null,null,null,null,null,null,null,null,null,null,null,null,null,null,null,null,null,null,null,null,"　　メンバー票作成の手順\n① 入力欄に必要事項を入力する\n② メンバー票a～ｄの必要なシートで反映させる。\n③ 選手が15名未満の場合は斜線を入れる。\n④ 印刷する。\n⑤ はさみで4試合分を切り取る。"]
[null," Team ",null,null,null,null,null,null,null,null,null,null,null,null,null,null,null,null,null,null,null,null,null,null,null,null,null,null,null,null,null,null,null," Team "]
[]
[null,"No.",null,"Licence\nno.",null,null,"選手氏名　Players",null,null,null,null,null,null,null,null,null,null,null,null,"No.",null,"Players\nin",null,"ファウル Fouls",null,null,null,null,null,null,null,null,null,"No.",null,"Licence\nno.",null,null,"選手氏名　Players",null,null,null,null,null,null,null,null,null,null,null,null,"No.",null,"Players\nin",null,"ファウル Fouls"]
[null,null,null,null,null,null,null,null,null,null,null,null,null,null,null,null,null,null,null,null,null,null,null,1,null,2,null,3,null,4,null,5,null,null,null,null,null,null,null,null,null,null,null,null,null,null,null,null,null,null,null,null,null,null,null,1,null,2,null,3,null,4,null,5]
[null,1,null,{"$f":"IF($BO49=\"*\",\"\",$BQ49)","v":""},{"$f":"IF($BO49=\"*\",\"\",$BR49)","v":""},{"$f":"IF($BO49=\"*\",\"\",$BS49)","v":""},{"$f":"IF($BO49=\"*\",\"\",$BP49)","v":""},null,null,null,null,null,null,null,null,null,null,null,null,{"$f":"IF($BO$49=\"*\",\"\",IF($BO$49=100,\"00\",$BO$49))","v":0},null,null,null,null,null,null,null,null,null,null,null,null,null,1,null,{"$f":"IF($BO49=\"*\",\"\",$BQ49)","v":""},{"$f":"IF($BO49=\"*\",\"\",$BR49)","v":""},{"$f":"IF($BO49=\"*\",\"\",$BS49)","v":""},{"$f":"IF($BO49=\"*\",\"\",$BP49)","v":""},null,null,null,null,null,null,null,null,null,null,null,null,{"$f":"IF($BO$49=\"*\",\"\",IF($BO$49=100,\"00\",$BO$49))","v":0}]
[null,2,null,{"$f":"IF($BO50=\"*\",\"\",$BQ50)","v":""},{"$f":"IF($BO50=\"*\",\"\",$BR50)","v":""},{"$f":"IF($BO50=\"*\",\"\",$BS50)","v":""},{"$f":"IF($BO50=\"*\",\"\",$BP50)","v":""},null,null,null,null,null,null,null,null,null,null,null,null,{"$f":"IF($BO$50=\"*\",\"\",IF($BO$50=100,\"00\",$BO$50))","v":0},null,null,null,null,null,null,null,null,null,null,null,null,null,2,null,{"$f":"IF($BO50=\"*\",\"\",$BQ50)","v":""},{"$f":"IF($BO50=\"*\",\"\",$BR50)","v":""},{"$f":"IF($BO50=\"*\",\"\",$BS50)","v":""},{"$f":"IF($BO50=\"*\",\"\",$BP50)","v":""},null,null,null,null,null,null,null,null,null,null,null,null,{"$f":"IF($BO$50=\"*\",\"\",IF($BO$50=100,\"00\",$BO$50))","v":0}]
[null,3,null,"","","","",null,null,null,null,null,null,null,null,null,null,null,null,{"$f":"IF($BO$51=\"*\",\"\",IF($BO$51=100,\"00\",$BO$51))","v":0},null,null,null,null,null,null,null,null,null,null,null,null,null,3,null,"","","","",null,null,null,null,null,null,null,null,null,null,null,null,{"$f":"IF($BO$51=\"*\",\"\",IF($BO$51=100,\"00\",$BO$51))","v":0}]
[null,4,null,"","","","",null,null,null,null,null,null,null,null,null,null,null,null,{"$f":"IF($BO$52=\"*\",\"\",IF($BO$52=100,\"00\",$BO$52))","v":0},null,null,null,null,null,null,null,null,null,null,null,null,null,4,null,"","","","",null,null,null,null,null,null,null,null,null,null,null,null,{"$f":"IF($BO$52=\"*\",\"\",IF($BO$52=100,\"00\",$BO$52))","v":0}]
[null,5,null,"","","","",null,null,null,null,null,null,null,null,null,null,null,null,{"$f":"IF($BO$53=\"*\",\"\",IF($BO$53=100,\"00\",$BO$53))","v":0},null,null,null,null,null,null,null,null,null,null,null,null,null,5,null,"","","","",null,null,null,null,null,null,null,null,null,null,null,null,{"$f":"IF($BO$53=\"*\",\"\",IF($BO$53=100,\"00\",$BO$53))","v":0}]
[null,6,null,"","","","",null,null,null,null,null,null,null,null,null,null,null,null,{"$f":"IF($BO$54=\"*\",\"\",IF($BO$54=100,\"00\",$BO$54))","v":0},null,null,null,null,null,null,null,null,null,null,null,null,null,6,null,"","","","",null,null,null,null,null,null,null,null,null,null,null,null,{"$f":"IF($BO$54=\"*\",\"\",IF($BO$54=100,\"00\",$BO$54))","v":0}]
[null,7,null,"","","","",null,null,null,null,null,null,null,null,null,null,null,null,{"$f":"IF($BO$55=\"*\",\"\",IF($BO$55=100,\"00\",$BO$55))","v":0},null,null,null,null,null,null,null,null,null,null,null,null,null,7,null,"","","","",null,null,null,null,null,null,null,null,null,null,null,null,{"$f":"IF($BO$55=\"*\",\"\",IF($BO$55=100,\"00\",$BO$55))","v":0}]
[null,8,null,"","","","",null,null,null,null,null,null,null,null,null,null,null,null,{"$f":"IF($BO$56=\"*\",\"\",IF($BO$56=100,\"00\",$BO$56))","v":0},null,null,null,null,null,null,null,null,null,null,null,null,null,8,null,"","","","",null,null,null,null,null,null,null,null,null,null,null,null,{"$f":"IF($BO$56=\"*\",\"\",IF($BO$56=100,\"00\",$BO$56))","v":0}]
[null,9,null,"","","","",null,null,null,null,null,null,null,null,null,null,null,null,{"$f":"IF($BO$57=\"*\",\"\",IF($BO$57=100,\"00\",$BO$57))","v":0},null,null,null,null,null,null,null,null,null,null,null,null,null,9,null,"","","","",null,null,null,null,null,null,null,null,null,null,null,null,{"$f":"IF($BO$57=\"*\",\"\",IF($BO$57=100,\"00\",$BO$57))","v":0}]
[null,10,null,"","","","",null,null,null,null,null,null,null,null,null,null,null,null,{"$f":"IF($BO$58=\"*\",\"\",IF($BO$58=100,\"00\",$BO$58))","v":0},null,null,null,null,null,null,null,null,null,null,null,null,null,10,null,"","","","",null,null,null,null,null,null,null,null,null,null,null,null,{"$f":"IF($BO$58=\"*\",\"\",IF($BO$58=100,\"00\",$BO$58))","v":0}]
[null,11,null,"","","","",null,null,null,null,null,null,null,null,null,null,null,null,{"$f":"IF($BO$59=\"*\",\"\",IF($BO$59=100,\"00\",$BO$59))","v":0},null,null,null,null,null,null,null,null,null,null,null,null,null,11,null,"","","","",null,null,null,null,null,null,null,null,null,null,null,null,{"$f":"IF($BO$59=\"*\",\"\",IF($BO$59=100,\"00\",$BO$59))","v":0}]
[null,12,null,"","","","",null,null,null,null,null,null,null,null,null,null,null,null,{"$f":"IF($BO$60=\"*\",\"\",IF($BO$60=100,\"00\",$BO$60))","v":0},null,null,null,null,null,null,null,null,null,null,null,null,null,12,null,"","","","",null,null,null,null,null,null,null,null,null,null,null,null,{"$f":"IF($BO$60=\"*\",\"\",IF($BO$60=100,\"00\",$BO$60))","v":0}]
[null,13,null,"","","","",null,null,null,null,null,null,null,null,null,null,null,null,{"$f":"IF($BO$61=\"*\",\"\",IF($BO$61=100,\"00\",$BO$61))","v":0},null,null,null,null,null,null,null,null,null,null,null,null,null,13,null,"","","","",null,null,null,null,null,null,null,null,null,null,null,null,{"$f":"IF($BO$61=\"*\",\"\",IF($BO$61=100,\"00\",$BO$61))","v":0}]
[null,14,null,"","","","",null,null,null,null,null,null,null,null,null,null,null,null,{"$f":"IF($BO$62=\"*\",\"\",IF($BO$62=100,\"00\",$BO$62))","v":0},null,null,null,null,null,null,null,null,null,null,null,null,null,14,null,"","","","",null,null,null,null,null,null,null,null,null,null,null,null,{"$f":"IF($BO$62=\"*\",\"\",IF($BO$62=100,\"00\",$BO$62))","v":0}]
[null,15,null,"","","","",null,null,null,null,null,null,null,null,null,null,null,null,{"$f":"IF($BO$63=\"*\",\"\",IF($BO$63=100,\"00\",$BO$63))","v":0},null,null,null,null,null,null,null,null,null,null,null,null,null,15,null,"","","","",null,null,null,null,null,null,null,null,null,null,null,null,{"$f":"IF($BO$63=\"*\",\"\",IF($BO$63=100,\"00\",$BO$63))","v":0}]
[null,"コーチ Coach",null,null,null,null,null,null,{"$f":"IF(入力欄!$B23=\"なし\",\"\",$BW74)","v":0},{"$f":"IF(入力欄!$B23=\"なし\",\"\",$BX74)","v":0},{"$f":"IF(入力欄!$B23=\"なし\",\"\",$BY74)","v":"0"},{"$f":"入力欄!B21","v":0},null,null,null,null,null,null,null,null,null,null,null,null,null,null,null,null,null,null,null,null,null,"コーチ Coach",null,null,null,null,null,null,{"$f":"IF(入力欄!$B$23=\"なし\",\"\",$BW$74)","v":0},{"$f":"IF(入力欄!$B$23=\"なし\",\"\",$BX$74)","v":0},{"$f":"IF(入力欄!$B$23=\"なし\",\"\",$BY$74)","v":"0"},{"$f":"$L$22","v":0}]
[null,"Ａ.コーチ A.Coach",null,null,null,null,null,null,{"$f":"IF(入力欄!$B28=\"なし\",\"\",$BW75)","v":0},{"$f":"IF(入力欄!$B28=\"なし\",\"\",$BX75)","v":0},{"$f":"IF(入力欄!$B28=\"なし\",\"\",$BY75)","v":"0"},{"$f":"IF(入力欄!B26=\"\",\"\",入力欄!B26)","v":""},null,null,null,null,null,null,null,null,null,null,null,null,null,null,null,null,null,null,null,null,null,"Ａ.コーチ A.Coach",null,null,null,null,null,null,{"$f":"IF(入力欄!$B$28=\"なし\",\"\",$BW$75)","v":0},{"$f":"IF(入力欄!$B$28=\"なし\",\"\",$BX$75)","v":0},{"$f":"IF(入力欄!$B$28=\"なし\",\"\",$BY$75)","v":"0"},{"$f":"$L$23","v":""}]
[null," チーム",null,null,null,null,{"$f":"$G$2","v":"　(）"},null,null,null,null,null,null,null,null,null,null,null,null,null,null,null,null,null,null,null,null,null,null,null,null,null,null," チーム",null,null,null,null,{"$f":"$G$2","v":"　(）"}]
[null," Team ",null,null,null,null,null,null,null,null,null,null,null,null,null,null,null,null,null,null,null,null,null,null,null,null,null,null,null,null,null,null,null," Team "]
[]
[null,"No.",null,"Licence\nno.",null,null,"選手氏名　Players",null,null,null,null,null,null,null,null,null,null,null,null,"No.",null,"Players\nin",null,"ファウル Fouls",null,null,null,null,null,null,null,null,null,"No.",null,"Licence\nno.",null,null,"選手氏名　Players",null,null,null,null,null,null,null,null,null,null,null,null,"No.",null,"Players\nin",null,"ファウル Fouls"]
[null,null,null,null,null,null,null,null,null,null,null,null,null,null,null,null,null,null,null,null,null,null,null,1,null,2,null,3,null,4,null,5,null,null,null,null,null,null,null,null,null,null,null,null,null,null,null,null,null,null,null,null,null,null,null,1,null,2,null,3,null,4,null,5]
[null,1,null,{"$f":"IF($BO49=\"*\",\"\",$BQ49)","v":""},{"$f":"IF($BO49=\"*\",\"\",$BR49)","v":""},{"$f":"IF($BO49=\"*\",\"\",$BS49)","v":""},{"$f":"IF($BO49=\"*\",\"\",$BP49)","v":""},null,null,null,null,null,null,null,null,null,null,null,null,{"$f":"IF($BO$49=\"*\",\"\",IF($BO$49=100,\"00\",$BO$49))","v":0},null,null,null,null,null,null,null,null,null,null,null,null,null,1,null,{"$f":"IF($BO49=\"*\",\"\",$BQ49)","v":""},{"$f":"IF($BO49=\"*\",\"\",$BR49)","v":""},{"$f":"IF($BO49=\"*\",\"\",$BS49)","v":""},{"$f":"IF($BO49=\"*\",\"\",$BP49)","v":""},null,null,null,null,null,null,null,null,null,null,null,null,{"$f":"IF($BO$49=\"*\",\"\",IF($BO$49=100,\"00\",$BO$49))","v":0}]
[null,2,null,{"$f":"IF($BO50=\"*\",\"\",$BQ50)","v":""},{"$f":"IF($BO50=\"*\",\"\",$BR50)","v":""},{"$f":"IF($BO50=\"*\",\"\",$BS50)","v":""},{"$f":"IF($BO50=\"*\",\"\",$BP50)","v":""},null,null,null,null,null,null,null,null,null,null,null,null,{"$f":"IF($BO$50=\"*\",\"\",IF($BO$50=100,\"00\",$BO$50))","v":0},null,null,null,null,null,null,null,null,null,null,null,null,null,2,null,{"$f":"IF($BO50=\"*\",\"\",$BQ50)","v":""},{"$f":"IF($BO50=\"*\",\"\",$BR50)","v":""},{"$f":"IF($BO50=\"*\",\"\",$BS50)","v":""},"",null,null,null,null,null,null,null,null,null,null,null,null,{"$f":"IF($BO$50=\"*\",\"\",IF($BO$50=100,\"00\",$BO$50))","v":0}]
[null,3,null,"","","","",null,null,null,null,null,null,null,null,null,null,null,null,{"$f":"IF($BO$51=\"*\",\"\",IF($BO$51=100,\"00\",$BO$51))","v":0},null,null,null,null,null,null,null,null,null,null,null,null,null,3,null,"","","","",null,null,null,null,null,null,null,null,null,null,null,null,{"$f":"IF($BO$51=\"*\",\"\",IF($BO$51=100,\"00\",$BO$51))","v":0}]
[null,4,null,"","","","",null,null,null,null,null,null,null,null,null,null,null,null,{"$f":"IF($BO$52=\"*\",\"\",IF($BO$52=100,\"00\",$BO$52))","v":0},null,null,null,null,null,null,null,null,null,null,null,null,null,4,null,"","","","",null,null,null,null,null,null,null,null,null,null,null,null,{"$f":"IF($BO$52=\"*\",\"\",IF($BO$52=100,\"00\",$BO$52))","v":0}]
[null,5,null,"","","","",null,null,null,null,null,null,null,null,null,null,null,null,{"$f":"IF($BO$53=\"*\",\"\",IF($BO$53=100,\"00\",$BO$53))","v":0},null,null,null,null,null,null,null,null,null,null,null,null,null,5,null,"","","","",null,null,null,null,null,null,null,null,null,null,null,null,{"$f":"IF($BO$53=\"*\",\"\",IF($BO$53=100,\"00\",$BO$53))","v":0}]
[null,6,null,"","","","",null,null,null,null,null,null,null,null,null,null,null,null,{"$f":"IF($BO$54=\"*\",\"\",IF($BO$54=100,\"00\",$BO$54))","v":0},null,null,null,null,null,null,null,null,null,null,null,null,null,6,null,"","","","",null,null,null,null,null,null,null,null,null,null,null,null,{"$f":"IF($BO$54=\"*\",\"\",IF($BO$54=100,\"00\",$BO$54))","v":0}]
[null,7,null,"","","","",null,null,null,null,null,null,null,null,null,null,null,null,{"$f":"IF($BO$55=\"*\",\"\",IF($BO$55=100,\"00\",$BO$55))","v":0},null,null,null,null,null,null,null,null,null,null,null,null,null,7,null,"","","","",null,null,null,null,null,null,null,null,null,null,null,null,{"$f":"IF($BO$55=\"*\",\"\",IF($BO$55=100,\"00\",$BO$55))","v":0}]
[null,8,null,"","","","",null,null,null,null,null,null,null,null,null,null,null,null,{"$f":"IF($BO$56=\"*\",\"\",IF($BO$56=100,\"00\",$BO$56))","v":0},null,null,null,null,null,null,null,null,null,null,null,null,null,8,null,"","","","",null,null,null,null,null,null,null,null,null,null,null,null,{"$f":"IF($BO$56=\"*\",\"\",IF($BO$56=100,\"00\",$BO$56))","v":0}]
[null,9,null,"","","","",null,null,null,null,null,null,null,null,null,null,null,null,{"$f":"IF($BO$57=\"*\",\"\",IF($BO$57=100,\"00\",$BO$57))","v":0},null,null,null,null,null,null,null,null,null,null,null,null,null,9,null,"","","","",null,null,null,null,null,null,null,null,null,null,null,null,{"$f":"IF($BO$57=\"*\",\"\",IF($BO$57=100,\"00\",$BO$57))","v":0}]
[null,10,null,"","","","",null,null,null,null,null,null,null,null,null,null,null,null,{"$f":"IF($BO$58=\"*\",\"\",IF($BO$58=100,\"00\",$BO$58))","v":0},null,null,null,null,null,null,null,null,null,null,null,null,null,10,null,"","","","",null,null,null,null,null,null,null,null,null,null,null,null,{"$f":"IF($BO$58=\"*\",\"\",IF($BO$58=100,\"00\",$BO$58))","v":0}]
[null,11,null,"","","","",null,null,null,null,null,null,null,null,null,null,null,null,{"$f":"IF($BO$59=\"*\",\"\",IF($BO$59=100,\"00\",$BO$59))","v":0},null,null,null,null,null,null,null,null,null,null,null,null,null,11,null,"","","","",null,null,null,null,null,null,null,null,null,null,null,null,{"$f":"IF($BO$59=\"*\",\"\",IF($BO$59=100,\"00\",$BO$59))","v":0}]
[null,12,null,"","","","",null,null,null,null,null,null,null,null,null,null,null,null,{"$f":"IF($BO$60=\"*\",\"\",IF($BO$60=100,\"00\",$BO$60))","v":0},null,null,null,null,null,null,null,null,null,null,null,null,null,12,null,"","","","",null,null,null,null,null,null,null,null,null,null,null,null,{"$f":"IF($BO$60=\"*\",\"\",IF($BO$60=100,\"00\",$BO$60))","v":0}]
[null,13,null,"","","","",null,null,null,null,null,null,null,null,null,null,null,null,{"$f":"IF($BO$61=\"*\",\"\",IF($BO$61=100,\"00\",$BO$61))","v":0},null,null,null,null,null,null,null,null,null,null,null,null,null,13,null,"","","","",null,null,null,null,null,null,null,null,null,null,null,null,{"$f":"IF($BO$61=\"*\",\"\",IF($BO$61=100,\"00\",$BO$61))","v":0}]
[null,14,null,"","","","",null,null,null,null,null,null,null,null,null,null,null,null,{"$f":"IF($BO$62=\"*\",\"\",IF($BO$62=100,\"00\",$BO$62))","v":0},null,null,null,null,null,null,null,null,null,null,null,null,null,14,null,"","","","",null,null,null,null,null,null,null,null,null,null,null,null,{"$f":"IF($BO$62=\"*\",\"\",IF($BO$62=100,\"00\",$BO$62))","v":0}]
[null,15,null,"","","","",null,null,null,null,null,null,null,null,null,null,null,null,{"$f":"IF($BO$63=\"*\",\"\",IF($BO$63=100,\"00\",$BO$63))","v":0},null,null,null,null,null,null,null,null,null,null,null,null,null,15,null,"","","","",null,null,null,null,null,null,null,null,null,null,null,null,{"$f":"IF($BO$63=\"*\",\"\",IF($BO$63=100,\"00\",$BO$63))","v":0}]
[null,"コーチ Coach",null,null,null,null,null,null,{"$f":"IF(入力欄!$B$23=\"なし\",\"\",$BW$74)","v":0},{"$f":"IF(入力欄!$B$23=\"なし\",\"\",$BX$74)","v":0},{"$f":"IF(入力欄!$B$23=\"なし\",\"\",$BY$74)","v":"0"},{"$f":"$L$22","v":0},null,null,null,null,null,null,null,null,null,null,null,null,null,null,null,null,null,null,null,null,null,"コーチ Coach",null,null,null,null,null,null,{"$f":"IF(入力欄!$B$23=\"なし\",\"\",$BW$74)","v":0},{"$f":"IF(入力欄!$B$23=\"なし\",\"\",$BX$74)","v":0},{"$f":"IF(入力欄!$B$23=\"なし\",\"\",$BY$74)","v":"0"},{"$f":"$L$22","v":0}]
[null,"Ａ.コーチ A.Coach",null,null,null,null,null,null,{"$f":"IF(入力欄!$B$28=\"なし\",\"\",$BW$75)","v":0},{"$f":"IF(入力欄!$B$28=\"なし\",\"\",$BX$75)","v":0},{"$f":"IF(入力欄!$B$28=\"なし\",\"\",$BY$75)","v":"0"},{"$f":"$L$23","v":""},null,null,null,null,null,null,null,null,null,null,null,null,null,null,null,null,null,null,null,null,null,"Ａ.コーチ A.Coach",null,null,null,null,null,null,{"$f":"IF(入力欄!$B$28=\"なし\",\"\",$BW$75)","v":0},{"$f":"IF(入力欄!$B$28=\"なし\",\"\",$BX$75)","v":0},{"$f":"IF(入力欄!$B$28=\"なし\",\"\",$BY$75)","v":"0"},{"$f":"$L$23","v":""}]
[]
[null,"メンバー票を4つに切り取ってご使用ください。",null,null,null,null,null,null,null,null,null,null,null,null,null,null,null,null,null,null,null,null,null,null,null,null,"　　メンバー票作成の手順\n① 入力欄に必要事項を入力する\n② メンバー票a～ｄの必要なシートで反映させる。\n③ 選手が15名未満の場合は斜線を入れる。\n④ 印刷する。\n⑤ はさみで貼るためのサイズに切る。\n"]
[]
[null,null,null,null,null,null,null,null,null,null,null,null,null,null,null,null,null,null,null,null,null,null,null,null,null,null,null,null,null,null,null,null,null,null,null,null,null,null,null,null,null,null,null,null,null,null,null,null,null,null,null,null,null,null,null,null,null,null,null,null,null,null,null,null,null,null,null,{"$f":"IF($BO49=\"\",\"\",IF(ISNA(MATCH($BO49,BV$49:BV$74,0)),\"\",INDEX(BU$49:BU$74,MATCH(BO49,BV$49:BV$74,0))))","v":""},{"$f":"IF($BO49=\"\",\"\",IF(ISNA(MATCH($BO49,BV$49:BV$74,0)),\"\",INDEX(BW$49:BW$74,MATCH(BO49,BV$49:BV$74,0))))","v":""},{"$f":"IF($BO49=\"\",\"\",IF(ISNA(MATCH($BO49,BV$49:BV$74,0)),\"\",INDEX(BX$49:BX$74,MATCH(BO49,BV$49:BV$74,0))))","v":""},{"$f":"IF($BO49=\"\",\"\",IF(ISNA(MATCH($BO49,BV$49:BV$74,0)),\"\",INDEX(BY$49:BY$74,MATCH(BO49,BV$49:BV$74,0))))","v":""},null,{"$f":"入力欄!B38","v":0},{"$f":"入力欄!G38","v":0},{"$f":"(CA49-CB49)/100","v":0},{"$f":"(CB49-BY49)/10","v":0},{"$f":"RIGHT(BZ49,1)","v":"0"},{"$f":"入力欄!F38","v":0},{"$f":"RIGHT(BZ49,3)","v":"0"},{"$f":"RIGHT(BZ49,2)","v":"0"}]
[null,null,null,null,null,null,null,null,null,null,null,null,null,null,null,null,null,null,null,null,null,null,null,null,null,null,null,null,null,null,null,null,null,null,null,null,null,null,null,null,null,null,null,null,null,null,null,null,null,null,null,null,null,null,null,null,null,null,null,null,null,null,null,null,null,null,null,"",{"$f":"IF($BO50=\"\",\"\",IF(ISNA(MATCH($BO50,BV$49:BV$74,0)),\"\",INDEX(BW$49:BW$74,MATCH(BO50,BV$49:BV$74,0))))","v":""},{"$f":"IF($BO50=\"\",\"\",IF(ISNA(MATCH($BO50,BV$49:BV$74,0)),\"\",INDEX(BX$49:BX$74,MATCH(BO50,BV$49:BV$74,0))))","v":""},{"$f":"IF($BO50=\"\",\"\",IF(ISNA(MATCH($BO50,BV$49:BV$74,0)),\"\",INDEX(BY$49:BY$74,MATCH(BO50,BV$49:BV$74,0))))","v":""},null,{"$f":"入力欄!B39","v":0},{"$f":"入力欄!G39","v":0},{"$f":"(CA50-CB50)/100","v":0},{"$f":"(CB50-BY50)/10","v":0},"0",{"$f":"入力欄!F39","v":0},{"$f":"RIGHT(BZ50,3)","v":"0"},{"$f":"RIGHT(BZ50,2)","v":"0"}]
[null,null,null,null,null,null,null,null,null,null,null,null,null,null,null,null,null,null,null,null,null,null,null,null,null,null,null,null,null,null,null,null,null,null,null,null,null,null,null,null,null,null,null,null,null,null,null,null,null,null,null,null,null,null,null,null,null,null,null,null,null,null,null,null,null,null,null,"","","","",null,{"$f":"入力欄!B40","v":0},{"$f":"入力欄!G40","v":0},0,0,"0",{"$f":"入力欄!F40","v":0},"0","0"]
[null,null,null,null,null,null,null,null,null,null,null,null,null,null,null,null,null,null,null,null,null,null,null,null,null,null,null,null,null,null,null,null,null,null,null,null,null,null,null,null,null,null,null,null,null,null,null,null,null,null,null,null,null,null,null,null,null,null,null,null,null,null,null,null,null,null,null,"","","","",null,{"$f":"入力欄!B41","v":0},{"$f":"入力欄!G41","v":0},0,0,"0",{"$f":"入力欄!F41","v":0},"0","0"]
[null,null,null,null,null,null,null,null,null,null,null,null,null,null,null,null,null,null,null,null,null,null,null,null,null,null,null,null,null,null,null,null,null,null,null,null,null,null,null,null,null,null,null,null,null,null,null,null,null,null,null,null,null,null,null,null,null,null,null,null,null,null,null,null,null,null,null,"","","","",null,{"$f":"入力欄!B42","v":0},{"$f":"入力欄!G42","v":0},0,0,"0",{"$f":"入力欄!F42","v":0},"0","0"]
[null,null,null,null,null,null,null,null,null,null,null,null,null,null,null,null,null,null,null,null,null,null,null,null,null,null,null,null,null,null,null,null,null,null,null,null,null,null,null,null,null,null,null,null,null,null,null,null,null,null,null,null,null,null,null,null,null,null,null,null,null,null,null,null,null,null,null,"","","","",null,{"$f":"入力欄!B43","v":0},{"$f":"入力欄!G43","v":0},0,0,"0",{"$f":"入力欄!F43","v":0},"0","0"]
[null,null,null,null,null,null,null,null,null,null,null,null,null,null,null,null,null,null,null,null,null,null,null,null,null,null,null,null,null,null,null,null,null,null,null,null,null,null,null,null,null,null,null,null,null,null,null,null,null,null,null,null,null,null,null,null,null,null,null,null,null,null,null,null,null,null,null,"","","","",null,{"$f":"入力欄!B44","v":0},{"$f":"入力欄!G44","v":0},0,0,"0",{"$f":"入力欄!F44","v":0},"0","0"]
[null,null,null,null,null,null,null,null,null,null,null,null,null,null,null,null,null,null,null,null,null,null,null,null,null,null,null,null,null,null,null,null,null,null,null,null,null,null,null,null,null,null,null,null,null,null,null,null,null,null,null,null,null,null,null,null,null,null,null,null,null,null,null,null,null,null,null,"","","","",null,{"$f":"入力欄!B45","v":0},{"$f":"入力欄!G45","v":0},0,0,"0",{"$f":"入力欄!F45","v":0},"0","0"]
[null,null,null,null,null,null,null,null,null,null,null,null,null,null,null,null,null,null,null,null,null,null,null,null,null,null,null,null,null,null,null,null,null,null,null,null,null,null,null,null,null,null,null,null,null,null,null,null,null,null,null,null,null,null,null,null,null,null,null,null,null,null,null,null,null,null,null,"","","","",null,{"$f":"入力欄!B46","v":0},{"$f":"入力欄!G46","v":0},0,0,"0",{"$f":"入力欄!F46","v":0},"0","0"]
[null,null,null,null,null,null,null,null,null,null,null,null,null,null,null,null,null,null,null,null,null,null,null,null,null,null,null,null,null,null,null,null,null,null,null,null,null,null,null,null,null,null,null,null,null,null,null,null,null,null,null,null,null,null,null,null,null,null,null,null,null,null,null,null,null,null,null,"","","","",null,{"$f":"入力欄!B47","v":0},{"$f":"入力欄!G47","v":0},0,0,"0",{"$f":"入力欄!F47","v":0},"0","0"]
[null,null,null,null,null,null,null,null,null,null,null,null,null,null,null,null,null,null,null,null,null,null,null,null,null,null,null,null,null,null,null,null,null,null,null,null,null,null,null,null,null,null,null,null,null,null,null,null,null,null,null,null,null,null,null,null,null,null,null,null,null,null,null,null,null,null,null,"","","","",null,{"$f":"入力欄!B48","v":0},{"$f":"入力欄!G48","v":0},0,0,"0",{"$f":"入力欄!F48","v":0},"0","0"]
[null,null,null,null,null,null,null,null,null,null,null,null,null,null,null,null,null,null,null,null,null,null,null,null,null,null,null,null,null,null,null,null,null,null,null,null,null,null,null,null,null,null,null,null,null,null,null,null,null,null,null,null,null,null,null,null,null,null,null,null,null,null,null,null,null,null,null,"","","","",null,{"$f":"入力欄!B49","v":0},{"$f":"入力欄!G49","v":0},0,0,"0",{"$f":"入力欄!F49","v":0},"0","0"]
[null,null,null,null,null,null,null,null,null,null,null,null,null,null,null,null,null,null,null,null,null,null,null,null,null,null,null,null,null,null,null,null,null,null,null,null,null,null,null,null,null,null,null,null,null,null,null,null,null,null,null,null,null,null,null,null,null,null,null,null,null,null,null,null,null,null,null,"","","","",null,{"$f":"入力欄!B50","v":0},{"$f":"入力欄!G50","v":0},0,0,"0",{"$f":"入力欄!F50","v":0},"0","0"]
[null,null,null,null,null,null,null,null,null,null,null,null,null,null,null,null,null,null,null,null,null,null,null,null,null,null,null,null,null,null,null,null,null,null,null,null,null,null,null,null,null,null,null,null,null,null,null,null,null,null,null,null,null,null,null,null,null,null,null,null,null,null,null,null,null,null,null,"","","","",null,{"$f":"入力欄!B51","v":0},{"$f":"入力欄!G51","v":0},0,0,"0",{"$f":"入力欄!F51","v":0},"0","0"]
[null,null,null,null,null,null,null,null,null,null,null,null,null,null,null,null,null,null,null,null,null,null,null,null,null,null,null,null,null,null,null,null,null,null,null,null,null,null,null,null,null,null,null,null,null,null,null,null,null,null,null,null,null,null,null,null,null,null,null,null,null,null,null,null,null,null,null,"","","","",null,{"$f":"入力欄!B52","v":0},{"$f":"入力欄!G52","v":0},0,0,"0",{"$f":"入力欄!F52","v":0},"0","0"]
[null,null,null,null,null,null,null,null,null,null,null,null,null,null,null,null,null,null,null,null,null,null,null,null,null,null,null,null,null,null,null,null,null,null,null,null,null,null,null,null,null,null,null,null,null,null,null,null,null,null,null,null,null,null,null,null,null,null,null,null,null,null,null,null,null,null,null,null,null,null,null,null,{"$f":"入力欄!B53","v":0},{"$f":"入力欄!G53","v":0},0,0,"0",{"$f":"入力欄!F53","v":0},"0","0"]
[null,null,null,null,null,null,null,null,null,null,null,null,null,null,null,null,null,null,null,null,null,null,null,null,null,null,null,null,null,null,null,null,null,null,null,null,null,null,null,null,null,null,null,null,null,null,null,null,null,null,null,null,null,null,null,null,null,null,null,null,null,null,null,null,null,null,null,null,null,null,null,null,{"$f":"入力欄!B54","v":0},{"$f":"入力欄!G54","v":0},0,0,"0",{"$f":"入力欄!F54","v":0},"0","0"]
[null,null,null,null,null,null,null,null,null,null,null,null,null,null,null,null,null,null,null,null,null,null,null,null,null,null,null,null,null,null,null,null,null,null,null,null,null,null,null,null,null,null,null,null,null,null,null,null,null,null,null,null,null,null,null,null,null,null,null,null,null,null,null,null,null,null,null,null,null,null,null,null,{"$f":"入力欄!B55","v":0},{"$f":"入力欄!G55","v":0},0,0,"0",{"$f":"入力欄!F55","v":0},"0","0"]
[null,null,null,null,null,null,null,null,null,null,null,null,null,null,null,null,null,null,null,null,null,null,null,null,null,null,null,null,null,null,null,null,null,null,null,null,null,null,null,null,null,null,null,null,null,null,null,null,null,null,null,null,null,null,null,null,null,null,null,null,null,null,null,null,null,null,null,null,null,null,null,null,{"$f":"入力欄!B56","v":0},{"$f":"入力欄!G56","v":0},0,0,"0",{"$f":"入力欄!F56","v":0},"0","0"]
[null,null,null,null,null,null,null,null,null,null,null,null,null,null,null,null,null,null,null,null,null,null,null,null,null,null,null,null,null,null,null,null,null,null,null,null,null,null,null,null,null,null,null,null,null,null,null,null,null,null,null,null,null,null,null,null,null,null,null,null,null,null,null,null,null,null,null,null,null,null,null,null,{"$f":"入力欄!B57","v":0},{"$f":"入力欄!G57","v":0},0,0,"0",{"$f":"入力欄!F57","v":0},"0","0"]
[null,null,null,null,null,null,null,null,null,null,null,null,null,null,null,null,null,null,null,null,null,null,null,null,null,null,null,null,null,null,null,null,null,null,null,null,null,null,null,null,null,null,null,null,null,null,null,null,null,null,null,null,null,null,null,null,null,null,null,null,null,null,null,null,null,null,null,null,null,null,null,null,{"$f":"入力欄!B58","v":0},{"$f":"入力欄!G58","v":0},0,0,"0",{"$f":"入力欄!F58","v":0},"0","0"]
[null,null,null,null,null,null,null,null,null,null,null,null,null,null,null,null,null,null,null,null,null,null,null,null,null,null,null,null,null,null,null,null,null,null,null,null,null,null,null,null,null,null,null,null,null,null,null,null,null,null,null,null,null,null,null,null,null,null,null,null,null,null,null,null,null,null,null,null,null,null,null,null,{"$f":"入力欄!B59","v":0},{"$f":"入力欄!G59","v":0},0,0,"0",{"$f":"入力欄!F59","v":0},"0","0"]
[null,null,null,null,null,null,null,null,null,null,null,null,null,null,null,null,null,null,null,null,null,null,null,null,null,null,null,null,null,null,null,null,null,null,null,null,null,null,null,null,null,null,null,null,null,null,null,null,null,null,null,null,null,null,null,null,null,null,null,null,null,null,null,null,null,null,null,null,null,null,null,null,{"$f":"入力欄!B60","v":0},{"$f":"入力欄!G60","v":0},{"$f":"(CA71-CB71)/100","v":0},{"$f":"(CB71-BY71)/10","v":0},{"$f":"RIGHT(BZ71,1)","v":"0"},{"$f":"入力欄!F60","v":0},"0",{"$f":"RIGHT(BZ71,2)","v":"0"}]
[null,null,null,null,null,null,null,null,null,null,null,null,null,null,null,null,null,null,null,null,null,null,null,null,null,null,null,null,null,null,null,null,null,null,null,null,null,null,null,null,null,null,null,null,null,null,null,null,null,null,null,null,null,null,null,null,null,null,null,null,null,null,null,null,null,null,null,null,null,null,null,null,{"$f":"入力欄!B61","v":0},{"$f":"入力欄!G61","v":0},0,0,"0",{"$f":"入力欄!F61","v":0},"0","0"]
[null,null,null,null,null,null,null,null,null,null,null,null,null,null,null,null,null,null,null,null,null,null,null,null,null,null,null,null,null,null,null,null,null,null,null,null,null,null,null,null,null,null,null,null,null,null,null,null,null,null,null,null,null,null,null,null,null,null,null,null,null,null,null,null,null,null,null,null,null,null,null,null,{"$f":"入力欄!B62","v":0},{"$f":"入力欄!G62","v":0},0,0,"0",{"$f":"入力欄!F62","v":0},"0","0"]
[null,null,null,null,null,null,null,null,null,null,null,null,null,null,null,null,null,null,null,null,null,null,null,null,null,null,null,null,null,null,null,null,null,null,null,null,null,null,null,null,null,null,null,null,null,null,null,null,null,null,null,null,null,null,null,null,null,null,null,null,null,null,null,null,null,null,null,null,null,null,null,null,null,null,0,0,"0",{"$f":"入力欄!B24","v":0},"0",{"$f":"RIGHT(BZ74,2)","v":"0"}]
[null,null,null,null,null,null,null,null,null,null,null,null,null,null,null,null,null,null,null,null,null,null,null,null,null,null,null,null,null,null,null,null,null,null,null,null,null,null,null,null,null,null,null,null,null,null,null,null,null,null,null,null,null,null,null,null,null,null,null,null,null,null,null,null,null,null,null,null,null,null,null,null,null,null,{"$f":"(CA75-CB75)/100","v":0},{"$f":"(CB75-BY75)/10","v":0},"0",{"$f":"入力欄!B29","v":0},"0","0"]

{"sheet":"メンバー票b","index":6,"n_rows":75,"n_cols":80,"rows_kept":75,"cut":false,"hidden":false,"merged":[[52,16,52,17],[5,68,7,72],[41,53,41,54],[41,55,41,56],[41,57,41,58],[41,59,41,60],[41,61,41,62],[41,63,41,64],[40,53,40,54],[40,55,40,56],[40,57,40,58],[40,59,40,60],[40,61,40,62],[40,63,40,64],[39,53,39,54],[39,55,39,56],[39,57,39,58],[38,59,38,60],[38,61,38,62],[38,63,38,64],[37,53,37,54],[37,55,37,56],[37,57,37,58],[37,59,37,60],[44,43,44,58],[44,59,44,60],[44,61,44,62],[44,63,44,64],[43,43,43,58],[43,59,43,60],[43,61,43,62],[43,63,43,64],[42,53,42,54],[42,55,42,56],[42,57,42,58],[42,59,42,60],[42,61,42,62],[42,63,42,64],[44,1,44,7],[44,11,44,26],[44,27,44,28],[44,29,44,30],[44,31,44,32],[44,33,44,39],[43,1,43,7],[43,11,43,26],[43,27,43,28],[43,29,43,30],[43,31,43,32],[43,33,43,39],[42,27,42,28],[42,29,42,30],[42,31,42,32],[42,33,42,34],[42,38,42,50],[42,51,42,52],[42,1,42,2],[42,6,42,18],[42,19,42,20],[42,21,42,22],[42,23,42,24],[42,25,42,26],[41,27,41,28],[41,29,41,30],[41,31,41,32],[41,33,41,34],[41,38,41,50],[41,51,41,52],[41,1,41,2],[41,6,41,18],[41,19,41,20],[41,21,41,22],[41,23,41,24],[41,25,41,26],[40,27,40,28],[40,29,40,30],[40,31,40,32],[40,33,40,34],[40,38,40,50],[40,51,40,52],[40,1,40,2],[40,6,40,18],[40,19,40,20],[40,21,40,22],[40,23,40,24],[40,25,40,26],[39,1,39,2],[39,6,39,18],[39,19,39,20],[39,21,39,22],[39,23,39,24],[39,25,39,26],[39,59,39,60],[39,61,39,62],[39,63,39,64],[39,27,39,28],[39,29,39,30],[39,31,39,32],[39,33,39,34],[39,38,39,50],[39,51,39,52],[37,1,37,2],[37,6,37,18],[37,19,37,20],[37,21,37,22],[37,23,37,24],[37,25,37,26],[38,53,38,54],[38,55,38,56],[38,57,38,58],[38,27,38,28],[38,29,38,30],[38,31,38,32],[38,33,38,34],[38,38,38,50],[38,51,38,52],[38,1,38,2],[38,6,38,18],[38,19,38,20],[38,21,38,22],[38,23,38,24],[38,25,38,26],[37,27,37,28],[37,29,37,30],[37,31,37,32],[37,33,37,34],[37,38,37,50],[37,51,37,52],[36,59,36,60],[36,61,36,62],[36,63,36,64],[36,27,36,28],[36,29,36,30],[36,31,36,32],[36,33,36,34],[36,38,36,50],[36,51,36,52],[37,61,37,62],[37,63,37,64],[36,1,36,2],[36,6,36,18],[36,19,36,20],[36,21,36,22],[36,23,36,24],[36,25,36,26],[35,53,35,54],[35,55,35,56],[35,57,35,58],[35,1,35,2],[35,6,35,18],[35,19,35,20],[35,21,35,22],[35,23,35,24],[35,25,35,26],[36,53,36,54],[36,55,36,56],[36,57,36,58],[35,59,35,60],[35,61,35,62],[35,63,35,64],[35,27,35,28],[35,29,35,30],[35,31,35,32],[35,33,35,34],[35,38,35,50],[35,51,35,52],[34,59,34,60],[34,61,34,62],[34,63,34,64],[34,27,34,28],[34,29,34,30],[34,31,34,32],[34,33,34,34],[34,38,34,50],[34,51,34,52],[34,1,34,2],[34,6,34,18],[34,19,34,20],[34,21,34,22],[34,23,34,24],[34,25,34,26],[33,53,33,54],[33,55,33,56],[33,57,33,58],[33,1,33,2],[33,6,33,18],[33,19,33,20],[33,21,33,22],[33,23,33,24],[33,25,33,26],[34,53,34,54],[34,55,34,56],[34,57,34,58],[33,59,33,60],[33,61,33,62],[33,63,33,64],[33,27,33,28],[33,29,33,30],[33,31,33,32],[33,33,33,34],[33,38,33,50],[33,51,33,52],[32,59,32,60],[32,61,32,62],[32,63,32,64],[32,27,32,28],[32,29,32,30],[32,31,32,32],[32,33,32,34],[32,38,32,50],[32,51,32,52],[32,1,32,2],[32,6,32,18],[32,19,32,20],[32,21,32,22],[32,23,32,24],[32,25,32,26],[31,53,31,54],[31,55,31,56],[31,57,31,58],[31,1,31,2],[31,6,31,18],[31,19,31,20],[31,21,31,22],[31,23,31,24],[31,25,31,26],[32,53,32,54],[32,55,32,56],[32,57,32,58],[31,59,31,60],[31,61,31,62],[31,63,31,64],[31,27,31,28],[31,29,31,30],[31,31,31,32],[31,33,31,34],[31,38,31,50],[31,51,31,52],[30,59,30,60],[30,61,30,62],[30,63,30,64],[30,27,30,28],[30,29,30,30],[30,31,30,32],[30,33,30,34],[30,38,30,50],[30,51,30,52],[30,1,30,2],[30,6,30,18],[30,19,30,20],[30,21,30,22],[30,23,30,24],[30,25,30,26],[29,53,29,54],[29,55,29,56],[29,57,29,58],[29,1,29,2],[29,6,29,18],[29,19,29,20],[29,21,29,22],[29,23,29,24],[29,25,29,26],[30,53,30,54],[30,55,30,56],[30,57,30,58],[29,59,29,60],[29,61,29,62],[29,63,29,64],[29,27,29,28],[29,29,29,30],[29,31,29,32],[29,33,29,34],[29,38,29,50],[29,51,29,52],[28,55,28,56],[28,57,28,58],[28,59,28,60],[28,61,28,62],[28,63,28,64],[28,27,28,28],[28,29,28,30],[28,31,28,32],[28,33,28,34],[28,38,28,50],[28,51,28,52],[28,1,28,2],[28,6,28,18],[28,19,28,20],[28,21,28,22],[28,23,28,24],[28,25,28,26],[26,38,27,50],[26,51,27,52],[26,53,27,54],[27,23,27,24],[27,25,27,26],[27,27,27,28],[27,29,27,30],[27,31,27,32],[28,53,28,54],[25,1,25,32],[25,33,25,64],[26,1,27,2],[26,3,27,5],[26,6,27,18],[26,19,27,20],[26,21,27,22],[26,23,26,32],[26,33,27,34],[26,35,27,37],[27,57,27,58],[27,59,27,60],[27,61,27,62],[27,63,27,64],[26,55,26,64],[27,55,27,56],[22,43,22,58],[22,59,22,60],[22,61,22,62],[22,63,22,64],[23,6,24,29],[23,38,24,61],[21,43,21,58],[21,59,21,60],[21,61,21,62],[21,63,21,64],[22,1,22,7],[22,11,22,26],[22,27,22,28],[22,29,22,30],[22,31,22,32],[22,33,22,39],[21,1,21,7],[21,11,21,26],[21,27,21,28],[21,29,21,30],[21,31,21,32],[21,33,21,39],[20,59,20,60],[20,61,20,62],[20,63,20,64],[20,27,20,28],[20,29,20,30],[20,31,20,32],[20,33,20,34],[20,38,20,50],[20,51,20,52],[20,1,20,2],[20,6,20,18],[20,19,20,20],[20,21,20,22],[20,23,20,24],[20,25,20,26],[19,53,19,54],[19,55,19,56],[19,57,19,58],[19,1,19,2],[19,6,19,18],[19,19,19,20],[19,21,19,22],[19,23,19,24],[19,25,19,26],[20,53,20,54],[20,55,20,56],[20,57,20,58],[19,59,19,60],[19,61,19,62],[19,63,19,64],[19,27,19,28],[19,29,19,30],[19,31,19,32],[19,33,19,34],[19,38,19,50],[19,51,19,52],[18,59,18,60],[18,61,18,62],[18,63,18,64],[18,27,18,28],[18,29,18,30],[18,31,18,32],[18,33,18,34],[18,38,18,50],[18,51,18,52],[18,1,18,2],[18,6,18,18],[18,19,18,20],[18,21,18,22],[18,23,18,24],[18,25,18,26],[17,53,17,54],[17,55,17,56],[17,57,17,58],[17,1,17,2],[17,6,17,18],[17,19,17,20],[17,21,17,22],[17,23,17,24],[17,25,17,26],[18,53,18,54],[18,55,18,56],[18,57,18,58],[17,59,17,60],[17,61,17,62],[17,63,17,64],[17,27,17,28],[17,29,17,30],[17,31,17,32],[17,33,17,34],[17,38,17,50],[17,51,17,52],[16,59,16,60],[16,61,16,62],[16,63,16,64],[16,27,16,28],[16,29,16,30],[16,31,16,32],[16,33,16,34],[16,38,16,50],[16,51,16,52],[16,1,16,2],[16,6,16,18],[16,19,16,20],[16,21,16,22],[16,23,16,24],[16,25,16,26],[15,53,15,54],[15,55,15,56],[15,57,15,58],[15,1,15,2],[15,6,15,18],[15,19,15,20],[15,21,15,22],[15,23,15,24],[15,25,15,26],[16,53,16,54],[16,55,16,56],[16,57,16,58],[14,61,14,62],[14,63,14,64],[14,27,14,28],[14,29,14,30],[14,31,14,32],[14,33,14,34],[14,38,14,50],[14,51,14,52],[15,59,15,60],[15,61,15,62],[15,63,15,64],[15,27,15,28],[15,29,15,30],[15,31,15,32],[15,33,15,34],[15,38,15,50],[15,51,15,52],[13,63,13,64],[14,1,14,2],[14,6,14,18],[14,19,14,20],[14,21,14,22],[14,23,14,24],[14,25,14,26],[13,33,13,34],[13,38,13,50],[13,51,13,52],[13,53,13,54],[13,55,13,56],[13,57,13,58],[13,1,13,2],[13,6,13,18],[13,19,13,20],[13,21,13,22],[13,23,13,24],[13,25,13,26],[13,27,13,28],[14,53,14,54],[14,55,14,56],[14,57,14,58],[14,59,14,60],[13,29,13,30],[13,31,13,32],[12,51,12,52],[12,53,12,54],[12,55,12,56],[12,57,12,58],[12,59,12,60],[12,61,12,62],[12,25,12,26],[12,27,12,28],[12,29,12,30],[12,31,12,32],[12,33,12,34],[12,38,12,50],[13,59,13,60],[13,61,13,62],[11,61,11,62],[11,63,11,64],[12,1,12,2],[12,6,12,18],[12,19,12,20],[12,21,12,22],[12,23,12,24],[11,29,11,30],[11,31,11,32],[11,33,11,34],[11,38,11,50],[11,51,11,52],[11,53,11,54],[12,63,12,64],[9,27,9,28],[9,29,9,30],[9,31,9,32],[9,33,9,34],[9,38,9,50],[10,59,10,60],[10,61,10,62],[10,63,10,64],[11,1,11,2],[11,6,11,18],[11,19,11,20],[11,21,11,22],[11,23,11,24],[11,25,11,26],[11,27,11,28],[10,33,10,34],[10,38,10,50],[10,51,10,52],[10,53,10,54],[10,55,10,56],[10,57,10,58],[11,55,11,56],[11,57,11,58],[11,59,11,60],[10,1,10,2],[10,6,10,18],[10,19,10,20],[10,21,10,22],[10,23,10,24],[10,25,10,26],[10,27,10,28],[10,29,10,30],[10,31,10,32],[8,55,8,56],[8,57,8,58],[8,59,8,60],[8,61,8,62],[8,63,8,64],[9,1,9,2],[9,6,9,18],[9,19,9,20],[9,21,9,22],[9,23,9,24],[8,29,8,30],[8,31,8,32],[8,33,8,34],[8,38,8,50],[8,51,8,52],[8,53,8,54],[9,63,9,64],[9,51,9,52],[9,53,9,54],[9,55,9,56],[9,57,9,58],[9,59,9,60],[9,61,9,62],[9,25,9,26],[8,1,8,2],[8,6,8,18],[8,19,8,20],[8,21,8,22],[8,23,8,24],[8,25,8,26],[8,27,8,28],[7,33,7,34],[7,38,7,50],[7,1,7,2],[7,6,7,18],[7,19,7,20],[7,21,7,22],[7,23,7,24],[7,25,7,26],[7,27,7,28],[7,29,7,30],[7,31,7,32],[6,1,6,2],[6,6,6,18],[6,19,6,20],[6,21,6,22],[6,23,6,24],[6,25,6,26],[6,53,6,54],[6,55,6,56],[6,57,6,58],[6,27,6,28],[6,29,6,30],[6,31,6,32],[6,33,6,34],[6,38,6,50],[6,51,6,52],[5,57,5,58],[5,59,5,60],[7,59,7,60],[7,61,7,62],[7,63,7,64],[7,51,7,52],[7,53,7,54],[7,55,7,56],[7,57,7,58],[6,59,6,60],[6,61,6,62],[6,63,6,64],[5,61,5,62],[5,63,5,64],[1,69,3,77],[46,26,54,55],[5,23,5,24],[5,25,5,26],[5,27,5,28],[1,6,2,29],[1,38,2,61],[3,1,3,32],[3,33,3,64],[4,1,5,2],[4,3,5,5],[4,6,5,18],[4,19,5,20],[4,21,5,22],[4,23,4,32],[5,29,5,30],[5,31,5,32],[5,55,5,56],[4,33,5,34],[4,35,5,37],[4,38,5,50],[4,51,5,52],[4,53,5,54],[4,55,4,64]]}
["ｂ"]
[null," チーム",null,null,null,null,{"$f":"IF(入力欄!E8=\"\",入力欄!B8&\"　(\"&入力欄!B19&\"）\",入力欄!B8&\"・\"&入力欄!E8&\"　(\"&入力欄!B19&\"）\")","v":"　(）"},null,null,null,null,null,null,null,null,null,null,null,null,null,null,null,null,null,null,null,null,null,null,null,null,null,null," チーム",null,null,null,null,{"$f":"$G$2","v":"　(）"},null,null,null,null,null,null,null,null,null,null,null,null,null,null,null,null,null,null,null,null,null,null,null,null,null,null,null,null,null,null,"　　メンバー票作成の手順\n① 入力欄に必要事項を入力する\n② メンバー票a～ｄの必要なシートで反映させる。\n③ 選手が15名未満の場合は斜線を入れる。\n④ 印刷する。\n⑤ はさみで4試合分を切り取る。"]
[null," Team ",null,null,null,null,null,null,null,null,null,null,null,null,null,null,null,null,null,null,null,null,null,null,null,null,null,null,null,null,null,null,null," Team "]
[]
[null,"No.",null,"Licence\nno.",null,null,"選手氏名　Players",null,null,null,null,null,null,null,null,null,null,null,null,"No.",null,"Players\nin",null,"ファウル Fouls",null,null,null,null,null,null,null,null,null,"No.",null,"Licence\nno.",null,null,"選手氏名　Players",null,null,null,null,null,null,null,null,null,null,null,null,"No.",null,"Players\nin",null,"ファウル Fouls"]
[null,null,null,null,null,null,null,null,null,null,null,null,null,null,null,null,null,null,null,null,null,null,null,1,null,2,null,3,null,4,null,5,null,null,null,null,null,null,null,null,null,null,null,null,null,null,null,null,null,null,null,null,null,null,null,1,null,2,null,3,null,4,null,5]
[null,1,null,{"$f":"IF($BO49=\"*\",\"\",$BQ49)","v":""},{"$f":"IF($BO49=\"*\",\"\",$BR49)","v":""},{"$f":"IF($BO49=\"*\",\"\",$BS49)","v":""},{"$f":"IF($BO49=\"*\",\"\",$BP49)","v":""},null,null,null,null,null,null,null,null,null,null,null,null,{"$f":"IF($BO$49=\"*\",\"\",IF($BO$49=100,\"00\",$BO$49))","v":0},null,null,null,null,null,null,null,null,null,null,null,null,null,1,null,{"$f":"IF($BO49=\"*\",\"\",$BQ49)","v":""},{"$f":"IF($BO49=\"*\",\"\",$BR49)","v":""},{"$f":"IF($BO49=\"*\",\"\",$BS49)","v":""},{"$f":"IF($BO49=\"*\",\"\",$BP49)","v":""},null,null,null,null,null,null,null,null,null,null,null,null,{"$f":"IF($BO$49=\"*\",\"\",IF($BO$49=100,\"00\",$BO$49))","v":0}]
[null,2,null,{"$f":"IF($BO50=\"*\",\"\",$BQ50)","v":""},{"$f":"IF($BO50=\"*\",\"\",$BR50)","v":""},{"$f":"IF($BO50=\"*\",\"\",$BS50)","v":""},{"$f":"IF($BO50=\"*\",\"\",$BP50)","v":""},null,null,null,null,null,null,null,null,null,null,null,null,{"$f":"IF($BO$50=\"*\",\"\",IF($BO$50=100,\"00\",$BO$50))","v":0},null,null,null,null,null,null,null,null,null,null,null,null,null,2,null,{"$f":"IF($BO50=\"*\",\"\",$BQ50)","v":""},{"$f":"IF($BO50=\"*\",\"\",$BR50)","v":""},{"$f":"IF($BO50=\"*\",\"\",$BS50)","v":""},{"$f":"IF($BO50=\"*\",\"\",$BP50)","v":""},null,null,null,null,null,null,null,null,null,null,null,null,{"$f":"IF($BO$50=\"*\",\"\",IF($BO$50=100,\"00\",$BO$50))","v":0}]
[null,3,null,"","","","",null,null,null,null,null,null,null,null,null,null,null,null,{"$f":"IF($BO$51=\"*\",\"\",IF($BO$51=100,\"00\",$BO$51))","v":0},null,null,null,null,null,null,null,null,null,null,null,null,null,3,null,"","","","",null,null,null,null,null,null,null,null,null,null,null,null,{"$f":"IF($BO$51=\"*\",\"\",IF($BO$51=100,\"00\",$BO$51))","v":0}]
[null,4,null,"","","","",null,null,null,null,null,null,null,null,null,null,null,null,{"$f":"IF($BO$52=\"*\",\"\",IF($BO$52=100,\"00\",$BO$52))","v":0},null,null,null,null,null,null,null,null,null,null,null,null,null,4,null,"","","","",null,null,null,null,null,null,null,null,null,null,null,null,{"$f":"IF($BO$52=\"*\",\"\",IF($BO$52=100,\"00\",$BO$52))","v":0}]
[null,5,null,"","","","",null,null,null,null,null,null,null,null,null,null,null,null,{"$f":"IF($BO$53=\"*\",\"\",IF($BO$53=100,\"00\",$BO$53))","v":0},null,null,null,null,null,null,null,null,null,null,null,null,null,5,null,"","","","",null,null,null,null,null,null,null,null,null,null,null,null,{"$f":"IF($BO$53=\"*\",\"\",IF($BO$53=100,\"00\",$BO$53))","v":0}]
[null,6,null,"","","","",null,null,null,null,null,null,null,null,null,null,null,null,{"$f":"IF($BO$54=\"*\",\"\",IF($BO$54=100,\"00\",$BO$54))","v":0},null,null,null,null,null,null,null,null,null,null,null,null,null,6,null,"","","","",null,null,null,null,null,null,null,null,null,null,null,null,{"$f":"IF($BO$54=\"*\",\"\",IF($BO$54=100,\"00\",$BO$54))","v":0}]
[null,7,null,"","","","",null,null,null,null,null,null,null,null,null,null,null,null,{"$f":"IF($BO$55=\"*\",\"\",IF($BO$55=100,\"00\",$BO$55))","v":0},null,null,null,null,null,null,null,null,null,null,null,null,null,7,null,"","","","",null,null,null,null,null,null,null,null,null,null,null,null,{"$f":"IF($BO$55=\"*\",\"\",IF($BO$55=100,\"00\",$BO$55))","v":0}]
[null,8,null,"","","","",null,null,null,null,null,null,null,null,null,null,null,null,{"$f":"IF($BO$56=\"*\",\"\",IF($BO$56=100,\"00\",$BO$56))","v":0},null,null,null,null,null,null,null,null,null,null,null,null,null,8,null,"","","","",null,null,null,null,null,null,null,null,null,null,null,null,{"$f":"IF($BO$56=\"*\",\"\",IF($BO$56=100,\"00\",$BO$56))","v":0}]
[null,9,null,"","","","",null,null,null,null,null,null,null,null,null,null,null,null,{"$f":"IF($BO$57=\"*\",\"\",IF($BO$57=100,\"00\",$BO$57))","v":0},null,null,null,null,null,null,null,null,null,null,null,null,null,9,null,"","","","",null,null,null,null,null,null,null,null,null,null,null,null,{"$f":"IF($BO$57=\"*\",\"\",IF($BO$57=100,\"00\",$BO$57))","v":0}]
[null,10,null,"","","","",null,null,null,null,null,null,null,null,null,null,null,null,{"$f":"IF($BO$58=\"*\",\"\",IF($BO$58=100,\"00\",$BO$58))","v":0},null,null,null,null,null,null,null,null,null,null,null,null,null,10,null,"","","","",null,null,null,null,null,null,null,null,null,null,null,null,{"$f":"IF($BO$58=\"*\",\"\",IF($BO$58=100,\"00\",$BO$58))","v":0}]
[null,11,null,"","","","",null,null,null,null,null,null,null,null,null,null,null,null,{"$f":"IF($BO$59=\"*\",\"\",IF($BO$59=100,\"00\",$BO$59))","v":0},null,null,null,null,null,null,null,null,null,null,null,null,null,11,null,"","","","",null,null,null,null,null,null,null,null,null,null,null,null,{"$f":"IF($BO$59=\"*\",\"\",IF($BO$59=100,\"00\",$BO$59))","v":0}]
[null,12,null,"","","","",null,null,null,null,null,null,null,null,null,null,null,null,{"$f":"IF($BO$60=\"*\",\"\",IF($BO$60=100,\"00\",$BO$60))","v":0},null,null,null,null,null,null,null,null,null,null,null,null,null,12,null,"","","","",null,null,null,null,null,null,null,null,null,null,null,null,{"$f":"IF($BO$60=\"*\",\"\",IF($BO$60=100,\"00\",$BO$60))","v":0}]
[null,13,null,"","","","",null,null,null,null,null,null,null,null,null,null,null,null,{"$f":"IF($BO$61=\"*\",\"\",IF($BO$61=100,\"00\",$BO$61))","v":0},null,null,null,null,null,null,null,null,null,null,null,null,null,13,null,"","","","",null,null,null,null,null,null,null,null,null,null,null,null,{"$f":"IF($BO$61=\"*\",\"\",IF($BO$61=100,\"00\",$BO$61))","v":0}]
[null,14,null,"","","","",null,null,null,null,null,null,null,null,null,null,null,null,{"$f":"IF($BO$62=\"*\",\"\",IF($BO$62=100,\"00\",$BO$62))","v":0},null,null,null,null,null,null,null,null,null,null,null,null,null,14,null,"","","","",null,null,null,null,null,null,null,null,null,null,null,null,{"$f":"IF($BO$62=\"*\",\"\",IF($BO$62=100,\"00\",$BO$62))","v":0}]
[null,15,null,"","","","",null,null,null,null,null,null,null,null,null,null,null,null,{"$f":"IF($BO$63=\"*\",\"\",IF($BO$63=100,\"00\",$BO$63))","v":0},null,null,null,null,null,null,null,null,null,null,null,null,null,15,null,"","","","",null,null,null,null,null,null,null,null,null,null,null,null,{"$f":"IF($BO$63=\"*\",\"\",IF($BO$63=100,\"00\",$BO$63))","v":0}]
[null,"コーチ Coach",null,null,null,null,null,null,{"$f":"IF(入力欄!$B23=\"なし\",\"\",$BW74)","v":0},{"$f":"IF(入力欄!$B23=\"なし\",\"\",$BX74)","v":0},{"$f":"IF(入力欄!$B23=\"なし\",\"\",$BY74)","v":"0"},{"$f":"入力欄!B21","v":0},null,null,null,null,null,null,null,null,null,null,null,null,null,null,null,null,null,null,null,null,null,"コーチ Coach",null,null,null,null,null,null,{"$f":"IF(入力欄!$B$23=\"なし\",\"\",$BW$74)","v":0},{"$f":"IF(入力欄!$B$23=\"なし\",\"\",$BX$74)","v":0},{"$f":"IF(入力欄!$B$23=\"なし\",\"\",$BY$74)","v":"0"},{"$f":"$L$22","v":0}]
[null,"Ａ.コーチ A.Coach",null,null,null,null,null,null,{"$f":"IF(入力欄!$B28=\"なし\",\"\",$BW75)","v":0},{"$f":"IF(入力欄!$B28=\"なし\",\"\",$BX75)","v":0},{"$f":"IF(入力欄!$B28=\"なし\",\"\",$BY75)","v":"0"},{"$f":"IF(入力欄!B26=\"\",\"\",入力欄!B26)","v":""},null,null,null,null,null,null,null,null,null,null,null,null,null,null,null,null,null,null,null,null,null,"Ａ.コーチ A.Coach",null,null,null,null,null,null,{"$f":"IF(入力欄!$B$28=\"なし\",\"\",$BW$75)","v":0},{"$f":"IF(入力欄!$B$28=\"なし\",\"\",$BX$75)","v":0},{"$f":"IF(入力欄!$B$28=\"なし\",\"\",$BY$75)","v":"0"},{"$f":"$L$23","v":""}]
[null," チーム",null,null,null,null,{"$f":"$G$2","v":"　(）"},null,null,null,null,null,null,null,null,null,null,null,null,null,null,null,null,null,null,null,null,null,null,null,null,null,null," チーム",null,null,null,null,{"$f":"$G$2","v":"　(）"}]
[null," Team ",null,null,null,null,null,null,null,null,null,null,null,null,null,null,null,null,null,null,null,null,null,null,null,null,null,null,null,null,null,null,null," Team "]
[]
[null,"No.",null,"Licence\nno.",null,null,"選手氏名　Players",null,null,null,null,null,null,null,null,null,null,null,null,"No.",null,"Players\nin",null,"ファウル Fouls",null,null,null,null,null,null,null,null,null,"No.",null,"Licence\nno.",null,null,"選手氏名　Players",null,null,null,null,null,null,null,null,null,null,null,null,"No.",null,"Players\nin",null,"ファウル Fouls"]
[null,null,null,null,null,null,null,null,null,null,null,null,null,null,null,null,null,null,null,null,null,null,null,1,null,2,null,3,null,4,null,5,null,null,null,null,null,null,null,null,null,null,null,null,null,null,null,null,null,null,null,null,null,null,null,1,null,2,null,3,null,4,null,5]
[null,1,null,{"$f":"IF($BO49=\"*\",\"\",$BQ49)","v":""},{"$f":"IF($BO49=\"*\",\"\",$BR49)","v":""},{"$f":"IF($BO49=\"*\",\"\",$BS49)","v":""},{"$f":"IF($BO49=\"*\",\"\",$BP49)","v":""},null,null,null,null,null,null,null,null,null,null,null,null,{"$f":"IF($BO$49=\"*\",\"\",IF($BO$49=100,\"00\",$BO$49))","v":0},null,null,null,null,null,null,null,null,null,null,null,null,null,1,null,{"$f":"IF($BO49=\"*\",\"\",$BQ49)","v":""},{"$f":"IF($BO49=\"*\",\"\",$BR49)","v":""},{"$f":"IF($BO49=\"*\",\"\",$BS49)","v":""},{"$f":"IF($BO49=\"*\",\"\",$BP49)","v":""},null,null,null,null,null,null,null,null,null,null,null,null,{"$f":"IF($BO$49=\"*\",\"\",IF($BO$49=100,\"00\",$BO$49))","v":0}]
[null,2,null,{"$f":"IF($BO50=\"*\",\"\",$BQ50)","v":""},{"$f":"IF($BO50=\"*\",\"\",$BR50)","v":""},{"$f":"IF($BO50=\"*\",\"\",$BS50)","v":""},{"$f":"IF($BO50=\"*\",\"\",$BP50)","v":""},null,null,null,null,null,null,null,null,null,null,null,null,{"$f":"IF($BO$50=\"*\",\"\",IF($BO$50=100,\"00\",$BO$50))","v":0},null,null,null,null,null,null,null,null,null,null,null,null,null,2,null,{"$f":"IF($BO50=\"*\",\"\",$BQ50)","v":""},{"$f":"IF($BO50=\"*\",\"\",$BR50)","v":""},{"$f":"IF($BO50=\"*\",\"\",$BS50)","v":""},"",null,null,null,null,null,null,null,null,null,null,null,null,{"$f":"IF($BO$50=\"*\",\"\",IF($BO$50=100,\"00\",$BO$50))","v":0}]
[null,3,null,"","","","",null,null,null,null,null,null,null,null,null,null,null,null,{"$f":"IF($BO$51=\"*\",\"\",IF($BO$51=100,\"00\",$BO$51))","v":0},null,null,null,null,null,null,null,null,null,null,null,null,null,3,null,"","","","",null,null,null,null,null,null,null,null,null,null,null,null,{"$f":"IF($BO$51=\"*\",\"\",IF($BO$51=100,\"00\",$BO$51))","v":0}]
[null,4,null,"","","","",null,null,null,null,null,null,null,null,null,null,null,null,{"$f":"IF($BO$52=\"*\",\"\",IF($BO$52=100,\"00\",$BO$52))","v":0},null,null,null,null,null,null,null,null,null,null,null,null,null,4,null,"","","","",null,null,null,null,null,null,null,null,null,null,null,null,{"$f":"IF($BO$52=\"*\",\"\",IF($BO$52=100,\"00\",$BO$52))","v":0}]
[null,5,null,"","","","",null,null,null,null,null,null,null,null,null,null,null,null,{"$f":"IF($BO$53=\"*\",\"\",IF($BO$53=100,\"00\",$BO$53))","v":0},null,null,null,null,null,null,null,null,null,null,null,null,null,5,null,"","","","",null,null,null,null,null,null,null,null,null,null,null,null,{"$f":"IF($BO$53=\"*\",\"\",IF($BO$53=100,\"00\",$BO$53))","v":0}]
[null,6,null,"","","","",null,null,null,null,null,null,null,null,null,null,null,null,{"$f":"IF($BO$54=\"*\",\"\",IF($BO$54=100,\"00\",$BO$54))","v":0},null,null,null,null,null,null,null,null,null,null,null,null,null,6,null,"","","","",null,null,null,null,null,null,null,null,null,null,null,null,{"$f":"IF($BO$54=\"*\",\"\",IF($BO$54=100,\"00\",$BO$54))","v":0}]
[null,7,null,"","","","",null,null,null,null,null,null,null,null,null,null,null,null,{"$f":"IF($BO$55=\"*\",\"\",IF($BO$55=100,\"00\",$BO$55))","v":0},null,null,null,null,null,null,null,null,null,null,null,null,null,7,null,"","","","",null,null,null,null,null,null,null,null,null,null,null,null,{"$f":"IF($BO$55=\"*\",\"\",IF($BO$55=100,\"00\",$BO$55))","v":0}]
[null,8,null,"","","","",null,null,null,null,null,null,null,null,null,null,null,null,{"$f":"IF($BO$56=\"*\",\"\",IF($BO$56=100,\"00\",$BO$56))","v":0},null,null,null,null,null,null,null,null,null,null,null,null,null,8,null,"","","","",null,null,null,null,null,null,null,null,null,null,null,null,{"$f":"IF($BO$56=\"*\",\"\",IF($BO$56=100,\"00\",$BO$56))","v":0}]
[null,9,null,"","","","",null,null,null,null,null,null,null,null,null,null,null,null,{"$f":"IF($BO$57=\"*\",\"\",IF($BO$57=100,\"00\",$BO$57))","v":0},null,null,null,null,null,null,null,null,null,null,null,null,null,9,null,"","","","",null,null,null,null,null,null,null,null,null,null,null,null,{"$f":"IF($BO$57=\"*\",\"\",IF($BO$57=100,\"00\",$BO$57))","v":0}]
[null,10,null,"","","","",null,null,null,null,null,null,null,null,null,null,null,null,{"$f":"IF($BO$58=\"*\",\"\",IF($BO$58=100,\"00\",$BO$58))","v":0},null,null,null,null,null,null,null,null,null,null,null,null,null,10,null,"","","","",null,null,null,null,null,null,null,null,null,null,null,null,{"$f":"IF($BO$58=\"*\",\"\",IF($BO$58=100,\"00\",$BO$58))","v":0}]
[null,11,null,"","","","",null,null,null,null,null,null,null,null,null,null,null,null,{"$f":"IF($BO$59=\"*\",\"\",IF($BO$59=100,\"00\",$BO$59))","v":0},null,null,null,null,null,null,null,null,null,null,null,null,null,11,null,"","","","",null,null,null,null,null,null,null,null,null,null,null,null,{"$f":"IF($BO$59=\"*\",\"\",IF($BO$59=100,\"00\",$BO$59))","v":0}]
[null,12,null,"","","","",null,null,null,null,null,null,null,null,null,null,null,null,{"$f":"IF($BO$60=\"*\",\"\",IF($BO$60=100,\"00\",$BO$60))","v":0},null,null,null,null,null,null,null,null,null,null,null,null,null,12,null,"","","","",null,null,null,null,null,null,null,null,null,null,null,null,{"$f":"IF($BO$60=\"*\",\"\",IF($BO$60=100,\"00\",$BO$60))","v":0}]
[null,13,null,"","","","",null,null,null,null,null,null,null,null,null,null,null,null,{"$f":"IF($BO$61=\"*\",\"\",IF($BO$61=100,\"00\",$BO$61))","v":0},null,null,null,null,null,null,null,null,null,null,null,null,null,13,null,"","","","",null,null,null,null,null,null,null,null,null,null,null,null,{"$f":"IF($BO$61=\"*\",\"\",IF($BO$61=100,\"00\",$BO$61))","v":0}]
[null,14,null,"","","","",null,null,null,null,null,null,null,null,null,null,null,null,{"$f":"IF($BO$62=\"*\",\"\",IF($BO$62=100,\"00\",$BO$62))","v":0},null,null,null,null,null,null,null,null,null,null,null,null,null,14,null,"","","","",null,null,null,null,null,null,null,null,null,null,null,null,{"$f":"IF($BO$62=\"*\",\"\",IF($BO$62=100,\"00\",$BO$62))","v":0}]
[null,15,null,"","","","",null,null,null,null,null,null,null,null,null,null,null,null,{"$f":"IF($BO$63=\"*\",\"\",IF($BO$63=100,\"00\",$BO$63))","v":0},null,null,null,null,null,null,null,null,null,null,null,null,null,15,null,"","","","",null,null,null,null,null,null,null,null,null,null,null,null,{"$f":"IF($BO$63=\"*\",\"\",IF($BO$63=100,\"00\",$BO$63))","v":0}]
[null,"コーチ Coach",null,null,null,null,null,null,{"$f":"IF(入力欄!$B$23=\"なし\",\"\",$BW$74)","v":0},{"$f":"IF(入力欄!$B$23=\"なし\",\"\",$BX$74)","v":0},{"$f":"IF(入力欄!$B$23=\"なし\",\"\",$BY$74)","v":"0"},{"$f":"$L$22","v":0},null,null,null,null,null,null,null,null,null,null,null,null,null,null,null,null,null,null,null,null,null,"コーチ Coach",null,null,null,null,null,null,{"$f":"IF(入力欄!$B$23=\"なし\",\"\",$BW$74)","v":0},{"$f":"IF(入力欄!$B$23=\"なし\",\"\",$BX$74)","v":0},{"$f":"IF(入力欄!$B$23=\"なし\",\"\",$BY$74)","v":"0"},{"$f":"$L$22","v":0}]
[null,"Ａ.コーチ A.Coach",null,null,null,null,null,null,{"$f":"IF(入力欄!$B$28=\"なし\",\"\",$BW$75)","v":0},{"$f":"IF(入力欄!$B$28=\"なし\",\"\",$BX$75)","v":0},{"$f":"IF(入力欄!$B$28=\"なし\",\"\",$BY$75)","v":"0"},{"$f":"$L$23","v":""},null,null,null,null,null,null,null,null,null,null,null,null,null,null,null,null,null,null,null,null,null,"Ａ.コーチ A.Coach",null,null,null,null,null,null,{"$f":"IF(入力欄!$B$28=\"なし\",\"\",$BW$75)","v":0},{"$f":"IF(入力欄!$B$28=\"なし\",\"\",$BX$75)","v":0},{"$f":"IF(入力欄!$B$28=\"なし\",\"\",$BY$75)","v":"0"},{"$f":"$L$23","v":""}]
[]
[null,"メンバー票を4つに切り取ってご使用ください。",null,null,null,null,null,null,null,null,null,null,null,null,null,null,null,null,null,null,null,null,null,null,null,null,"　　メンバー票作成の手順\n① 入力欄に必要事項を入力する\n② メンバー票a～ｄの必要なシートで反映させる。\n③ 選手が15名未満の場合は斜線を入れる。\n④ 印刷する。\n⑤ はさみで貼るためのサイズに切る。\n"]
[]
[null,null,null,null,null,null,null,null,null,null,null,null,null,null,null,null,null,null,null,null,null,null,null,null,null,null,null,null,null,null,null,null,null,null,null,null,null,null,null,null,null,null,null,null,null,null,null,null,null,null,null,null,null,null,null,null,null,null,null,null,null,null,null,null,null,null,null,{"$f":"IF($BO49=\"\",\"\",IF(ISNA(MATCH($BO49,BV$49:BV$74,0)),\"\",INDEX(BU$49:BU$74,MATCH(BO49,BV$49:BV$74,0))))","v":""},{"$f":"IF($BO49=\"\",\"\",IF(ISNA(MATCH($BO49,BV$49:BV$74,0)),\"\",INDEX(BW$49:BW$74,MATCH(BO49,BV$49:BV$74,0))))","v":""},{"$f":"IF($BO49=\"\",\"\",IF(ISNA(MATCH($BO49,BV$49:BV$74,0)),\"\",INDEX(BX$49:BX$74,MATCH(BO49,BV$49:BV$74,0))))","v":""},{"$f":"IF($BO49=\"\",\"\",IF(ISNA(MATCH($BO49,BV$49:BV$74,0)),\"\",INDEX(BY$49:BY$74,MATCH(BO49,BV$49:BV$74,0))))","v":""},null,{"$f":"入力欄!B38","v":0},{"$f":"入力欄!H38","v":0},{"$f":"(CA49-CB49)/100","v":0},{"$f":"(CB49-BY49)/10","v":0},{"$f":"RIGHT(BZ49,1)","v":"0"},{"$f":"入力欄!F38","v":0},{"$f":"RIGHT(BZ49,3)","v":"0"},{"$f":"RIGHT(BZ49,2)","v":"0"}]
[null,null,null,null,null,null,null,null,null,null,null,null,null,null,null,null,null,null,null,null,null,null,null,null,null,null,null,null,null,null,null,null,null,null,null,null,null,null,null,null,null,null,null,null,null,null,null,null,null,null,null,null,null,null,null,null,null,null,null,null,null,null,null,null,null,null,null,"",{"$f":"IF($BO50=\"\",\"\",IF(ISNA(MATCH($BO50,BV$49:BV$74,0)),\"\",INDEX(BW$49:BW$74,MATCH(BO50,BV$49:BV$74,0))))","v":""},{"$f":"IF($BO50=\"\",\"\",IF(ISNA(MATCH($BO50,BV$49:BV$74,0)),\"\",INDEX(BX$49:BX$74,MATCH(BO50,BV$49:BV$74,0))))","v":""},{"$f":"IF($BO50=\"\",\"\",IF(ISNA(MATCH($BO50,BV$49:BV$74,0)),\"\",INDEX(BY$49:BY$74,MATCH(BO50,BV$49:BV$74,0))))","v":""},null,{"$f":"入力欄!B39","v":0},{"$f":"入力欄!H39","v":0},{"$f":"(CA50-CB50)/100","v":0},{"$f":"(CB50-BY50)/10","v":0},"0",{"$f":"入力欄!F39","v":0},{"$f":"RIGHT(BZ50,3)","v":"0"},{"$f":"RIGHT(BZ50,2)","v":"0"}]
[null,null,null,null,null,null,null,null,null,null,null,null,null,null,null,null,null,null,null,null,null,null,null,null,null,null,null,null,null,null,null,null,null,null,null,null,null,null,null,null,null,null,null,null,null,null,null,null,null,null,null,null,null,null,null,null,null,null,null,null,null,null,null,null,null,null,null,"","","","",null,{"$f":"入力欄!B40","v":0},{"$f":"入力欄!H40","v":0},0,0,"0",{"$f":"入力欄!F40","v":0},"0","0"]
[null,null,null,null,null,null,null,null,null,null,null,null,null,null,null,null,null,null,null,null,null,null,null,null,null,null,null,null,null,null,null,null,null,null,null,null,null,null,null,null,null,null,null,null,null,null,null,null,null,null,null,null,null,null,null,null,null,null,null,null,null,null,null,null,null,null,null,"","","","",null,{"$f":"入力欄!B41","v":0},{"$f":"入力欄!H41","v":0},0,0,"0",{"$f":"入力欄!F41","v":0},"0","0"]
[null,null,null,null,null,null,null,null,null,null,null,null,null,null,null,null,29,null,null,null,null,null,null,null,null,null,null,null,null,null,null,null,null,null,null,null,null,null,null,null,null,null,null,null,null,null,null,null,null,null,null,null,null,null,null,null,null,null,null,null,null,null,null,null,null,null,null,"","","","",null,{"$f":"入力欄!B42","v":0},{"$f":"入力欄!H42","v":0},0,0,"0",{"$f":"入力欄!F42","v":0},"0","0"]
[null,null,null,null,null,null,null,null,null,null,null,null,null,null,null,null,null,null,null,null,null,null,null,null,null,null,null,null,null,null,null,null,null,null,null,null,null,null,null,null,null,null,null,null,null,null,null,null,null,null,null,null,null,null,null,null,null,null,null,null,null,null,null,null,null,null,null,"","","","",null,{"$f":"入力欄!B43","v":0},{"$f":"入力欄!H43","v":0},0,0,"0",{"$f":"入力欄!F43","v":0},"0","0"]
[null,null,null,null,null,null,null,null,null,null,null,null,null,null,null,null,null,null,null,null,null,null,null,null,null,null,null,null,null,null,null,null,null,null,null,null,null,null,null,null,null,null,null,null,null,null,null,null,null,null,null,null,null,null,null,null,null,null,null,null,null,null,null,null,null,null,null,"","","","",null,{"$f":"入力欄!B44","v":0},{"$f":"入力欄!H44","v":0},0,0,"0",{"$f":"入力欄!F44","v":0},"0","0"]
[null,null,null,null,null,null,null,null,null,null,null,null,null,null,null,null,null,null,null,null,null,null,null,null,null,null,null,null,null,null,null,null,null,null,null,null,null,null,null,null,null,null,null,null,null,null,null,null,null,null,null,null,null,null,null,null,null,null,null,null,null,null,null,null,null,null,null,"","","","",null,{"$f":"入力欄!B45","v":0},{"$f":"入力欄!H45","v":0},0,0,"0",{"$f":"入力欄!F45","v":0},"0","0"]
[null,null,null,null,null,null,null,null,null,null,null,null,null,null,null,null,null,null,null,null,null,null,null,null,null,null,null,null,null,null,null,null,null,null,null,null,null,null,null,null,null,null,null,null,null,null,null,null,null,null,null,null,null,null,null,null,null,null,null,null,null,null,null,null,null,null,null,"","","","",null,{"$f":"入力欄!B46","v":0},{"$f":"入力欄!H46","v":0},0,0,"0",{"$f":"入力欄!F46","v":0},"0","0"]
[null,null,null,null,null,null,null,null,null,null,null,null,null,null,null,null,null,null,null,null,null,null,null,null,null,null,null,null,null,null,null,null,null,null,null,null,null,null,null,null,null,null,null,null,null,null,null,null,null,null,null,null,null,null,null,null,null,null,null,null,null,null,null,null,null,null,null,"","","","",null,{"$f":"入力欄!B47","v":0},{"$f":"入力欄!H47","v":0},0,0,"0",{"$f":"入力欄!F47","v":0},"0","0"]
[null,null,null,null,null,null,null,null,null,null,null,null,null,null,null,null,null,null,null,null,null,null,null,null,null,null,null,null,null,null,null,null,null,null,null,null,null,null,null,null,null,null,null,null,null,null,null,null,null,null,null,null,null,null,null,null,null,null,null,null,null,null,null,null,null,null,null,"","","","",null,{"$f":"入力欄!B48","v":0},{"$f":"入力欄!H48","v":0},0,0,"0",{"$f":"入力欄!F48","v":0},"0","0"]
[null,null,null,null,null,null,null,null,null,null,null,null,null,null,null,null,null,null,null,null,null,null,null,null,null,null,null,null,null,null,null,null,null,null,null,null,null,null,null,null,null,null,null,null,null,null,null,null,null,null,null,null,null,null,null,null,null,null,null,null,null,null,null,null,null,null,null,"","","","",null,{"$f":"入力欄!B49","v":0},{"$f":"入力欄!H49","v":0},0,0,"0",{"$f":"入力欄!F49","v":0},"0","0"]
[null,null,null,null,null,null,null,null,null,null,null,null,null,null,null,null,null,null,null,null,null,null,null,null,null,null,null,null,null,null,null,null,null,null,null,null,null,null,null,null,null,null,null,null,null,null,null,null,null,null,null,null,null,null,null,null,null,null,null,null,null,null,null,null,null,null,null,"","","","",null,{"$f":"入力欄!B50","v":0},{"$f":"入力欄!H50","v":0},0,0,"0",{"$f":"入力欄!F50","v":0},"0","0"]
[null,null,null,null,null,null,null,null,null,null,null,null,null,null,null,null,null,null,null,null,null,null,null,null,null,null,null,null,null,null,null,null,null,null,null,null,null,null,null,null,null,null,null,null,null,null,null,null,null,null,null,null,null,null,null,null,null,null,null,null,null,null,null,null,null,null,null,"","","","",null,{"$f":"入力欄!B51","v":0},{"$f":"入力欄!H51","v":0},0,0,"0",{"$f":"入力欄!F51","v":0},"0","0"]
[null,null,null,null,null,null,null,null,null,null,null,null,null,null,null,null,null,null,null,null,null,null,null,null,null,null,null,null,null,null,null,null,null,null,null,null,null,null,null,null,null,null,null,null,null,null,null,null,null,null,null,null,null,null,null,null,null,null,null,null,null,null,null,null,null,null,null,"","","","",null,{"$f":"入力欄!B52","v":0},{"$f":"入力欄!H52","v":0},0,0,"0",{"$f":"入力欄!F52","v":0},"0","0"]
[null,null,null,null,null,null,null,null,null,null,null,null,null,null,null,null,null,null,null,null,null,null,null,null,null,null,null,null,null,null,null,null,null,null,null,null,null,null,null,null,null,null,null,null,null,null,null,null,null,null,null,null,null,null,null,null,null,null,null,null,null,null,null,null,null,null,null,null,null,null,null,null,{"$f":"入力欄!B53","v":0},{"$f":"入力欄!H53","v":0},0,0,"0",{"$f":"入力欄!F53","v":0},"0","0"]
[null,null,null,null,null,null,null,null,null,null,null,null,null,null,null,null,null,null,null,null,null,null,null,null,null,null,null,null,null,null,null,null,null,null,null,null,null,null,null,null,null,null,null,null,null,null,null,null,null,null,null,null,null,null,null,null,null,null,null,null,null,null,null,null,null,null,null,null,null,null,null,null,{"$f":"入力欄!B54","v":0},{"$f":"入力欄!H54","v":0},0,0,"0",{"$f":"入力欄!F54","v":0},"0","0"]
[null,null,null,null,null,null,null,null,null,null,null,null,null,null,null,null,null,null,null,null,null,null,null,null,null,null,null,null,null,null,null,null,null,null,null,null,null,null,null,null,null,null,null,null,null,null,null,null,null,null,null,null,null,null,null,null,null,null,null,null,null,null,null,null,null,null,null,null,null,null,null,null,{"$f":"入力欄!B55","v":0},{"$f":"入力欄!H55","v":0},0,0,"0",{"$f":"入力欄!F55","v":0},"0","0"]
[null,null,null,null,null,null,null,null,null,null,null,null,null,null,null,null,null,null,null,null,null,null,null,null,null,null,null,null,null,null,null,null,null,null,null,null,null,null,null,null,null,null,null,null,null,null,null,null,null,null,null,null,null,null,null,null,null,null,null,null,null,null,null,null,null,null,null,null,null,null,null,null,{"$f":"入力欄!B56","v":0},{"$f":"入力欄!H56","v":0},0,0,"0",{"$f":"入力欄!F56","v":0},"0","0"]
[null,null,null,null,null,null,null,null,null,null,null,null,null,null,null,null,null,null,null,null,null,null,null,null,null,null,null,null,null,null,null,null,null,null,null,null,null,null,null,null,null,null,null,null,null,null,null,null,null,null,null,null,null,null,null,null,null,null,null,null,null,null,null,null,null,null,null,null,null,null,null,null,{"$f":"入力欄!B57","v":0},{"$f":"入力欄!H57","v":0},0,0,"0",{"$f":"入力欄!F57","v":0},"0","0"]
[null,null,null,null,null,null,null,null,null,null,null,null,null,null,null,null,null,null,null,null,null,null,null,null,null,null,null,null,null,null,null,null,null,null,null,null,null,null,null,null,null,null,null,null,null,null,null,null,null,null,null,null,null,null,null,null,null,null,null,null,null,null,null,null,null,null,null,null,null,null,null,null,{"$f":"入力欄!B58","v":0},{"$f":"入力欄!H58","v":0},0,0,"0",{"$f":"入力欄!F58","v":0},"0","0"]
[null,null,null,null,null,null,null,null,null,null,null,null,null,null,null,null,null,null,null,null,null,null,null,null,null,null,null,null,null,null,null,null,null,null,null,null,null,null,null,null,null,null,null,null,null,null,null,null,null,null,null,null,null,null,null,null,null,null,null,null,null,null,null,null,null,null,null,null,null,null,null,null,{"$f":"入力欄!B59","v":0},{"$f":"入力欄!H59","v":0},0,0,"0",{"$f":"入力欄!F59","v":0},"0","0"]
[null,null,null,null,null,null,null,null,null,null,null,null,null,null,null,null,null,null,null,null,null,null,null,null,null,null,null,null,null,null,null,null,null,null,null,null,null,null,null,null,null,null,null,null,null,null,null,null,null,null,null,null,null,null,null,null,null,null,null,null,null,null,null,null,null,null,null,null,null,null,null,null,{"$f":"入力欄!B60","v":0},{"$f":"入力欄!H60","v":0},0,0,"0",{"$f":"入力欄!F60","v":0},"0","0"]
[null,null,null,null,null,null,null,null,null,null,null,null,null,null,null,null,null,null,null,null,null,null,null,null,null,null,null,null,null,null,null,null,null,null,null,null,null,null,null,null,null,null,null,null,null,null,null,null,null,null,null,null,null,null,null,null,null,null,null,null,null,null,null,null,null,null,null,null,null,null,null,null,{"$f":"入力欄!B61","v":0},{"$f":"入力欄!H61","v":0},0,0,"0",{"$f":"入力欄!F61","v":0},"0","0"]
[null,null,null,null,null,null,null,null,null,null,null,null,null,null,null,null,null,null,null,null,null,null,null,null,null,null,null,null,null,null,null,null,null,null,null,null,null,null,null,null,null,null,null,null,null,null,null,null,null,null,null,null,null,null,null,null,null,null,null,null,null,null,null,null,null,null,null,null,null,null,null,null,{"$f":"入力欄!B62","v":0},{"$f":"入力欄!H62","v":0},0,0,"0",{"$f":"入力欄!F62","v":0},"0","0"]
[null,null,null,null,null,null,null,null,null,null,null,null,null,null,null,null,null,null,null,null,null,null,null,null,null,null,null,null,null,null,null,null,null,null,null,null,null,null,null,null,null,null,null,null,null,null,null,null,null,null,null,null,null,null,null,null,null,null,null,null,null,null,null,null,null,null,null,null,null,null,null,null,null,null,0,0,"0",{"$f":"入力欄!B24","v":0},"0","0"]
[null,null,null,null,null,null,null,null,null,null,null,null,null,null,null,null,null,null,null,null,null,null,null,null,null,null,null,null,null,null,null,null,null,null,null,null,null,null,null,null,null,null,null,null,null,null,null,null,null,null,null,null,null,null,null,null,null,null,null,null,null,null,null,null,null,null,null,null,null,null,null,null,null,null,0,0,"0",{"$f":"入力欄!B29","v":0},"0","0"]

{"sheet":"メンバー票c","index":7,"n_rows":75,"n_cols":80,"rows_kept":75,"cut":false,"hidden":false,"merged":[[5,68,7,72],[44,43,44,58],[44,59,44,60],[44,61,44,62],[44,63,44,64],[43,43,43,58],[43,59,43,60],[43,61,43,62],[43,63,43,64],[42,59,42,60],[42,61,42,62],[42,63,42,64],[41,53,41,54],[41,55,41,56],[41,57,41,58],[41,59,41,60],[41,61,41,62],[41,63,41,64],[40,59,40,60],[40,61,40,62],[40,63,40,64],[39,53,39,54],[39,55,39,56],[39,57,39,58],[42,21,42,22],[42,23,42,24],[42,25,42,26],[44,1,44,7],[44,11,44,26],[44,27,44,28],[44,29,44,30],[44,31,44,32],[44,33,44,39],[43,1,43,7],[43,11,43,26],[43,27,43,28],[43,29,43,30],[43,31,43,32],[43,33,43,39],[41,1,41,2],[41,6,41,18],[41,19,41,20],[41,21,41,22],[41,23,41,24],[41,25,41,26],[42,53,42,54],[42,55,42,56],[42,57,42,58],[41,27,41,28],[41,29,41,30],[41,31,41,32],[41,33,41,34],[41,38,41,50],[41,51,41,52],[42,27,42,28],[42,29,42,30],[42,31,42,32],[42,33,42,34],[42,38,42,50],[42,51,42,52],[42,1,42,2],[42,6,42,18],[42,19,42,20],[39,1,39,2],[39,6,39,18],[39,19,39,20],[39,21,39,22],[39,23,39,24],[39,25,39,26],[40,53,40,54],[40,55,40,56],[40,57,40,58],[40,27,40,28],[40,29,40,30],[40,31,40,32],[40,33,40,34],[40,38,40,50],[40,51,40,52],[40,1,40,2],[40,6,40,18],[40,19,40,20],[40,21,40,22],[40,23,40,24],[40,25,40,26],[39,59,39,60],[39,61,39,62],[39,63,39,64],[39,27,39,28],[39,29,39,30],[39,31,39,32],[39,33,39,34],[39,38,39,50],[39,51,39,52],[38,59,38,60],[38,61,38,62],[38,63,38,64],[38,27,38,28],[38,29,38,30],[38,31,38,32],[38,33,38,34],[38,38,38,50],[38,51,38,52],[38,1,38,2],[38,6,38,18],[38,19,38,20],[38,21,38,22],[38,23,38,24],[38,25,38,26],[37,53,37,54],[37,55,37,56],[37,57,37,58],[37,1,37,2],[37,6,37,18],[37,19,37,20],[37,21,37,22],[37,23,37,24],[37,25,37,26],[38,53,38,54],[38,55,38,56],[38,57,38,58],[37,59,37,60],[37,61,37,62],[37,63,37,64],[37,27,37,28],[37,29,37,30],[37,31,37,32],[37,33,37,34],[37,38,37,50],[37,51,37,52],[36,59,36,60],[36,61,36,62],[36,63,36,64],[36,27,36,28],[36,29,36,30],[36,31,36,32],[36,33,36,34],[36,38,36,50],[36,51,36,52],[36,1,36,2],[36,6,36,18],[36,19,36,20],[36,21,36,22],[36,23,36,24],[36,25,36,26],[35,53,35,54],[35,55,35,56],[35,57,35,58],[35,1,35,2],[35,6,35,18],[35,19,35,20],[35,21,35,22],[35,23,35,24],[35,25,35,26],[36,53,36,54],[36,55,36,56],[36,57,36,58],[35,59,35,60],[35,61,35,62],[35,63,35,64],[35,27,35,28],[35,29,35,30],[35,31,35,32],[35,33,35,34],[35,38,35,50],[35,51,35,52],[34,59,34,60],[34,61,34,62],[34,63,34,64],[34,27,34,28],[34,29,34,30],[34,31,34,32],[34,33,34,34],[34,38,34,50],[34,51,34,52],[34,1,34,2],[34,6,34,18],[34,19,34,20],[34,21,34,22],[34,23,34,24],[34,25,34,26],[33,53,33,54],[33,55,33,56],[33,57,33,58],[33,1,33,2],[33,6,33,18],[33,19,33,20],[33,21,33,22],[33,23,33,24],[33,25,33,26],[34,53,34,54],[34,55,34,56],[34,57,34,58],[33,59,33,60],[33,61,33,62],[33,63,33,64],[33,27,33,28],[33,29,33,30],[33,31,33,32],[33,33,33,34],[33,38,33,50],[33,51,33,52],[32,59,32,60],[32,61,32,62],[32,63,32,64],[32,27,32,28],[32,29,32,30],[32,31,32,32],[32,33,32,34],[32,38,32,50],[32,51,32,52],[32,1,32,2],[32,6,32,18],[32,19,32,20],[32,21,32,22],[32,23,32,24],[32,25,32,26],[31,53,31,54],[31,55,31,56],[31,57,31,58],[31,1,31,2],[31,6,31,18],[31,19,31,20],[31,21,31,22],[31,23,31,24],[31,25,31,26],[32,53,32,54],[32,55,32,56],[32,57,32,58],[31,59,31,60],[31,61,31,62],[31,63,31,64],[31,27,31,28],[31,29,31,30],[31,31,31,32],[31,33,31,34],[31,38,31,50],[31,51,31,52],[30,59,30,60],[30,61,30,62],[30,63,30,64],[30,27,30,28],[30,29,30,30],[30,31,30,32],[30,33,30,34],[30,38,30,50],[30,51,30,52],[30,1,30,2],[30,6,30,18],[30,19,30,20],[30,21,30,22],[30,23,30,24],[30,25,30,26],[29,53,29,54],[29,55,29,56],[29,57,29,58],[29,1,29,2],[29,6,29,18],[29,19,29,20],[29,21,29,22],[29,23,29,24],[29,25,29,26],[30,53,30,54],[30,55,30,56],[30,57,30,58],[29,59,29,60],[29,61,29,62],[29,63,29,64],[29,27,29,28],[29,29,29,30],[29,31,29,32],[29,33,29,34],[29,38,29,50],[29,51,29,52],[28,55,28,56],[28,57,28,58],[28,59,28,60],[28,61,28,62],[28,63,28,64],[28,27,28,28],[28,29,28,30],[28,31,28,32],[28,33,28,34],[28,38,28,50],[28,51,28,52],[28,1,28,2],[28,6,28,18],[28,19,28,20],[28,21,28,22],[28,23,28,24],[28,25,28,26],[26,38,27,50],[26,51,27,52],[26,53,27,54],[27,23,27,24],[27,25,27,26],[27,27,27,28],[27,29,27,30],[27,31,27,32],[28,53,28,54],[25,1,25,32],[25,33,25,64],[26,1,27,2],[26,3,27,5],[26,6,27,18],[26,19,27,20],[26,21,27,22],[26,23,26,32],[26,33,27,34],[26,35,27,37],[27,57,27,58],[27,59,27,60],[27,61,27,62],[27,63,27,64],[26,55,26,64],[27,55,27,56],[22,43,22,58],[22,59,22,60],[22,61,22,62],[22,63,22,64],[23,6,24,29],[23,38,24,61],[21,43,21,58],[21,59,21,60],[21,61,21,62],[21,63,21,64],[22,1,22,7],[22,11,22,26],[22,27,22,28],[22,29,22,30],[22,31,22,32],[22,33,22,39],[21,1,21,7],[21,11,21,26],[21,27,21,28],[21,29,21,30],[21,31,21,32],[21,33,21,39],[20,59,20,60],[20,61,20,62],[20,63,20,64],[20,27,20,28],[20,29,20,30],[20,31,20,32],[20,33,20,34],[20,38,20,50],[20,51,20,52],[20,1,20,2],[20,6,20,18],[20,19,20,20],[20,21,20,22],[20,23,20,24],[20,25,20,26],[19,53,19,54],[19,55,19,56],[19,57,19,58],[19,1,19,2],[19,6,19,18],[19,19,19,20],[19,21,19,22],[19,23,19,24],[19,25,19,26],[20,53,20,54],[20,55,20,56],[20,57,20,58],[19,59,19,60],[19,61,19,62],[19,63,19,64],[19,27,19,28],[19,29,19,30],[19,31,19,32],[19,33,19,34],[19,38,19,50],[19,51,19,52],[18,59,18,60],[18,61,18,62],[18,63,18,64],[18,27,18,28],[18,29,18,30],[18,31,18,32],[18,33,18,34],[18,38,18,50],[18,51,18,52],[18,1,18,2],[18,6,18,18],[18,19,18,20],[18,21,18,22],[18,23,18,24],[18,25,18,26],[17,53,17,54],[17,55,17,56],[17,57,17,58],[17,1,17,2],[17,6,17,18],[17,19,17,20],[17,21,17,22],[17,23,17,24],[17,25,17,26],[18,53,18,54],[18,55,18,56],[18,57,18,58],[17,59,17,60],[17,61,17,62],[17,63,17,64],[17,27,17,28],[17,29,17,30],[17,31,17,32],[17,33,17,34],[17,38,17,50],[17,51,17,52],[16,59,16,60],[16,61,16,62],[16,63,16,64],[16,27,16,28],[16,29,16,30],[16,31,16,32],[16,33,16,34],[16,38,16,50],[16,51,16,52],[16,1,16,2],[16,6,16,18],[16,19,16,20],[16,21,16,22],[16,23,16,24],[16,25,16,26],[15,53,15,54],[15,55,15,56],[15,57,15,58],[15,1,15,2],[15,6,15,18],[15,19,15,20],[15,21,15,22],[15,23,15,24],[15,25,15,26],[16,53,16,54],[16,55,16,56],[16,57,16,58],[15,59,15,60],[15,61,15,62],[15,63,15,64],[15,27,15,28],[15,29,15,30],[15,31,15,32],[15,33,15,34],[15,38,15,50],[15,51,15,52],[14,59,14,60],[14,61,14,62],[14,63,14,64],[14,27,14,28],[14,29,14,30],[14,31,14,32],[14,33,14,34],[14,38,14,50],[14,51,14,52],[14,1,14,2],[14,6,14,18],[14,19,14,20],[14,21,14,22],[14,23,14,24],[14,25,14,26],[13,53,13,54],[13,55,13,56],[13,57,13,58],[13,1,13,2],[13,6,13,18],[13,19,13,20],[13,21,13,22],[13,23,13,24],[13,25,13,26],[14,53,14,54],[14,55,14,56],[14,57,14,58],[13,59,13,60],[13,61,13,62],[13,63,13,64],[13,27,13,28],[13,29,13,30],[13,31,13,32],[13,33,13,34],[13,38,13,50],[13,51,13,52],[12,59,12,60],[12,61,12,62],[12,63,12,64],[12,27,12,28],[12,29,12,30],[12,31,12,32],[12,33,12,34],[12,38,12,50],[12,51,12,52],[12,1,12,2],[12,6,12,18],[12,19,12,20],[12,21,12,22],[12,23,12,24],[12,25,12,26],[11,53,11,54],[11,55,11,56],[11,57,11,58],[11,1,11,2],[11,6,11,18],[11,19,11,20],[11,21,11,22],[11,23,11,24],[11,25,11,26],[12,53,12,54],[12,55,12,56],[12,57,12,58],[11,59,11,60],[11,61,11,62],[11,63,11,64],[11,27,11,28],[11,29,11,30],[11,31,11,32],[11,33,11,34],[11,38,11,50],[11,51,11,52],[10,59,10,60],[10,61,10,62],[10,63,10,64],[10,27,10,28],[10,29,10,30],[10,31,10,32],[10,33,10,34],[10,38,10,50],[10,51,10,52],[10,1,10,2],[10,6,10,18],[10,19,10,20],[10,21,10,22],[10,23,10,24],[10,25,10,26],[9,53,9,54],[9,55,9,56],[9,57,9,58],[9,1,9,2],[9,6,9,18],[9,19,9,20],[9,21,9,22],[9,23,9,24],[9,25,9,26],[10,53,10,54],[10,55,10,56],[10,57,10,58],[9,59,9,60],[9,61,9,62],[9,63,9,64],[9,27,9,28],[9,29,9,30],[9,31,9,32],[9,33,9,34],[9,38,9,50],[9,51,9,52],[8,59,8,60],[8,61,8,62],[8,63,8,64],[8,27,8,28],[8,29,8,30],[8,31,8,32],[8,33,8,34],[8,38,8,50],[8,51,8,52],[8,1,8,2],[8,6,8,18],[8,19,8,20],[8,21,8,22],[8,23,8,24],[8,25,8,26],[7,53,7,54],[7,55,7,56],[7,57,7,58],[8,53,8,54],[8,55,8,56],[8,57,8,58],[7,1,7,2],[7,6,7,18],[7,19,7,20],[7,21,7,22],[7,23,7,24],[7,25,7,26],[7,59,7,60],[7,61,7,62],[7,63,7,64],[7,27,7,28],[7,29,7,30],[7,31,7,32],[7,33,7,34],[7,38,7,50],[7,51,7,52],[4,38,5,50],[4,51,5,52],[6,33,6,34],[6,38,6,50],[6,51,6,52],[4,53,5,54],[5,63,5,64],[6,1,6,2],[6,6,6,18],[6,19,6,20],[6,21,6,22],[6,23,6,24],[6,25,6,26],[6,27,6,28],[6,29,6,30],[6,31,6,32],[6,59,6,60],[6,61,6,62],[6,63,6,64],[6,53,6,54],[6,55,6,56],[6,57,6,58],[1,68,3,76],[46,26,55,55],[1,6,2,29],[1,38,2,61],[3,1,3,32],[3,33,3,64],[4,1,5,2],[4,3,5,5],[4,6,5,18],[4,19,5,20],[4,21,5,22],[4,55,4,64],[5,23,5,24],[5,25,5,26],[5,27,5,28],[5,29,5,30],[5,31,5,32],[5,55,5,56],[5,57,5,58],[5,59,5,60],[5,61,5,62],[4,23,4,32],[4,33,5,34],[4,35,5,37]]}
["ｃ"]
[null," チーム",null,null,null,null,{"$f":"IF(入力欄!E8=\"\",入力欄!B8&\"　(\"&入力欄!B19&\"）\",入力欄!B8&\"・\"&入力欄!E8&\"　(\"&入力欄!B19&\"）\")","v":"　(）"},null,null,null,null,null,null,null,null,null,null,null,null,null,null,null,null,null,null,null,null,null,null,null,null,null,null," チーム",null,null,null,null,{"$f":"$G$2","v":"　(）"},null,null,null,null,null,null,null,null,null,null,null,null,null,null,null,null,null,null,null,null,null,null,null,null,null,null,null,null,null,"　　メンバー票作成の手順\n① 入力欄に必要事項を入力する\n② メンバー票a～ｄの必要なシートで反映させる。\n③ 選手が15名未満の場合は斜線を入れる。\n④ 印刷する。\n⑤ はさみで4試合分を切り取る。"]
[null," Team ",null,null,null,null,null,null,null,null,null,null,null,null,null,null,null,null,null,null,null,null,null,null,null,null,null,null,null,null,null,null,null," Team "]
[]
[null,"No.",null,"Licence\nno.",null,null,"選手氏名　Players",null,null,null,null,null,null,null,null,null,null,null,null,"No.",null,"Players\nin",null,"ファウル Fouls",null,null,null,null,null,null,null,null,null,"No.",null,"Licence\nno.",null,null,"選手氏名　Players",null,null,null,null,null,null,null,null,null,null,null,null,"No.",null,"Players\nin",null,"ファウル Fouls"]
[null,null,null,null,null,null,null,null,null,null,null,null,null,null,null,null,null,null,null,null,null,null,null,1,null,2,null,3,null,4,null,5,null,null,null,null,null,null,null,null,null,null,null,null,null,null,null,null,null,null,null,null,null,null,null,1,null,2,null,3,null,4,null,5]
[null,1,null,{"$f":"IF($BO49=\"*\",\"\",$BQ49)","v":""},{"$f":"IF($BO49=\"*\",\"\",$BR49)","v":""},{"$f":"IF($BO49=\"*\",\"\",$BS49)","v":""},{"$f":"IF($BO49=\"*\",\"\",$BP49)","v":""},null,null,null,null,null,null,null,null,null,null,null,null,{"$f":"IF($BO$49=\"*\",\"\",IF($BO$49=100,\"00\",$BO$49))","v":0},null,null,null,null,null,null,null,null,null,null,null,null,null,1,null,{"$f":"IF($BO49=\"*\",\"\",$BQ49)","v":""},{"$f":"IF($BO49=\"*\",\"\",$BR49)","v":""},{"$f":"IF($BO49=\"*\",\"\",$BS49)","v":""},{"$f":"IF($BO49=\"*\",\"\",$BP49)","v":""},null,null,null,null,null,null,null,null,null,null,null,null,{"$f":"IF($BO$49=\"*\",\"\",IF($BO$49=100,\"00\",$BO$49))","v":0}]
[null,2,null,{"$f":"IF($BO50=\"*\",\"\",$BQ50)","v":""},{"$f":"IF($BO50=\"*\",\"\",$BR50)","v":""},{"$f":"IF($BO50=\"*\",\"\",$BS50)","v":""},{"$f":"IF($BO50=\"*\",\"\",$BP50)","v":""},null,null,null,null,null,null,null,null,null,null,null,null,{"$f":"IF($BO$50=\"*\",\"\",IF($BO$50=100,\"00\",$BO$50))","v":0},null,null,null,null,null,null,null,null,null,null,null,null,null,2,null,{"$f":"IF($BO50=\"*\",\"\",$BQ50)","v":""},{"$f":"IF($BO50=\"*\",\"\",$BR50)","v":""},{"$f":"IF($BO50=\"*\",\"\",$BS50)","v":""},{"$f":"IF($BO50=\"*\",\"\",$BP50)","v":""},null,null,null,null,null,null,null,null,null,null,null,null,{"$f":"IF($BO$50=\"*\",\"\",IF($BO$50=100,\"00\",$BO$50))","v":0}]
[null,3,null,"","","","",null,null,null,null,null,null,null,null,null,null,null,null,{"$f":"IF($BO$51=\"*\",\"\",IF($BO$51=100,\"00\",$BO$51))","v":0},null,null,null,null,null,null,null,null,null,null,null,null,null,3,null,"","","","",null,null,null,null,null,null,null,null,null,null,null,null,{"$f":"IF($BO$51=\"*\",\"\",IF($BO$51=100,\"00\",$BO$51))","v":0}]
[null,4,null,"","","","",null,null,null,null,null,null,null,null,null,null,null,null,{"$f":"IF($BO$52=\"*\",\"\",IF($BO$52=100,\"00\",$BO$52))","v":0},null,null,null,null,null,null,null,null,null,null,null,null,null,4,null,"","","","",null,null,null,null,null,null,null,null,null,null,null,null,{"$f":"IF($BO$52=\"*\",\"\",IF($BO$52=100,\"00\",$BO$52))","v":0}]
[null,5,null,"","","","",null,null,null,null,null,null,null,null,null,null,null,null,{"$f":"IF($BO$53=\"*\",\"\",IF($BO$53=100,\"00\",$BO$53))","v":0},null,null,null,null,null,null,null,null,null,null,null,null,null,5,null,"","","","",null,null,null,null,null,null,null,null,null,null,null,null,{"$f":"IF($BO$53=\"*\",\"\",IF($BO$53=100,\"00\",$BO$53))","v":0}]
[null,6,null,"","","","",null,null,null,null,null,null,null,null,null,null,null,null,{"$f":"IF($BO$54=\"*\",\"\",IF($BO$54=100,\"00\",$BO$54))","v":0},null,null,null,null,null,null,null,null,null,null,null,null,null,6,null,"","","","",null,null,null,null,null,null,null,null,null,null,null,null,{"$f":"IF($BO$54=\"*\",\"\",IF($BO$54=100,\"00\",$BO$54))","v":0}]
[null,7,null,"","","","",null,null,null,null,null,null,null,null,null,null,null,null,{"$f":"IF($BO$55=\"*\",\"\",IF($BO$55=100,\"00\",$BO$55))","v":0},null,null,null,null,null,null,null,null,null,null,null,null,null,7,null,"","","","",null,null,null,null,null,null,null,null,null,null,null,null,{"$f":"IF($BO$55=\"*\",\"\",IF($BO$55=100,\"00\",$BO$55))","v":0}]
[null,8,null,"","","","",null,null,null,null,null,null,null,null,null,null,null,null,{"$f":"IF($BO$56=\"*\",\"\",IF($BO$56=100,\"00\",$BO$56))","v":0},null,null,null,null,null,null,null,null,null,null,null,null,null,8,null,"","","","",null,null,null,null,null,null,null,null,null,null,null,null,{"$f":"IF($BO$56=\"*\",\"\",IF($BO$56=100,\"00\",$BO$56))","v":0}]
[null,9,null,"","","","",null,null,null,null,null,null,null,null,null,null,null,null,{"$f":"IF($BO$57=\"*\",\"\",IF($BO$57=100,\"00\",$BO$57))","v":0},null,null,null,null,null,null,null,null,null,null,null,null,null,9,null,"","","","",null,null,null,null,null,null,null,null,null,null,null,null,{"$f":"IF($BO$57=\"*\",\"\",IF($BO$57=100,\"00\",$BO$57))","v":0}]
[null,10,null,"","","","",null,null,null,null,null,null,null,null,null,null,null,null,{"$f":"IF($BO$58=\"*\",\"\",IF($BO$58=100,\"00\",$BO$58))","v":0},null,null,null,null,null,null,null,null,null,null,null,null,null,10,null,"","","","",null,null,null,null,null,null,null,null,null,null,null,null,{"$f":"IF($BO$58=\"*\",\"\",IF($BO$58=100,\"00\",$BO$58))","v":0}]
[null,11,null,"","","","",null,null,null,null,null,null,null,null,null,null,null,null,{"$f":"IF($BO$59=\"*\",\"\",IF($BO$59=100,\"00\",$BO$59))","v":0},null,null,null,null,null,null,null,null,null,null,null,null,null,11,null,"","","","",null,null,null,null,null,null,null,null,null,null,null,null,{"$f":"IF($BO$59=\"*\",\"\",IF($BO$59=100,\"00\",$BO$59))","v":0}]
[null,12,null,"","","","",null,null,null,null,null,null,null,null,null,null,null,null,{"$f":"IF($BO$60=\"*\",\"\",IF($BO$60=100,\"00\",$BO$60))","v":0},null,null,null,null,null,null,null,null,null,null,null,null,null,12,null,"","","","",null,null,null,null,null,null,null,null,null,null,null,null,{"$f":"IF($BO$60=\"*\",\"\",IF($BO$60=100,\"00\",$BO$60))","v":0}]
[null,13,null,"","","","",null,null,null,null,null,null,null,null,null,null,null,null,{"$f":"IF($BO$61=\"*\",\"\",IF($BO$61=100,\"00\",$BO$61))","v":0},null,null,null,null,null,null,null,null,null,null,null,null,null,13,null,"","","","",null,null,null,null,null,null,null,null,null,null,null,null,{"$f":"IF($BO$61=\"*\",\"\",IF($BO$61=100,\"00\",$BO$61))","v":0}]
[null,14,null,"","","","",null,null,null,null,null,null,null,null,null,null,null,null,{"$f":"IF($BO$62=\"*\",\"\",IF($BO$62=100,\"00\",$BO$62))","v":0},null,null,null,null,null,null,null,null,null,null,null,null,null,14,null,"","","","",null,null,null,null,null,null,null,null,null,null,null,null,{"$f":"IF($BO$62=\"*\",\"\",IF($BO$62=100,\"00\",$BO$62))","v":0}]
[null,15,null,"","","","",null,null,null,null,null,null,null,null,null,null,null,null,{"$f":"IF($BO$63=\"*\",\"\",IF($BO$63=100,\"00\",$BO$63))","v":0},null,null,null,null,null,null,null,null,null,null,null,null,null,15,null,"","","","",null,null,null,null,null,null,null,null,null,null,null,null,{"$f":"IF($BO$63=\"*\",\"\",IF($BO$63=100,\"00\",$BO$63))","v":0}]
[null,"コーチ Coach",null,null,null,null,null,null,{"$f":"IF(入力欄!$B23=\"なし\",\"\",$BW74)","v":0},{"$f":"IF(入力欄!$B23=\"なし\",\"\",$BX74)","v":0},{"$f":"IF(入力欄!$B23=\"なし\",\"\",$BY74)","v":"0"},{"$f":"入力欄!B21","v":0},null,null,null,null,null,null,null,null,null,null,null,null,null,null,null,null,null,null,null,null,null,"コーチ Coach",null,null,null,null,null,null,{"$f":"IF(入力欄!$B$23=\"なし\",\"\",$BW$74)","v":0},{"$f":"IF(入力欄!$B$23=\"なし\",\"\",$BX$74)","v":0},{"$f":"IF(入力欄!$B$23=\"なし\",\"\",$BY$74)","v":"0"},{"$f":"$L$22","v":0}]
[null,"Ａ.コーチ A.Coach",null,null,null,null,null,null,{"$f":"IF(入力欄!$B28=\"なし\",\"\",$BW75)","v":0},{"$f":"IF(入力欄!$B28=\"なし\",\"\",$BX75)","v":0},{"$f":"IF(入力欄!$B28=\"なし\",\"\",$BY75)","v":"0"},{"$f":"IF(入力欄!B26=\"\",\"\",入力欄!B26)","v":""},null,null,null,null,null,null,null,null,null,null,null,null,null,null,null,null,null,null,null,null,null,"Ａ.コーチ A.Coach",null,null,null,null,null,null,{"$f":"IF(入力欄!$B$28=\"なし\",\"\",$BW$75)","v":0},{"$f":"IF(入力欄!$B$28=\"なし\",\"\",$BX$75)","v":0},{"$f":"IF(入力欄!$B$28=\"なし\",\"\",$BY$75)","v":"0"},{"$f":"$L$23","v":""}]
[null," チーム",null,null,null,null,{"$f":"$G$2","v":"　(）"},null,null,null,null,null,null,null,null,null,null,null,null,null,null,null,null,null,null,null,null,null,null,null,null,null,null," チーム",null,null,null,null,{"$f":"$G$2","v":"　(）"}]
[null," Team ",null,null,null,null,null,null,null,null,null,null,null,null,null,null,null,null,null,null,null,null,null,null,null,null,null,null,null,null,null,null,null," Team "]
[]
[null,"No.",null,"Licence\nno.",null,null,"選手氏名　Players",null,null,null,null,null,null,null,null,null,null,null,null,"No.",null,"Players\nin",null,"ファウル Fouls",null,null,null,null,null,null,null,null,null,"No.",null,"Licence\nno.",null,null,"選手氏名　Players",null,null,null,null,null,null,null,null,null,null,null,null,"No.",null,"Players\nin",null,"ファウル Fouls"]
[null,null,null,null,null,null,null,null,null,null,null,null,null,null,null,null,null,null,null,null,null,null,null,1,null,2,null,3,null,4,null,5,null,null,null,null,null,null,null,null,null,null,null,null,null,null,null,null,null,null,null,null,null,null,null,1,null,2,null,3,null,4,null,5]
[null,1,null,{"$f":"IF($BO49=\"*\",\"\",$BQ49)","v":""},{"$f":"IF($BO49=\"*\",\"\",$BR49)","v":""},{"$f":"IF($BO49=\"*\",\"\",$BS49)","v":""},{"$f":"IF($BO49=\"*\",\"\",$BP49)","v":""},null,null,null,null,null,null,null,null,null,null,null,null,{"$f":"IF($BO$49=\"*\",\"\",IF($BO$49=100,\"00\",$BO$49))","v":0},null,null,null,null,null,null,null,null,null,null,null,null,null,1,null,{"$f":"IF($BO49=\"*\",\"\",$BQ49)","v":""},{"$f":"IF($BO49=\"*\",\"\",$BR49)","v":""},{"$f":"IF($BO49=\"*\",\"\",$BS49)","v":""},{"$f":"IF($BO49=\"*\",\"\",$BP49)","v":""},null,null,null,null,null,null,null,null,null,null,null,null,{"$f":"IF($BO$49=\"*\",\"\",IF($BO$49=100,\"00\",$BO$49))","v":0}]
[null,2,null,{"$f":"IF($BO50=\"*\",\"\",$BQ50)","v":""},{"$f":"IF($BO50=\"*\",\"\",$BR50)","v":""},{"$f":"IF($BO50=\"*\",\"\",$BS50)","v":""},{"$f":"IF($BO50=\"*\",\"\",$BP50)","v":""},null,null,null,null,null,null,null,null,null,null,null,null,{"$f":"IF($BO$50=\"*\",\"\",IF($BO$50=100,\"00\",$BO$50))","v":0},null,null,null,null,null,null,null,null,null,null,null,null,null,2,null,{"$f":"IF($BO50=\"*\",\"\",$BQ50)","v":""},{"$f":"IF($BO50=\"*\",\"\",$BR50)","v":""},{"$f":"IF($BO50=\"*\",\"\",$BS50)","v":""},"",null,null,null,null,null,null,null,null,null,null,null,null,{"$f":"IF($BO$50=\"*\",\"\",IF($BO$50=100,\"00\",$BO$50))","v":0}]
[null,3,null,"","","","",null,null,null,null,null,null,null,null,null,null,null,null,{"$f":"IF($BO$51=\"*\",\"\",IF($BO$51=100,\"00\",$BO$51))","v":0},null,null,null,null,null,null,null,null,null,null,null,null,null,3,null,"","","","",null,null,null,null,null,null,null,null,null,null,null,null,{"$f":"IF($BO$51=\"*\",\"\",IF($BO$51=100,\"00\",$BO$51))","v":0}]
[null,4,null,"","","","",null,null,null,null,null,null,null,null,null,null,null,null,{"$f":"IF($BO$52=\"*\",\"\",IF($BO$52=100,\"00\",$BO$52))","v":0},null,null,null,null,null,null,null,null,null,null,null,null,null,4,null,"","","","",null,null,null,null,null,null,null,null,null,null,null,null,{"$f":"IF($BO$52=\"*\",\"\",IF($BO$52=100,\"00\",$BO$52))","v":0}]
[null,5,null,"","","","",null,null,null,null,null,null,null,null,null,null,null,null,{"$f":"IF($BO$53=\"*\",\"\",IF($BO$53=100,\"00\",$BO$53))","v":0},null,null,null,null,null,null,null,null,null,null,null,null,null,5,null,"","","","",null,null,null,null,null,null,null,null,null,null,null,null,{"$f":"IF($BO$53=\"*\",\"\",IF($BO$53=100,\"00\",$BO$53))","v":0}]
[null,6,null,"","","","",null,null,null,null,null,null,null,null,null,null,null,null,{"$f":"IF($BO$54=\"*\",\"\",IF($BO$54=100,\"00\",$BO$54))","v":0},null,null,null,null,null,null,null,null,null,null,null,null,null,6,null,"","","","",null,null,null,null,null,null,null,null,null,null,null,null,{"$f":"IF($BO$54=\"*\",\"\",IF($BO$54=100,\"00\",$BO$54))","v":0}]
[null,7,null,"","","","",null,null,null,null,null,null,null,null,null,null,null,null,{"$f":"IF($BO$55=\"*\",\"\",IF($BO$55=100,\"00\",$BO$55))","v":0},null,null,null,null,null,null,null,null,null,null,null,null,null,7,null,"","","","",null,null,null,null,null,null,null,null,null,null,null,null,{"$f":"IF($BO$55=\"*\",\"\",IF($BO$55=100,\"00\",$BO$55))","v":0}]
[null,8,null,"","","","",null,null,null,null,null,null,null,null,null,null,null,null,{"$f":"IF($BO$56=\"*\",\"\",IF($BO$56=100,\"00\",$BO$56))","v":0},null,null,null,null,null,null,null,null,null,null,null,null,null,8,null,"","","","",null,null,null,null,null,null,null,null,null,null,null,null,{"$f":"IF($BO$56=\"*\",\"\",IF($BO$56=100,\"00\",$BO$56))","v":0}]
[null,9,null,"","","","",null,null,null,null,null,null,null,null,null,null,null,null,{"$f":"IF($BO$57=\"*\",\"\",IF($BO$57=100,\"00\",$BO$57))","v":0},null,null,null,null,null,null,null,null,null,null,null,null,null,9,null,"","","","",null,null,null,null,null,null,null,null,null,null,null,null,{"$f":"IF($BO$57=\"*\",\"\",IF($BO$57=100,\"00\",$BO$57))","v":0}]
[null,10,null,"","","","",null,null,null,null,null,null,null,null,null,null,null,null,{"$f":"IF($BO$58=\"*\",\"\",IF($BO$58=100,\"00\",$BO$58))","v":0},null,null,null,null,null,null,null,null,null,null,null,null,null,10,null,"","","","",null,null,null,null,null,null,null,null,null,null,null,null,{"$f":"IF($BO$58=\"*\",\"\",IF($BO$58=100,\"00\",$BO$58))","v":0}]
[null,11,null,"","","","",null,null,null,null,null,null,null,null,null,null,null,null,{"$f":"IF($BO$59=\"*\",\"\",IF($BO$59=100,\"00\",$BO$59))","v":0},null,null,null,null,null,null,null,null,null,null,null,null,null,11,null,"","","","",null,null,null,null,null,null,null,null,null,null,null,null,{"$f":"IF($BO$59=\"*\",\"\",IF($BO$59=100,\"00\",$BO$59))","v":0}]
[null,12,null,"","","","",null,null,null,null,null,null,null,null,null,null,null,null,{"$f":"IF($BO$60=\"*\",\"\",IF($BO$60=100,\"00\",$BO$60))","v":0},null,null,null,null,null,null,null,null,null,null,null,null,null,12,null,"","","","",null,null,null,null,null,null,null,null,null,null,null,null,{"$f":"IF($BO$60=\"*\",\"\",IF($BO$60=100,\"00\",$BO$60))","v":0}]
[null,13,null,"","","","",null,null,null,null,null,null,null,null,null,null,null,null,{"$f":"IF($BO$61=\"*\",\"\",IF($BO$61=100,\"00\",$BO$61))","v":0},null,null,null,null,null,null,null,null,null,null,null,null,null,13,null,"","","","",null,null,null,null,null,null,null,null,null,null,null,null,{"$f":"IF($BO$61=\"*\",\"\",IF($BO$61=100,\"00\",$BO$61))","v":0}]
[null,14,null,"","","","",null,null,null,null,null,null,null,null,null,null,null,null,{"$f":"IF($BO$62=\"*\",\"\",IF($BO$62=100,\"00\",$BO$62))","v":0},null,null,null,null,null,null,null,null,null,null,null,null,null,14,null,"","","","",null,null,null,null,null,null,null,null,null,null,null,null,{"$f":"IF($BO$62=\"*\",\"\",IF($BO$62=100,\"00\",$BO$62))","v":0}]
[null,15,null,"","","","",null,null,null,null,null,null,null,null,null,null,null,null,{"$f":"IF($BO$63=\"*\",\"\",IF($BO$63=100,\"00\",$BO$63))","v":0},null,null,null,null,null,null,null,null,null,null,null,null,null,15,null,"","","","",null,null,null,null,null,null,null,null,null,null,null,null,{"$f":"IF($BO$63=\"*\",\"\",IF($BO$63=100,\"00\",$BO$63))","v":0}]
[null,"コーチ Coach",null,null,null,null,null,null,{"$f":"IF(入力欄!$B$23=\"なし\",\"\",$BW$74)","v":0},{"$f":"IF(入力欄!$B$23=\"なし\",\"\",$BX$74)","v":0},{"$f":"IF(入力欄!$B$23=\"なし\",\"\",$BY$74)","v":"0"},{"$f":"$L$22","v":0},null,null,null,null,null,null,null,null,null,null,null,null,null,null,null,null,null,null,null,null,null,"コーチ Coach",null,null,null,null,null,null,{"$f":"IF(入力欄!$B$23=\"なし\",\"\",$BW$74)","v":0},{"$f":"IF(入力欄!$B$23=\"なし\",\"\",$BX$74)","v":0},{"$f":"IF(入力欄!$B$23=\"なし\",\"\",$BY$74)","v":"0"},{"$f":"$L$22","v":0}]
[null,"Ａ.コーチ A.Coach",null,null,null,null,null,null,{"$f":"IF(入力欄!$B$28=\"なし\",\"\",$BW$75)","v":0},{"$f":"IF(入力欄!$B$28=\"なし\",\"\",$BX$75)","v":0},{"$f":"IF(入力欄!$B$28=\"なし\",\"\",$BY$75)","v":"0"},{"$f":"$L$23","v":""},null,null,null,null,null,null,null,null,null,null,null,null,null,null,null,null,null,null,null,null,null,"Ａ.コーチ A.Coach",null,null,null,null,null,null,{"$f":"IF(入力欄!$B$28=\"なし\",\"\",$BW$75)","v":0},{"$f":"IF(入力欄!$B$28=\"なし\",\"\",$BX$75)","v":0},{"$f":"IF(入力欄!$B$28=\"なし\",\"\",$BY$75)","v":"0"},{"$f":"$L$23","v":""}]
[]
[null,"メンバー票を4つに切り取ってご使用ください。",null,null,null,null,null,null,null,null,null,null,null,null,null,null,null,null,null,null,null,null,null,null,null,null,"　　メンバー票作成の手順\n① 入力欄に必要事項を入力する\n メンバー票用のa～dの欄は空欄は残さない！！\n② メンバー票a～ｄの必要なシートで反映させる。\n③ 選手が15名未満の場合は斜線を入れる。\n④ 印刷する。\n⑤ はさみで貼るためのサイズに切る。\n"]
[]
[null,null,null,null,null,null,null,null,null,null,null,null,null,null,null,null,null,null,null,null,null,null,null,null,null,null,null,null,null,null,null,null,null,null,null,null,null,null,null,null,null,null,null,null,null,null,null,null,null,null,null,null,null,null,null,null,null,null,null,null,null,null,null,null,null,null,null,{"$f":"IF($BO49=\"\",\"\",IF(ISNA(MATCH($BO49,BV$49:BV$74,0)),\"\",INDEX(BU$49:BU$74,MATCH(BO49,BV$49:BV$74,0))))","v":""},{"$f":"IF($BO49=\"\",\"\",IF(ISNA(MATCH($BO49,BV$49:BV$74,0)),\"\",INDEX(BW$49:BW$74,MATCH(BO49,BV$49:BV$74,0))))","v":""},{"$f":"IF($BO49=\"\",\"\",IF(ISNA(MATCH($BO49,BV$49:BV$74,0)),\"\",INDEX(BX$49:BX$74,MATCH(BO49,BV$49:BV$74,0))))","v":""},{"$f":"IF($BO49=\"\",\"\",IF(ISNA(MATCH($BO49,BV$49:BV$74,0)),\"\",INDEX(BY$49:BY$74,MATCH(BO49,BV$49:BV$74,0))))","v":""},null,{"$f":"入力欄!B38","v":0},{"$f":"入力欄!I38","v":0},{"$f":"(CA49-CB49)/100","v":0},{"$f":"(CB49-BY49)/10","v":0},{"$f":"RIGHT(BZ49,1)","v":"0"},{"$f":"入力欄!F38","v":0},{"$f":"RIGHT(BZ49,3)","v":"0"},{"$f":"RIGHT(BZ49,2)","v":"0"}]
[null,null,null,null,null,null,null,null,null,null,null,null,null,null,null,null,null,null,null,null,null,null,null,null,null,null,null,null,null,null,null,null,null,null,null,null,null,null,null,null,null,null,null,null,null,null,null,null,null,null,null,null,null,null,null,null,null,null,null,null,null,null,null,null,null,null,null,"",{"$f":"IF($BO50=\"\",\"\",IF(ISNA(MATCH($BO50,BV$49:BV$74,0)),\"\",INDEX(BW$49:BW$74,MATCH(BO50,BV$49:BV$74,0))))","v":""},{"$f":"IF($BO50=\"\",\"\",IF(ISNA(MATCH($BO50,BV$49:BV$74,0)),\"\",INDEX(BX$49:BX$74,MATCH(BO50,BV$49:BV$74,0))))","v":""},{"$f":"IF($BO50=\"\",\"\",IF(ISNA(MATCH($BO50,BV$49:BV$74,0)),\"\",INDEX(BY$49:BY$74,MATCH(BO50,BV$49:BV$74,0))))","v":""},null,{"$f":"入力欄!B39","v":0},{"$f":"入力欄!I39","v":0},{"$f":"(CA50-CB50)/100","v":0},{"$f":"(CB50-BY50)/10","v":0},"0",{"$f":"入力欄!F39","v":0},{"$f":"RIGHT(BZ50,3)","v":"0"},{"$f":"RIGHT(BZ50,2)","v":"0"}]
[null,null,null,null,null,null,null,null,null,null,null,null,null,null,null,null,null,null,null,null,null,null,null,null,null,null,null,null,null,null,null,null,null,null,null,null,null,null,null,null,null,null,null,null,null,null,null,null,null,null,null,null,null,null,null,null,null,null,null,null,null,null,null,null,null,null,null,"","","","",null,{"$f":"入力欄!B40","v":0},{"$f":"入力欄!I40","v":0},0,0,"0",{"$f":"入力欄!F40","v":0},"0","0"]
[null,null,null,null,null,null,null,null,null,null,null,null,null,null,null,null,null,null,null,null,null,null,null,null,null,null,null,null,null,null,null,null,null,null,null,null,null,null,null,null,null,null,null,null,null,null,null,null,null,null,null,null,null,null,null,null,null,null,null,null,null,null,null,null,null,null,null,"","","","",null,{"$f":"入力欄!B41","v":0},{"$f":"入力欄!I41","v":0},0,0,"0",{"$f":"入力欄!F41","v":0},"0","0"]
[null,null,null,null,null,null,null,null,null,null,null,null,null,null,null,null,null,null,null,null,null,null,null,null,null,null,null,null,null,null,null,null,null,null,null,null,null,null,null,null,null,null,null,null,null,null,null,null,null,null,null,null,null,null,null,null,null,null,null,null,null,null,null,null,null,null,null,"","","","",null,{"$f":"入力欄!B42","v":0},{"$f":"入力欄!I42","v":0},0,0,"0",{"$f":"入力欄!F42","v":0},"0","0"]
[null,null,null,null,null,null,null,null,null,null,null,null,null,null,null,null,null,null,null,null,null,null,null,null,null,null,null,null,null,null,null,null,null,null,null,null,null,null,null,null,null,null,null,null,null,null,null,null,null,null,null,null,null,null,null,null,null,null,null,null,null,null,null,null,null,null,null,"","","","",null,{"$f":"入力欄!B43","v":0},{"$f":"入力欄!I43","v":0},0,0,"0",{"$f":"入力欄!F43","v":0},"0","0"]
[null,null,null,null,null,null,null,null,null,null,null,null,null,null,null,null,null,null,null,null,null,null,null,null,null,null,null,null,null,null,null,null,null,null,null,null,null,null,null,null,null,null,null,null,null,null,null,null,null,null,null,null,null,null,null,null,null,null,null,null,null,null,null,null,null,null,null,"","","","",null,{"$f":"入力欄!B44","v":0},{"$f":"入力欄!I44","v":0},0,0,"0",{"$f":"入力欄!F44","v":0},"0","0"]
[null,null,null,null,null,null,null,null,null,null,null,null,null,null,null,null,null,null,null,null,null,null,null,null,null,null,null,null,null,null,null,null,null,null,null,null,null,null,null,null,null,null,null,null,null,null,null,null,null,null,null,null,null,null,null,null,null,null,null,null,null,null,null,null,null,null,null,"","","","",null,{"$f":"入力欄!B45","v":0},{"$f":"入力欄!I45","v":0},0,0,"0",{"$f":"入力欄!F45","v":0},"0","0"]
[null,null,null,null,null,null,null,null,null,null,null,null,null,null,null,null,null,null,null,null,null,null,null,null,null,null,null,null,null,null,null,null,null,null,null,null,null,null,null,null,null,null,null,null,null,null,null,null,null,null,null,null,null,null,null,null,null,null,null,null,null,null,null,null,null,null,null,"","","","",null,{"$f":"入力欄!B46","v":0},{"$f":"入力欄!I46","v":0},0,0,"0",{"$f":"入力欄!F46","v":0},"0","0"]
[null,null,null,null,null,null,null,null,null,null,null,null,null,null,null,null,null,null,null,null,null,null,null,null,null,null,null,null,null,null,null,null,null,null,null,null,null,null,null,null,null,null,null,null,null,null,null,null,null,null,null,null,null,null,null,null,null,null,null,null,null,null,null,null,null,null,null,"","","","",null,{"$f":"入力欄!B47","v":0},{"$f":"入力欄!I47","v":0},0,0,"0",{"$f":"入力欄!F47","v":0},"0","0"]
[null,null,null,null,null,null,null,null,null,null,null,null,null,null,null,null,null,null,null,null,null,null,null,null,null,null,null,null,null,null,null,null,null,null,null,null,null,null,null,null,null,null,null,null,null,null,null,null,null,null,null,null,null,null,null,null,null,null,null,null,null,null,null,null,null,null,null,"","","","",null,{"$f":"入力欄!B48","v":0},{"$f":"入力欄!I48","v":0},0,0,"0",{"$f":"入力欄!F48","v":0},"0","0"]
[null,null,null,null,null,null,null,null,null,null,null,null,null,null,null,null,null,null,null,null,null,null,null,null,null,null,null,null,null,null,null,null,null,null,null,null,null,null,null,null,null,null,null,null,null,null,null,null,null,null,null,null,null,null,null,null,null,null,null,null,null,null,null,null,null,null,null,"","","","",null,{"$f":"入力欄!B49","v":0},{"$f":"入力欄!I49","v":0},0,0,"0",{"$f":"入力欄!F49","v":0},"0","0"]
[null,null,null,null,null,null,null,null,null,null,null,null,null,null,null,null,null,null,null,null,null,null,null,null,null,null,null,null,null,null,null,null,null,null,null,null,null,null,null,null,null,null,null,null,null,null,null,null,null,null,null,null,null,null,null,null,null,null,null,null,null,null,null,null,null,null,null,"","","","",null,{"$f":"入力欄!B50","v":0},{"$f":"入力欄!I50","v":0},0,0,"0",{"$f":"入力欄!F50","v":0},"0","0"]
[null,null,null,null,null,null,null,null,null,null,null,null,null,null,null,null,null,null,null,null,null,null,null,null,null,null,null,null,null,null,null,null,null,null,null,null,null,null,null,null,null,null,null,null,null,null,null,null,null,null,null,null,null,null,null,null,null,null,null,null,null,null,null,null,null,null,null,"","","","",null,{"$f":"入力欄!B51","v":0},{"$f":"入力欄!I51","v":0},0,0,"0",{"$f":"入力欄!F51","v":0},"0","0"]
[null,null,null,null,null,null,null,null,null,null,null,null,null,null,null,null,null,null,null,null,null,null,null,null,null,null,null,null,null,null,null,null,null,null,null,null,null,null,null,null,null,null,null,null,null,null,null,null,null,null,null,null,null,null,null,null,null,null,null,null,null,null,null,null,null,null,null,"","","","",null,{"$f":"入力欄!B52","v":0},{"$f":"入力欄!I52","v":0},0,0,"0",{"$f":"入力欄!F52","v":0},"0","0"]
[null,null,null,null,null,null,null,null,null,null,null,null,null,null,null,null,null,null,null,null,null,null,null,null,null,null,null,null,null,null,null,null,null,null,null,null,null,null,null,null,null,null,null,null,null,null,null,null,null,null,null,null,null,null,null,null,null,null,null,null,null,null,null,null,null,null,null,null,null,null,null,null,{"$f":"入力欄!B53","v":0},{"$f":"入力欄!I53","v":0},0,0,"0",{"$f":"入力欄!F53","v":0},"0","0"]
[null,null,null,null,null,null,null,null,null,null,null,null,null,null,null,null,null,null,null,null,null,null,null,null,null,null,null,null,null,null,null,null,null,null,null,null,null,null,null,null,null,null,null,null,null,null,null,null,null,null,null,null,null,null,null,null,null,null,null,null,null,null,null,null,null,null,null,null,null,null,null,null,{"$f":"入力欄!B54","v":0},{"$f":"入力欄!I54","v":0},0,0,"0",{"$f":"入力欄!F54","v":0},"0","0"]
[null,null,null,null,null,null,null,null,null,null,null,null,null,null,null,null,null,null,null,null,null,null,null,null,null,null,null,null,null,null,null,null,null,null,null,null,null,null,null,null,null,null,null,null,null,null,null,null,null,null,null,null,null,null,null,null,null,null,null,null,null,null,null,null,null,null,null,null,null,null,null,null,{"$f":"入力欄!B55","v":0},{"$f":"入力欄!I55","v":0},0,0,"0",{"$f":"入力欄!F55","v":0},"0","0"]
[null,null,null,null,null,null,null,null,null,null,null,null,null,null,null,null,null,null,null,null,null,null,null,null,null,null,null,null,null,null,null,null,null,null,null,null,null,null,null,null,null,null,null,null,null,null,null,null,null,null,null,null,null,null,null,null,null,null,null,null,null,null,null,null,null,null,null,null,null,null,null,null,{"$f":"入力欄!B56","v":0},{"$f":"入力欄!I56","v":0},0,0,"0",{"$f":"入力欄!F56","v":0},"0","0"]
[null,null,null,null,null,null,null,null,null,null,null,null,null,null,null,null,null,null,null,null,null,null,null,null,null,null,null,null,null,null,null,null,null,null,null,null,null,null,null,null,null,null,null,null,null,null,null,null,null,null,null,null,null,null,null,null,null,null,null,null,null,null,null,null,null,null,null,null,null,null,null,null,{"$f":"入力欄!B57","v":0},{"$f":"入力欄!I57","v":0},0,0,"0",{"$f":"入力欄!F57","v":0},"0","0"]
[null,null,null,null,null,null,null,null,null,null,null,null,null,null,null,null,null,null,null,null,null,null,null,null,null,null,null,null,null,null,null,null,null,null,null,null,null,null,null,null,null,null,null,null,null,null,null,null,null,null,null,null,null,null,null,null,null,null,null,null,null,null,null,null,null,null,null,null,null,null,null,null,{"$f":"入力欄!B58","v":0},{"$f":"入力欄!I58","v":0},0,0,"0",{"$f":"入力欄!F58","v":0},"0","0"]
[null,null,null,null,null,null,null,null,null,null,null,null,null,null,null,null,null,null,null,null,null,null,null,null,null,null,null,null,null,null,null,null,null,null,null,null,null,null,null,null,null,null,null,null,null,null,null,null,null,null,null,null,null,null,null,null,null,null,null,null,null,null,null,null,null,null,null,null,null,null,null,null,{"$f":"入力欄!B59","v":0},{"$f":"入力欄!I59","v":0},0,0,"0",{"$f":"入力欄!F59","v":0},"0","0"]
[null,null,null,null,null,null,null,null,null,null,null,null,null,null,null,null,null,null,null,null,null,null,null,null,null,null,null,null,null,null,null,null,null,null,null,null,null,null,null,null,null,null,null,null,null,null,null,null,null,null,null,null,null,null,null,null,null,null,null,null,null,null,null,null,null,null,null,null,null,null,null,null,{"$f":"入力欄!B60","v":0},{"$f":"入力欄!I60","v":0},0,0,"0",{"$f":"入力欄!F60","v":0},"0","0"]
[null,null,null,null,null,null,null,null,null,null,null,null,null,null,null,null,null,null,null,null,null,null,null,null,null,null,null,null,null,null,null,null,null,null,null,null,null,null,null,null,null,null,null,null,null,null,null,null,null,null,null,null,null,null,null,null,null,null,null,null,null,null,null,null,null,null,null,null,null,null,null,null,{"$f":"入力欄!B61","v":0},{"$f":"入力欄!I61","v":0},0,0,"0",{"$f":"入力欄!F61","v":0},"0","0"]
[null,null,null,null,null,null,null,null,null,null,null,null,null,null,null,null,null,null,null,null,null,null,null,null,null,null,null,null,null,null,null,null,null,null,null,null,null,null,null,null,null,null,null,null,null,null,null,null,null,null,null,null,null,null,null,null,null,null,null,null,null,null,null,null,null,null,null,null,null,null,null,null,{"$f":"入力欄!B62","v":0},{"$f":"入力欄!I62","v":0},0,0,"0",{"$f":"入力欄!F62","v":0},"0","0"]
[null,null,null,null,null,null,null,null,null,null,null,null,null,null,null,null,null,null,null,null,null,null,null,null,null,null,null,null,null,null,null,null,null,null,null,null,null,null,null,null,null,null,null,null,null,null,null,null,null,null,null,null,null,null,null,null,null,null,null,null,null,null,null,null,null,null,null,null,null,null,null,null,null,null,0,0,"0",{"$f":"入力欄!B24","v":0},"0","0"]
[null,null,null,null,null,null,null,null,null,null,null,null,null,null,null,null,null,null,null,null,null,null,null,null,null,null,null,null,null,null,null,null,null,null,null,null,null,null,null,null,null,null,null,null,null,null,null,null,null,null,null,null,null,null,null,null,null,null,null,null,null,null,null,null,null,null,null,null,null,null,null,null,null,null,0,0,"0",{"$f":"入力欄!B29","v":0},"0","0"]

{"sheet":"メンバー票d","index":8,"n_rows":75,"n_cols":80,"rows_kept":75,"cut":false,"hidden":false,"merged":[[5,68,7,72],[44,43,44,58],[44,59,44,60],[44,61,44,62],[44,63,44,64],[43,43,43,58],[43,59,43,60],[43,61,43,62],[43,63,43,64],[42,59,42,60],[42,61,42,62],[42,63,42,64],[41,53,41,54],[41,55,41,56],[41,57,41,58],[41,59,41,60],[41,61,41,62],[41,63,41,64],[40,59,40,60],[40,61,40,62],[40,63,40,64],[39,53,39,54],[39,55,39,56],[39,57,39,58],[42,21,42,22],[42,23,42,24],[42,25,42,26],[44,1,44,7],[44,11,44,26],[44,27,44,28],[44,29,44,30],[44,31,44,32],[44,33,44,39],[43,1,43,7],[43,11,43,26],[43,27,43,28],[43,29,43,30],[43,31,43,32],[43,33,43,39],[41,1,41,2],[41,6,41,18],[41,19,41,20],[41,21,41,22],[41,23,41,24],[41,25,41,26],[42,53,42,54],[42,55,42,56],[42,57,42,58],[41,27,41,28],[41,29,41,30],[41,31,41,32],[41,33,41,34],[41,38,41,50],[41,51,41,52],[42,27,42,28],[42,29,42,30],[42,31,42,32],[42,33,42,34],[42,38,42,50],[42,51,42,52],[42,1,42,2],[42,6,42,18],[42,19,42,20],[39,1,39,2],[39,6,39,18],[39,19,39,20],[39,21,39,22],[39,23,39,24],[39,25,39,26],[40,53,40,54],[40,55,40,56],[40,57,40,58],[40,27,40,28],[40,29,40,30],[40,31,40,32],[40,33,40,34],[40,38,40,50],[40,51,40,52],[40,1,40,2],[40,6,40,18],[40,19,40,20],[40,21,40,22],[40,23,40,24],[40,25,40,26],[39,59,39,60],[39,61,39,62],[39,63,39,64],[39,27,39,28],[39,29,39,30],[39,31,39,32],[39,33,39,34],[39,38,39,50],[39,51,39,52],[38,59,38,60],[38,61,38,62],[38,63,38,64],[38,27,38,28],[38,29,38,30],[38,31,38,32],[38,33,38,34],[38,38,38,50],[38,51,38,52],[38,1,38,2],[38,6,38,18],[38,19,38,20],[38,21,38,22],[38,23,38,24],[38,25,38,26],[37,53,37,54],[37,55,37,56],[37,57,37,58],[37,1,37,2],[37,6,37,18],[37,19,37,20],[37,21,37,22],[37,23,37,24],[37,25,37,26],[38,53,38,54],[38,55,38,56],[38,57,38,58],[37,59,37,60],[37,61,37,62],[37,63,37,64],[37,27,37,28],[37,29,37,30],[37,31,37,32],[37,33,37,34],[37,38,37,50],[37,51,37,52],[36,59,36,60],[36,61,36,62],[36,63,36,64],[36,27,36,28],[36,29,36,30],[36,31,36,32],[36,33,36,34],[36,38,36,50],[36,51,36,52],[36,1,36,2],[36,6,36,18],[36,19,36,20],[36,21,36,22],[36,23,36,24],[36,25,36,26],[35,53,35,54],[35,55,35,56],[35,57,35,58],[35,1,35,2],[35,6,35,18],[35,19,35,20],[35,21,35,22],[35,23,35,24],[35,25,35,26],[36,53,36,54],[36,55,36,56],[36,57,36,58],[35,59,35,60],[35,61,35,62],[35,63,35,64],[35,27,35,28],[35,29,35,30],[35,31,35,32],[35,33,35,34],[35,38,35,50],[35,51,35,52],[34,59,34,60],[34,61,34,62],[34,63,34,64],[34,27,34,28],[34,29,34,30],[34,31,34,32],[34,33,34,34],[34,38,34,50],[34,51,34,52],[34,1,34,2],[34,6,34,18],[34,19,34,20],[34,21,34,22],[34,23,34,24],[34,25,34,26],[33,53,33,54],[33,55,33,56],[33,57,33,58],[33,1,33,2],[33,6,33,18],[33,19,33,20],[33,21,33,22],[33,23,33,24],[33,25,33,26],[34,53,34,54],[34,55,34,56],[34,57,34,58],[33,59,33,60],[33,61,33,62],[33,63,33,64],[33,27,33,28],[33,29,33,30],[33,31,33,32],[33,33,33,34],[33,38,33,50],[33,51,33,52],[32,59,32,60],[32,61,32,62],[32,63,32,64],[32,27,32,28],[32,29,32,30],[32,31,32,32],[32,33,32,34],[32,38,32,50],[32,51,32,52],[32,1,32,2],[32,6,32,18],[32,19,32,20],[32,21,32,22],[32,23,32,24],[32,25,32,26],[31,53,31,54],[31,55,31,56],[31,57,31,58],[31,1,31,2],[31,6,31,18],[31,19,31,20],[31,21,31,22],[31,23,31,24],[31,25,31,26],[32,53,32,54],[32,55,32,56],[32,57,32,58],[31,59,31,60],[31,61,31,62],[31,63,31,64],[31,27,31,28],[31,29,31,30],[31,31,31,32],[31,33,31,34],[31,38,31,50],[31,51,31,52],[30,59,30,60],[30,61,30,62],[30,63,30,64],[30,27,30,28],[30,29,30,30],[30,31,30,32],[30,33,30,34],[30,38,30,50],[30,51,30,52],[30,1,30,2],[30,6,30,18],[30,19,30,20],[30,21,30,22],[30,23,30,24],[30,25,30,26],[29,53,29,54],[29,55,29,56],[29,57,29,58],[29,1,29,2],[29,6,29,18],[29,19,29,20],[29,21,29,22],[29,23,29,24],[29,25,29,26],[30,53,30,54],[30,55,30,56],[30,57,30,58],[29,59,29,60],[29,61,29,62],[29,63,29,64],[29,27,29,28],[29,29,29,30],[29,31,29,32],[29,33,29,34],[29,38,29,50],[29,51,29,52],[28,55,28,56],[28,57,28,58],[28,59,28,60],[28,61,28,62],[28,63,28,64],[28,27,28,28],[28,29,28,30],[28,31,28,32],[28,33,28,34],[28,38,28,50],[28,51,28,52],[28,1,28,2],[28,6,28,18],[28,19,28,20],[28,21,28,22],[28,23,28,24],[28,25,28,26],[26,38,27,50],[26,51,27,52],[26,53,27,54],[27,23,27,24],[27,25,27,26],[27,27,27,28],[27,29,27,30],[27,31,27,32],[28,53,28,54],[25,1,25,32],[25,33,25,64],[26,1,27,2],[26,3,27,5],[26,6,27,18],[26,19,27,20],[26,21,27,22],[26,23,26,32],[26,33,27,34],[26,35,27,37],[27,57,27,58],[27,59,27,60],[27,61,27,62],[27,63,27,64],[26,55,26,64],[27,55,27,56],[22,43,22,58],[22,59,22,60],[22,61,22,62],[22,63,22,64],[23,6,24,29],[23,38,24,61],[21,43,21,58],[21,59,21,60],[21,61,21,62],[21,63,21,64],[22,1,22,7],[22,11,22,26],[22,27,22,28],[22,29,22,30],[22,31,22,32],[22,33,22,39],[21,1,21,7],[21,11,21,26],[21,27,21,28],[21,29,21,30],[21,31,21,32],[21,33,21,39],[20,59,20,60],[20,61,20,62],[20,63,20,64],[20,27,20,28],[20,29,20,30],[20,31,20,32],[20,33,20,34],[20,38,20,50],[20,51,20,52],[20,1,20,2],[20,6,20,18],[20,19,20,20],[20,21,20,22],[20,23,20,24],[20,25,20,26],[19,53,19,54],[19,55,19,56],[19,57,19,58],[19,1,19,2],[19,6,19,18],[19,19,19,20],[19,21,19,22],[19,23,19,24],[19,25,19,26],[20,53,20,54],[20,55,20,56],[20,57,20,58],[19,59,19,60],[19,61,19,62],[19,63,19,64],[19,27,19,28],[19,29,19,30],[19,31,19,32],[19,33,19,34],[19,38,19,50],[19,51,19,52],[18,59,18,60],[18,61,18,62],[18,63,18,64],[18,27,18,28],[18,29,18,30],[18,31,18,32],[18,33,18,34],[18,38,18,50],[18,51,18,52],[18,1,18,2],[18,6,18,18],[18,19,18,20],[18,21,18,22],[18,23,18,24],[18,25,18,26],[17,53,17,54],[17,55,17,56],[17,57,17,58],[17,1,17,2],[17,6,17,18],[17,19,17,20],[17,21,17,22],[17,23,17,24],[17,25,17,26],[18,53,18,54],[18,55,18,56],[18,57,18,58],[17,59,17,60],[17,61,17,62],[17,63,17,64],[17,27,17,28],[17,29,17,30],[17,31,17,32],[17,33,17,34],[17,38,17,50],[17,51,17,52],[16,59,16,60],[16,61,16,62],[16,63,16,64],[16,27,16,28],[16,29,16,30],[16,31,16,32],[16,33,16,34],[16,38,16,50],[16,51,16,52],[16,1,16,2],[16,6,16,18],[16,19,16,20],[16,21,16,22],[16,23,16,24],[16,25,16,26],[15,53,15,54],[15,55,15,56],[15,57,15,58],[15,1,15,2],[15,6,15,18],[15,19,15,20],[15,21,15,22],[15,23,15,24],[15,25,15,26],[16,53,16,54],[16,55,16,56],[16,57,16,58],[15,59,15,60],[15,61,15,62],[15,63,15,64],[15,27,15,28],[15,29,15,30],[15,31,15,32],[15,33,15,34],[15,38,15,50],[15,51,15,52],[14,59,14,60],[14,61,14,62],[14,63,14,64],[14,27,14,28],[14,29,14,30],[14,31,14,32],[14,33,14,34],[14,38,14,50],[14,51,14,52],[14,1,14,2],[14,6,14,18],[14,19,14,20],[14,21,14,22],[14,23,14,24],[14,25,14,26],[13,53,13,54],[13,55,13,56],[13,57,13,58],[13,1,13,2],[13,6,13,18],[13,19,13,20],[13,21,13,22],[13,23,13,24],[13,25,13,26],[14,53,14,54],[14,55,14,56],[14,57,14,58],[13,59,13,60],[13,61,13,62],[13,63,13,64],[13,27,13,28],[13,29,13,30],[13,31,13,32],[13,33,13,34],[13,38,13,50],[13,51,13,52],[12,59,12,60],[12,61,12,62],[12,63,12,64],[12,27,12,28],[12,29,12,30],[12,31,12,32],[12,33,12,34],[12,38,12,50],[12,51,12,52],[12,1,12,2],[12,6,12,18],[12,19,12,20],[12,21,12,22],[12,23,12,24],[12,25,12,26],[11,53,11,54],[11,55,11,56],[11,57,11,58],[11,1,11,2],[11,6,11,18],[11,19,11,20],[11,21,11,22],[11,23,11,24],[11,25,11,26],[12,53,12,54],[12,55,12,56],[12,57,12,58],[11,59,11,60],[11,61,11,62],[11,63,11,64],[11,27,11,28],[11,29,11,30],[11,31,11,32],[11,33,11,34],[11,38,11,50],[11,51,11,52],[10,59,10,60],[10,61,10,62],[10,63,10,64],[10,27,10,28],[10,29,10,30],[10,31,10,32],[10,33,10,34],[10,38,10,50],[10,51,10,52],[10,1,10,2],[10,6,10,18],[10,19,10,20],[10,21,10,22],[10,23,10,24],[10,25,10,26],[9,53,9,54],[9,55,9,56],[9,57,9,58],[9,1,9,2],[9,6,9,18],[9,19,9,20],[9,21,9,22],[9,23,9,24],[9,25,9,26],[10,53,10,54],[10,55,10,56],[10,57,10,58],[9,59,9,60],[9,61,9,62],[9,63,9,64],[9,27,9,28],[9,29,9,30],[9,31,9,32],[9,33,9,34],[9,38,9,50],[9,51,9,52],[8,59,8,60],[8,61,8,62],[8,63,8,64],[8,27,8,28],[8,29,8,30],[8,31,8,32],[8,33,8,34],[8,38,8,50],[8,51,8,52],[8,1,8,2],[8,6,8,18],[8,19,8,20],[8,21,8,22],[8,23,8,24],[8,25,8,26],[7,53,7,54],[7,55,7,56],[7,57,7,58],[8,53,8,54],[8,55,8,56],[8,57,8,58],[7,1,7,2],[7,6,7,18],[7,19,7,20],[7,21,7,22],[7,23,7,24],[7,25,7,26],[7,59,7,60],[7,61,7,62],[7,63,7,64],[7,27,7,28],[7,29,7,30],[7,31,7,32],[7,33,7,34],[7,38,7,50],[7,51,7,52],[4,38,5,50],[4,51,5,52],[6,33,6,34],[6,38,6,50],[6,51,6,52],[4,53,5,54],[5,63,5,64],[6,1,6,2],[6,6,6,18],[6,19,6,20],[6,21,6,22],[6,23,6,24],[6,25,6,26],[6,27,6,28],[6,29,6,30],[6,31,6,32],[6,59,6,60],[6,61,6,62],[6,63,6,64],[6,53,6,54],[6,55,6,56],[6,57,6,58],[1,68,3,76],[46,26,54,55],[1,6,2,29],[1,38,2,61],[3,1,3,32],[3,33,3,64],[4,1,5,2],[4,3,5,5],[4,6,5,18],[4,19,5,20],[4,21,5,22],[4,55,4,64],[5,23,5,24],[5,25,5,26],[5,27,5,28],[5,29,5,30],[5,31,5,32],[5,55,5,56],[5,57,5,58],[5,59,5,60],[5,61,5,62],[4,23,4,32],[4,33,5,34],[4,35,5,37]]}
["ｄ"]
[null," チーム",null,null,null,null,{"$f":"IF(入力欄!E8=\"\",入力欄!B8&\"　(\"&入力欄!B19&\"）\",入力欄!B8&\"・\"&入力欄!E8&\"　(\"&入力欄!B19&\"）\")","v":"　(）"},null,null,null,null,null,null,null,null,null,null,null,null,null,null,null,null,null,null,null,null,null,null,null,null,null,null," チーム",null,null,null,null,{"$f":"$G$2","v":"　(）"},null,null,null,null,null,null,null,null,null,null,null,null,null,null,null,null,null,null,null,null,null,null,null,null,null,null,null,null,null,"　　メンバー票作成の手順\n① 入力欄に必要事項を入力する\n② メンバー票a～ｄの必要なシートで反映させる。\n③ 選手が15名未満の場合は斜線を入れる。\n④ 印刷する。\n⑤ はさみで4試合分を切り取る。"]
[null," Team ",null,null,null,null,null,null,null,null,null,null,null,null,null,null,null,null,null,null,null,null,null,null,null,null,null,null,null,null,null,null,null," Team "]
[]
[null,"No.",null,"Licence\nno.",null,null,"選手氏名　Players",null,null,null,null,null,null,null,null,null,null,null,null,"No.",null,"Players\nin",null,"ファウル Fouls",null,null,null,null,null,null,null,null,null,"No.",null,"Licence\nno.",null,null,"選手氏名　Players",null,null,null,null,null,null,null,null,null,null,null,null,"No.",null,"Players\nin",null,"ファウル Fouls"]
[null,null,null,null,null,null,null,null,null,null,null,null,null,null,null,null,null,null,null,null,null,null,null,1,null,2,null,3,null,4,null,5,null,null,null,null,null,null,null,null,null,null,null,null,null,null,null,null,null,null,null,null,null,null,null,1,null,2,null,3,null,4,null,5,null,null,null,null,"※選手が15名より少ない場合は空欄を線で消す必要があります。左のボタンで線が引けます。"]
[null,1,null,{"$f":"IF($BO49=\"*\",\"\",$BQ49)","v":""},{"$f":"IF($BO49=\"*\",\"\",$BR49)","v":""},{"$f":"IF($BO49=\"*\",\"\",$BS49)","v":""},{"$f":"IF($BO49=\"*\",\"\",$BP49)","v":""},null,null,null,null,null,null,null,null,null,null,null,null,{"$f":"IF($BO$49=\"*\",\"\",IF($BO$49=100,\"00\",$BO$49))","v":0},null,null,null,null,null,null,null,null,null,null,null,null,null,1,null,{"$f":"IF($BO49=\"*\",\"\",$BQ49)","v":""},{"$f":"IF($BO49=\"*\",\"\",$BR49)","v":""},{"$f":"IF($BO49=\"*\",\"\",$BS49)","v":""},{"$f":"IF($BO49=\"*\",\"\",$BP49)","v":""},null,null,null,null,null,null,null,null,null,null,null,null,{"$f":"IF($BO$49=\"*\",\"\",IF($BO$49=100,\"00\",$BO$49))","v":0}]
[null,2,null,{"$f":"IF($BO50=\"*\",\"\",$BQ50)","v":""},{"$f":"IF($BO50=\"*\",\"\",$BR50)","v":""},{"$f":"IF($BO50=\"*\",\"\",$BS50)","v":""},{"$f":"IF($BO50=\"*\",\"\",$BP50)","v":""},null,null,null,null,null,null,null,null,null,null,null,null,{"$f":"IF($BO$50=\"*\",\"\",IF($BO$50=100,\"00\",$BO$50))","v":0},null,null,null,null,null,null,null,null,null,null,null,null,null,2,null,{"$f":"IF($BO50=\"*\",\"\",$BQ50)","v":""},{"$f":"IF($BO50=\"*\",\"\",$BR50)","v":""},{"$f":"IF($BO50=\"*\",\"\",$BS50)","v":""},{"$f":"IF($BO50=\"*\",\"\",$BP50)","v":""},null,null,null,null,null,null,null,null,null,null,null,null,{"$f":"IF($BO$50=\"*\",\"\",IF($BO$50=100,\"00\",$BO$50))","v":0}]
[null,3,null,"","","","",null,null,null,null,null,null,null,null,null,null,null,null,{"$f":"IF($BO$51=\"*\",\"\",IF($BO$51=100,\"00\",$BO$51))","v":0},null,null,null,null,null,null,null,null,null,null,null,null,null,3,null,"","","","",null,null,null,null,null,null,null,null,null,null,null,null,{"$f":"IF($BO$51=\"*\",\"\",IF($BO$51=100,\"00\",$BO$51))","v":0}]
[null,4,null,"","","","",null,null,null,null,null,null,null,null,null,null,null,null,{"$f":"IF($BO$52=\"*\",\"\",IF($BO$52=100,\"00\",$BO$52))","v":0},null,null,null,null,null,null,null,null,null,null,null,null,null,4,null,"","","","",null,null,null,null,null,null,null,null,null,null,null,null,{"$f":"IF($BO$52=\"*\",\"\",IF($BO$52=100,\"00\",$BO$52))","v":0}]
[null,5,null,"","","","",null,null,null,null,null,null,null,null,null,null,null,null,{"$f":"IF($BO$53=\"*\",\"\",IF($BO$53=100,\"00\",$BO$53))","v":0},null,null,null,null,null,null,null,null,null,null,null,null,null,5,null,"","","","",null,null,null,null,null,null,null,null,null,null,null,null,{"$f":"IF($BO$53=\"*\",\"\",IF($BO$53=100,\"00\",$BO$53))","v":0}]
[null,6,null,"","","","",null,null,null,null,null,null,null,null,null,null,null,null,{"$f":"IF($BO$54=\"*\",\"\",IF($BO$54=100,\"00\",$BO$54))","v":0},null,null,null,null,null,null,null,null,null,null,null,null,null,6,null,"","","","",null,null,null,null,null,null,null,null,null,null,null,null,{"$f":"IF($BO$54=\"*\",\"\",IF($BO$54=100,\"00\",$BO$54))","v":0}]
[null,7,null,"","","","",null,null,null,null,null,null,null,null,null,null,null,null,{"$f":"IF($BO$55=\"*\",\"\",IF($BO$55=100,\"00\",$BO$55))","v":0},null,null,null,null,null,null,null,null,null,null,null,null,null,7,null,"","","","",null,null,null,null,null,null,null,null,null,null,null,null,{"$f":"IF($BO$55=\"*\",\"\",IF($BO$55=100,\"00\",$BO$55))","v":0}]
[null,8,null,"","","","",null,null,null,null,null,null,null,null,null,null,null,null,{"$f":"IF($BO$56=\"*\",\"\",IF($BO$56=100,\"00\",$BO$56))","v":0},null,null,null,null,null,null,null,null,null,null,null,null,null,8,null,"","","","",null,null,null,null,null,null,null,null,null,null,null,null,{"$f":"IF($BO$56=\"*\",\"\",IF($BO$56=100,\"00\",$BO$56))","v":0}]
[null,9,null,"","","","",null,null,null,null,null,null,null,null,null,null,null,null,{"$f":"IF($BO$57=\"*\",\"\",IF($BO$57=100,\"00\",$BO$57))","v":0},null,null,null,null,null,null,null,null,null,null,null,null,null,9,null,"","","","",null,null,null,null,null,null,null,null,null,null,null,null,{"$f":"IF($BO$57=\"*\",\"\",IF($BO$57=100,\"00\",$BO$57))","v":0}]
[null,10,null,"","","","",null,null,null,null,null,null,null,null,null,null,null,null,{"$f":"IF($BO$58=\"*\",\"\",IF($BO$58=100,\"00\",$BO$58))","v":0},null,null,null,null,null,null,null,null,null,null,null,null,null,10,null,"","","","",null,null,null,null,null,null,null,null,null,null,null,null,{"$f":"IF($BO$58=\"*\",\"\",IF($BO$58=100,\"00\",$BO$58))","v":0}]
[null,11,null,"","","","",null,null,null,null,null,null,null,null,null,null,null,null,{"$f":"IF($BO$59=\"*\",\"\",IF($BO$59=100,\"00\",$BO$59))","v":0},null,null,null,null,null,null,null,null,null,null,null,null,null,11,null,"","","","",null,null,null,null,null,null,null,null,null,null,null,null,{"$f":"IF($BO$59=\"*\",\"\",IF($BO$59=100,\"00\",$BO$59))","v":0}]
[null,12,null,"","","","",null,null,null,null,null,null,null,null,null,null,null,null,{"$f":"IF($BO$60=\"*\",\"\",IF($BO$60=100,\"00\",$BO$60))","v":0},null,null,null,null,null,null,null,null,null,null,null,null,null,12,null,"","","","",null,null,null,null,null,null,null,null,null,null,null,null,{"$f":"IF($BO$60=\"*\",\"\",IF($BO$60=100,\"00\",$BO$60))","v":0}]
[null,13,null,"","","","",null,null,null,null,null,null,null,null,null,null,null,null,{"$f":"IF($BO$61=\"*\",\"\",IF($BO$61=100,\"00\",$BO$61))","v":0},null,null,null,null,null,null,null,null,null,null,null,null,null,13,null,"","","","",null,null,null,null,null,null,null,null,null,null,null,null,{"$f":"IF($BO$61=\"*\",\"\",IF($BO$61=100,\"00\",$BO$61))","v":0}]
[null,14,null,"","","","",null,null,null,null,null,null,null,null,null,null,null,null,{"$f":"IF($BO$62=\"*\",\"\",IF($BO$62=100,\"00\",$BO$62))","v":0},null,null,null,null,null,null,null,null,null,null,null,null,null,14,null,"","","","",null,null,null,null,null,null,null,null,null,null,null,null,{"$f":"IF($BO$62=\"*\",\"\",IF($BO$62=100,\"00\",$BO$62))","v":0}]
[null,15,null,"","","","",null,null,null,null,null,null,null,null,null,null,null,null,{"$f":"IF($BO$63=\"*\",\"\",IF($BO$63=100,\"00\",$BO$63))","v":0},null,null,null,null,null,null,null,null,null,null,null,null,null,15,null,"","","","",null,null,null,null,null,null,null,null,null,null,null,null,{"$f":"IF($BO$63=\"*\",\"\",IF($BO$63=100,\"00\",$BO$63))","v":0}]
[null,"コーチ Coach",null,null,null,null,null,null,{"$f":"IF(入力欄!$B23=\"なし\",\"\",$BW74)","v":0},{"$f":"IF(入力欄!$B23=\"なし\",\"\",$BX74)","v":0},{"$f":"IF(入力欄!$B23=\"なし\",\"\",$BY74)","v":"0"},{"$f":"入力欄!B21","v":0},null,null,null,null,null,null,null,null,null,null,null,null,null,null,null,null,null,null,null,null,null,"コーチ Coach",null,null,null,null,null,null,{"$f":"IF(入力欄!$B$23=\"なし\",\"\",$BW$74)","v":0},{"$f":"IF(入力欄!$B$23=\"なし\",\"\",$BX$74)","v":0},{"$f":"IF(入力欄!$B$23=\"なし\",\"\",$BY$74)","v":"0"},{"$f":"$L$22","v":0}]
[null,"Ａ.コーチ A.Coach",null,null,null,null,null,null,{"$f":"IF(入力欄!$B28=\"なし\",\"\",$BW75)","v":0},{"$f":"IF(入力欄!$B28=\"なし\",\"\",$BX75)","v":0},{"$f":"IF(入力欄!$B28=\"なし\",\"\",$BY75)","v":"0"},{"$f":"IF(入力欄!B26=\"\",\"\",入力欄!B26)","v":""},null,null,null,null,null,null,null,null,null,null,null,null,null,null,null,null,null,null,null,null,null,"Ａ.コーチ A.Coach",null,null,null,null,null,null,{"$f":"IF(入力欄!$B$28=\"なし\",\"\",$BW$75)","v":0},{"$f":"IF(入力欄!$B$28=\"なし\",\"\",$BX$75)","v":0},{"$f":"IF(入力欄!$B$28=\"なし\",\"\",$BY$75)","v":"0"},{"$f":"$L$23","v":""}]
[null," チーム",null,null,null,null,{"$f":"$G$2","v":"　(）"},null,null,null,null,null,null,null,null,null,null,null,null,null,null,null,null,null,null,null,null,null,null,null,null,null,null," チーム",null,null,null,null,{"$f":"$G$2","v":"　(）"}]
[null," Team ",null,null,null,null,null,null,null,null,null,null,null,null,null,null,null,null,null,null,null,null,null,null,null,null,null,null,null,null,null,null,null," Team "]
[]
[null,"No.",null,"Licence\nno.",null,null,"選手氏名　Players",null,null,null,null,null,null,null,null,null,null,null,null,"No.",null,"Players\nin",null,"ファウル Fouls",null,null,null,null,null,null,null,null,null,"No.",null,"Licence\nno.",null,null,"選手氏名　Players",null,null,null,null,null,null,null,null,null,null,null,null,"No.",null,"Players\nin",null,"ファウル Fouls"]
[null,null,null,null,null,null,null,null,null,null,null,null,null,null,null,null,null,null,null,null,null,null,null,1,null,2,null,3,null,4,null,5,null,null,null,null,null,null,null,null,null,null,null,null,null,null,null,null,null,null,null,null,null,null,null,1,null,2,null,3,null,4,null,5]
[null,1,null,{"$f":"IF($BO49=\"*\",\"\",$BQ49)","v":""},{"$f":"IF($BO49=\"*\",\"\",$BR49)","v":""},{"$f":"IF($BO49=\"*\",\"\",$BS49)","v":""},{"$f":"IF($BO49=\"*\",\"\",$BP49)","v":""},null,null,null,null,null,null,null,null,null,null,null,null,{"$f":"IF($BO$49=\"*\",\"\",IF($BO$49=100,\"00\",$BO$49))","v":0},null,null,null,null,null,null,null,null,null,null,null,null,null,1,null,{"$f":"IF($BO49=\"*\",\"\",$BQ49)","v":""},{"$f":"IF($BO49=\"*\",\"\",$BR49)","v":""},{"$f":"IF($BO49=\"*\",\"\",$BS49)","v":""},{"$f":"IF($BO49=\"*\",\"\",$BP49)","v":""},null,null,null,null,null,null,null,null,null,null,null,null,{"$f":"IF($BO$49=\"*\",\"\",IF($BO$49=100,\"00\",$BO$49))","v":0}]
[null,2,null,{"$f":"IF($BO50=\"*\",\"\",$BQ50)","v":""},{"$f":"IF($BO50=\"*\",\"\",$BR50)","v":""},{"$f":"IF($BO50=\"*\",\"\",$BS50)","v":""},{"$f":"IF($BO50=\"*\",\"\",$BP50)","v":""},null,null,null,null,null,null,null,null,null,null,null,null,{"$f":"IF($BO$50=\"*\",\"\",IF($BO$50=100,\"00\",$BO$50))","v":0},null,null,null,null,null,null,null,null,null,null,null,null,null,2,null,{"$f":"IF($BO50=\"*\",\"\",$BQ50)","v":""},{"$f":"IF($BO50=\"*\",\"\",$BR50)","v":""},{"$f":"IF($BO50=\"*\",\"\",$BS50)","v":""},"",null,null,null,null,null,null,null,null,null,null,null,null,{"$f":"IF($BO$50=\"*\",\"\",IF($BO$50=100,\"00\",$BO$50))","v":0}]
[null,3,null,"","","","",null,null,null,null,null,null,null,null,null,null,null,null,{"$f":"IF($BO$51=\"*\",\"\",IF($BO$51=100,\"00\",$BO$51))","v":0},null,null,null,null,null,null,null,null,null,null,null,null,null,3,null,"","","","",null,null,null,null,null,null,null,null,null,null,null,null,{"$f":"IF($BO$51=\"*\",\"\",IF($BO$51=100,\"00\",$BO$51))","v":0}]
[null,4,null,"","","","",null,null,null,null,null,null,null,null,null,null,null,null,{"$f":"IF($BO$52=\"*\",\"\",IF($BO$52=100,\"00\",$BO$52))","v":0},null,null,null,null,null,null,null,null,null,null,null,null,null,4,null,"","","","",null,null,null,null,null,null,null,null,null,null,null,null,{"$f":"IF($BO$52=\"*\",\"\",IF($BO$52=100,\"00\",$BO$52))","v":0}]
[null,5,null,"","","","",null,null,null,null,null,null,null,null,null,null,null,null,{"$f":"IF($BO$53=\"*\",\"\",IF($BO$53=100,\"00\",$BO$53))","v":0},null,null,null,null,null,null,null,null,null,null,null,null,null,5,null,"","","","",null,null,null,null,null,null,null,null,null,null,null,null,{"$f":"IF($BO$53=\"*\",\"\",IF($BO$53=100,\"00\",$BO$53))","v":0}]
[null,6,null,"","","","",null,null,null,null,null,null,null,null,null,null,null,null,{"$f":"IF($BO$54=\"*\",\"\",IF($BO$54=100,\"00\",$BO$54))","v":0},null,null,null,null,null,null,null,null,null,null,null,null,null,6,null,"","","","",null,null,null,null,null,null,null,null,null,null,null,null,{"$f":"IF($BO$54=\"*\",\"\",IF($BO$54=100,\"00\",$BO$54))","v":0}]
[null,7,null,"","","","",null,null,null,null,null,null,null,null,null,null,null,null,{"$f":"IF($BO$55=\"*\",\"\",IF($BO$55=100,\"00\",$BO$55))","v":0},null,null,null,null,null,null,null,null,null,null,null,null,null,7,null,"","","","",null,null,null,null,null,null,null,null,null,null,null,null,{"$f":"IF($BO$55=\"*\",\"\",IF($BO$55=100,\"00\",$BO$55))","v":0}]
[null,8,null,"","","","",null,null,null,null,null,null,null,null,null,null,null,null,{"$f":"IF($BO$56=\"*\",\"\",IF($BO$56=100,\"00\",$BO$56))","v":0},null,null,null,null,null,null,null,null,null,null,null,null,null,8,null,"","","","",null,null,null,null,null,null,null,null,null,null,null,null,{"$f":"IF($BO$56=\"*\",\"\",IF($BO$56=100,\"00\",$BO$56))","v":0}]
[null,9,null,"","","","",null,null,null,null,null,null,null,null,null,null,null,null,{"$f":"IF($BO$57=\"*\",\"\",IF($BO$57=100,\"00\",$BO$57))","v":0},null,null,null,null,null,null,null,null,null,null,null,null,null,9,null,"","","","",null,null,null,null,null,null,null,null,null,null,null,null,{"$f":"IF($BO$57=\"*\",\"\",IF($BO$57=100,\"00\",$BO$57))","v":0}]
[null,10,null,"","","","",null,null,null,null,null,null,null,null,null,null,null,null,{"$f":"IF($BO$58=\"*\",\"\",IF($BO$58=100,\"00\",$BO$58))","v":0},null,null,null,null,null,null,null,null,null,null,null,null,null,10,null,"","","","",null,null,null,null,null,null,null,null,null,null,null,null,{"$f":"IF($BO$58=\"*\",\"\",IF($BO$58=100,\"00\",$BO$58))","v":0}]
[null,11,null,"","","","",null,null,null,null,null,null,null,null,null,null,null,null,{"$f":"IF($BO$59=\"*\",\"\",IF($BO$59=100,\"00\",$BO$59))","v":0},null,null,null,null,null,null,null,null,null,null,null,null,null,11,null,"","","","",null,null,null,null,null,null,null,null,null,null,null,null,{"$f":"IF($BO$59=\"*\",\"\",IF($BO$59=100,\"00\",$BO$59))","v":0}]
[null,12,null,"","","","",null,null,null,null,null,null,null,null,null,null,null,null,{"$f":"IF($BO$60=\"*\",\"\",IF($BO$60=100,\"00\",$BO$60))","v":0},null,null,null,null,null,null,null,null,null,null,null,null,null,12,null,"","","","",null,null,null,null,null,null,null,null,null,null,null,null,{"$f":"IF($BO$60=\"*\",\"\",IF($BO$60=100,\"00\",$BO$60))","v":0}]
[null,13,null,"","","","",null,null,null,null,null,null,null,null,null,null,null,null,{"$f":"IF($BO$61=\"*\",\"\",IF($BO$61=100,\"00\",$BO$61))","v":0},null,null,null,null,null,null,null,null,null,null,null,null,null,13,null,"","","","",null,null,null,null,null,null,null,null,null,null,null,null,{"$f":"IF($BO$61=\"*\",\"\",IF($BO$61=100,\"00\",$BO$61))","v":0}]
[null,14,null,"","","","",null,null,null,null,null,null,null,null,null,null,null,null,{"$f":"IF($BO$62=\"*\",\"\",IF($BO$62=100,\"00\",$BO$62))","v":0},null,null,null,null,null,null,null,null,null,null,null,null,null,14,null,"","","","",null,null,null,null,null,null,null,null,null,null,null,null,{"$f":"IF($BO$62=\"*\",\"\",IF($BO$62=100,\"00\",$BO$62))","v":0}]
[null,15,null,"","","","",null,null,null,null,null,null,null,null,null,null,null,null,{"$f":"IF($BO$63=\"*\",\"\",IF($BO$63=100,\"00\",$BO$63))","v":0},null,null,null,null,null,null,null,null,null,null,null,null,null,15,null,"","","","",null,null,null,null,null,null,null,null,null,null,null,null,{"$f":"IF($BO$63=\"*\",\"\",IF($BO$63=100,\"00\",$BO$63))","v":0}]
[null,"コーチ Coach",null,null,null,null,null,null,{"$f":"IF(入力欄!$B$23=\"なし\",\"\",$BW$74)","v":0},{"$f":"IF(入力欄!$B$23=\"なし\",\"\",$BX$74)","v":0},{"$f":"IF(入力欄!$B$23=\"なし\",\"\",$BY$74)","v":"0"},{"$f":"$L$22","v":0},null,null,null,null,null,null,null,null,null,null,null,null,null,null,null,null,null,null,null,null,null,"コーチ Coach",null,null,null,null,null,null,{"$f":"IF(入力欄!$B$23=\"なし\",\"\",$BW$74)","v":0},{"$f":"IF(入力欄!$B$23=\"なし\",\"\",$BX$74)","v":0},{"$f":"IF(入力欄!$B$23=\"なし\",\"\",$BY$74)","v":"0"},{"$f":"$L$22","v":0}]
[null,"Ａ.コーチ A.Coach",null,null,null,null,null,null,{"$f":"IF(入力欄!$B$28=\"なし\",\"\",$BW$75)","v":0},{"$f":"IF(入力欄!$B$28=\"なし\",\"\",$BX$75)","v":0},{"$f":"IF(入力欄!$B$28=\"なし\",\"\",$BY$75)","v":"0"},{"$f":"$L$23","v":""},null,null,null,null,null,null,null,null,null,null,null,null,null,null,null,null,null,null,null,null,null,"Ａ.コーチ A.Coach",null,null,null,null,null,null,{"$f":"IF(入力欄!$B$28=\"なし\",\"\",$BW$75)","v":0},{"$f":"IF(入力欄!$B$28=\"なし\",\"\",$BX$75)","v":0},{"$f":"IF(入力欄!$B$28=\"なし\",\"\",$BY$75)","v":"0"},{"$f":"$L$23","v":""}]
[]
[null,"メンバー票を4つに切り取ってご使用ください。",null,null,null,null,null,null,null,null,null,null,null,null,null,null,null,null,null,null,null,null,null,null,null,null,"　　メンバー票作成の手順\n① 入力欄に必要事項を入力する\n② メンバー票a～ｄの必要なシートで反映させる。\n③ 選手が15名未満の場合は斜線を入れる。\n④ 印刷する。\n⑤ はさみで貼るためのサイズに切る。\n"]
[]
[null,null,null,null,null,null,null,null,null,null,null,null,null,null,null,null,null,null,null,null,null,null,null,null,null,null,null,null,null,null,null,null,null,null,null,null,null,null,null,null,null,null,null,null,null,null,null,null,null,null,null,null,null,null,null,null,null,null,null,null,null,null,null,null,null,null,null,{"$f":"IF($BO49=\"\",\"\",IF(ISNA(MATCH($BO49,BV$49:BV$74,0)),\"\",INDEX(BU$49:BU$74,MATCH(BO49,BV$49:BV$74,0))))","v":""},{"$f":"IF($BO49=\"\",\"\",IF(ISNA(MATCH($BO49,BV$49:BV$74,0)),\"\",INDEX(BW$49:BW$74,MATCH(BO49,BV$49:BV$74,0))))","v":""},{"$f":"IF($BO49=\"\",\"\",IF(ISNA(MATCH($BO49,BV$49:BV$74,0)),\"\",INDEX(BX$49:BX$74,MATCH(BO49,BV$49:BV$74,0))))","v":""},{"$f":"IF($BO49=\"\",\"\",IF(ISNA(MATCH($BO49,BV$49:BV$74,0)),\"\",INDEX(BY$49:BY$74,MATCH(BO49,BV$49:BV$74,0))))","v":""},null,{"$f":"入力欄!B38","v":0},{"$f":"入力欄!J38","v":0},{"$f":"(CA49-CB49)/100","v":0},{"$f":"(CB49-BY49)/10","v":0},{"$f":"RIGHT(BZ49,1)","v":"0"},{"$f":"入力欄!F38","v":0},{"$f":"RIGHT(BZ49,3)","v":"0"},{"$f":"RIGHT(BZ49,2)","v":"0"}]
[null,null,null,null,null,null,null,null,null,null,null,null,null,null,null,null,null,null,null,null,null,null,null,null,null,null,null,null,null,null,null,null,null,null,null,null,null,null,null,null,null,null,null,null,null,null,null,null,null,null,null,null,null,null,null,null,null,null,null,null,null,null,null,null,null,null,null,"",{"$f":"IF($BO50=\"\",\"\",IF(ISNA(MATCH($BO50,BV$49:BV$74,0)),\"\",INDEX(BW$49:BW$74,MATCH(BO50,BV$49:BV$74,0))))","v":""},{"$f":"IF($BO50=\"\",\"\",IF(ISNA(MATCH($BO50,BV$49:BV$74,0)),\"\",INDEX(BX$49:BX$74,MATCH(BO50,BV$49:BV$74,0))))","v":""},{"$f":"IF($BO50=\"\",\"\",IF(ISNA(MATCH($BO50,BV$49:BV$74,0)),\"\",INDEX(BY$49:BY$74,MATCH(BO50,BV$49:BV$74,0))))","v":""},null,{"$f":"入力欄!B39","v":0},{"$f":"入力欄!J39","v":0},{"$f":"(CA50-CB50)/100","v":0},{"$f":"(CB50-BY50)/10","v":0},"0",{"$f":"入力欄!F39","v":0},{"$f":"RIGHT(BZ50,3)","v":"0"},{"$f":"RIGHT(BZ50,2)","v":"0"}]
[null,null,null,null,null,null,null,null,null,null,null,null,null,null,null,null,null,null,null,null,null,null,null,null,null,null,null,null,null,null,null,null,null,null,null,null,null,null,null,null,null,null,null,null,null,null,null,null,null,null,null,null,null,null,null,null,null,null,null,null,null,null,null,null,null,null,null,"","","","",null,{"$f":"入力欄!B40","v":0},{"$f":"入力欄!J40","v":0},0,0,"0",{"$f":"入力欄!F40","v":0},"0","0"]
[null,null,null,null,null,null,null,null,null,null,null,null,null,null,null,null,null,null,null,null,null,null,null,null,null,null,null,null,null,null,null,null,null,null,null,null,null,null,null,null,null,null,null,null,null,null,null,null,null,null,null,null,null,null,null,null,null,null,null,null,null,null,null,null,null,null,null,"","","","",null,{"$f":"入力欄!B41","v":0},{"$f":"入力欄!J41","v":0},0,0,"0",{"$f":"入力欄!F41","v":0},"0","0"]
[null,null,null,null,null,null,null,null,null,null,null,null,null,null,null,null,null,null,null,null,null,null,null,null,null,null,null,null,null,null,null,null,null,null,null,null,null,null,null,null,null,null,null,null,null,null,null,null,null,null,null,null,null,null,null,null,null,null,null,null,null,null,null,null,null,null,null,"","","","",null,{"$f":"入力欄!B42","v":0},{"$f":"入力欄!J42","v":0},0,0,"0",{"$f":"入力欄!F42","v":0},"0","0"]
[null,null,null,null,null,null,null,null,null,null,null,null,null,null,null,null,null,null,null,null,null,null,null,null,null,null,null,null,null,null,null,null,null,null,null,null,null,null,null,null,null,null,null,null,null,null,null,null,null,null,null,null,null,null,null,null,null,null,null,null,null,null,null,null,null,null,null,"","","","",null,{"$f":"入力欄!B43","v":0},{"$f":"入力欄!J43","v":0},0,0,"0",{"$f":"入力欄!F43","v":0},"0","0"]
[null,null,null,null,null,null,null,null,null,null,null,null,null,null,null,null,null,null,null,null,null,null,null,null,null,null,null,null,null,null,null,null,null,null,null,null,null,null,null,null,null,null,null,null,null,null,null,null,null,null,null,null,null,null,null,null,null,null,null,null,null,null,null,null,null,null,null,"","","","",null,{"$f":"入力欄!B44","v":0},{"$f":"入力欄!J44","v":0},0,0,"0",{"$f":"入力欄!F44","v":0},"0","0"]
[null,null,null,null,null,null,null,null,null,null,null,null,null,null,null,null,null,null,null,null,null,null,null,null,null,null,null,null,null,null,null,null,null,null,null,null,null,null,null,null,null,null,null,null,null,null,null,null,null,null,null,null,null,null,null,null,null,null,null,null,null,null,null,null,null,null,null,"","","","",null,{"$f":"入力欄!B45","v":0},{"$f":"入力欄!J45","v":0},0,0,"0",{"$f":"入力欄!F45","v":0},"0","0"]
[null,null,null,null,null,null,null,null,null,null,null,null,null,null,null,null,null,null,null,null,null,null,null,null,null,null,null,null,null,null,null,null,null,null,null,null,null,null,null,null,null,null,null,null,null,null,null,null,null,null,null,null,null,null,null,null,null,null,null,null,null,null,null,null,null,null,null,"","","","",null,{"$f":"入力欄!B46","v":0},{"$f":"入力欄!J46","v":0},0,0,"0",{"$f":"入力欄!F46","v":0},"0","0"]
[null,null,null,null,null,null,null,null,null,null,null,null,null,null,null,null,null,null,null,null,null,null,null,null,null,null,null,null,null,null,null,null,null,null,null,null,null,null,null,null,null,null,null,null,null,null,null,null,null,null,null,null,null,null,null,null,null,null,null,null,null,null,null,null,null,null,null,"","","","",null,{"$f":"入力欄!B47","v":0},{"$f":"入力欄!J47","v":0},0,0,"0",{"$f":"入力欄!F47","v":0},"0","0"]
[null,null,null,null,null,null,null,null,null,null,null,null,null,null,null,null,null,null,null,null,null,null,null,null,null,null,null,null,null,null,null,null,null,null,null,null,null,null,null,null,null,null,null,null,null,null,null,null,null,null,null,null,null,null,null,null,null,null,null,null,null,null,null,null,null,null,null,"","","","",null,{"$f":"入力欄!B48","v":0},{"$f":"入力欄!J48","v":0},0,0,"0",{"$f":"入力欄!F48","v":0},"0","0"]
[null,null,null,null,null,null,null,null,null,null,null,null,null,null,null,null,null,null,null,null,null,null,null,null,null,null,null,null,null,null,null,null,null,null,null,null,null,null,null,null,null,null,null,null,null,null,null,null,null,null,null,null,null,null,null,null,null,null,null,null,null,null,null,null,null,null,null,"","","","",null,{"$f":"入力欄!B49","v":0},{"$f":"入力欄!J49","v":0},0,0,"0",{"$f":"入力欄!F49","v":0},"0","0"]
[null,null,null,null,null,null,null,null,null,null,null,null,null,null,null,null,null,null,null,null,null,null,null,null,null,null,null,null,null,null,null,null,null,null,null,null,null,null,null,null,null,null,null,null,null,null,null,null,null,null,null,null,null,null,null,null,null,null,null,null,null,null,null,null,null,null,null,"","","","",null,{"$f":"入力欄!B50","v":0},{"$f":"入力欄!J50","v":0},0,0,"0",{"$f":"入力欄!F50","v":0},"0","0"]
[null,null,null,null,null,null,null,null,null,null,null,null,null,null,null,null,null,null,null,null,null,null,null,null,null,null,null,null,null,null,null,null,null,null,null,null,null,null,null,null,null,null,null,null,null,null,null,null,null,null,null,null,null,null,null,null,null,null,null,null,null,null,null,null,null,null,null,"","","","",null,{"$f":"入力欄!B51","v":0},{"$f":"入力欄!J51","v":0},0,0,"0",{"$f":"入力欄!F51","v":0},"0","0"]
[null,null,null,null,null,null,null,null,null,null,null,null,null,null,null,null,null,null,null,null,null,null,null,null,null,null,null,null,null,null,null,null,null,null,null,null,null,null,null,null,null,null,null,null,null,null,null,null,null,null,null,null,null,null,null,null,null,null,null,null,null,null,null,null,null,null,null,"","","","",null,{"$f":"入力欄!B52","v":0},{"$f":"入力欄!J52","v":0},0,0,"0",{"$f":"入力欄!F52","v":0},"0","0"]
[null,null,null,null,null,null,null,null,null,null,null,null,null,null,null,null,null,null,null,null,null,null,null,null,null,null,null,null,null,null,null,null,null,null,null,null,null,null,null,null,null,null,null,null,null,null,null,null,null,null,null,null,null,null,null,null,null,null,null,null,null,null,null,null,null,null,null,null,null,null,null,null,{"$f":"入力欄!B53","v":0},{"$f":"入力欄!J53","v":0},0,0,"0",{"$f":"入力欄!F53","v":0},"0","0"]
[null,null,null,null,null,null,null,null,null,null,null,null,null,null,null,null,null,null,null,null,null,null,null,null,null,null,null,null,null,null,null,null,null,null,null,null,null,null,null,null,null,null,null,null,null,null,null,null,null,null,null,null,null,null,null,null,null,null,null,null,null,null,null,null,null,null,null,null,null,null,null,null,{"$f":"入力欄!B54","v":0},{"$f":"入力欄!J54","v":0},0,0,"0",{"$f":"入力欄!F54","v":0},"0","0"]
[null,null,null,null,null,null,null,null,null,null,null,null,null,null,null,null,null,null,null,null,null,null,null,null,null,null,null,null,null,null,null,null,null,null,null,null,null,null,null,null,null,null,null,null,null,null,null,null,null,null,null,null,null,null,null,null,null,null,null,null,null,null,null,null,null,null,null,null,null,null,null,null,{"$f":"入力欄!B55","v":0},{"$f":"入力欄!J55","v":0},0,0,"0",{"$f":"入力欄!F55","v":0},"0","0"]
[null,null,null,null,null,null,null,null,null,null,null,null,null,null,null,null,null,null,null,null,null,null,null,null,null,null,null,null,null,null,null,null,null,null,null,null,null,null,null,null,null,null,null,null,null,null,null,null,null,null,null,null,null,null,null,null,null,null,null,null,null,null,null,null,null,null,null,null,null,null,null,null,{"$f":"入力欄!B56","v":0},{"$f":"入力欄!J56","v":0},0,0,"0",{"$f":"入力欄!F56","v":0},"0","0"]
[null,null,null,null,null,null,null,null,null,null,null,null,null,null,null,null,null,null,null,null,null,null,null,null,null,null,null,null,null,null,null,null,null,null,null,null,null,null,null,null,null,null,null,null,null,null,null,null,null,null,null,null,null,null,null,null,null,null,null,null,null,null,null,null,null,null,null,null,null,null,null,null,{"$f":"入力欄!B57","v":0},{"$f":"入力欄!J57","v":0},0,0,"0",{"$f":"入力欄!F57","v":0},"0","0"]
[null,null,null,null,null,null,null,null,null,null,null,null,null,null,null,null,null,null,null,null,null,null,null,null,null,null,null,null,null,null,null,null,null,null,null,null,null,null,null,null,null,null,null,null,null,null,null,null,null,null,null,null,null,null,null,null,null,null,null,null,null,null,null,null,null,null,null,null,null,null,null,null,{"$f":"入力欄!B58","v":0},{"$f":"入力欄!J58","v":0},0,0,"0",{"$f":"入力欄!F58","v":0},"0","0"]
[null,null,null,null,null,null,null,null,null,null,null,null,null,null,null,null,null,null,null,null,null,null,null,null,null,null,null,null,null,null,null,null,null,null,null,null,null,null,null,null,null,null,null,null,null,null,null,null,null,null,null,null,null,null,null,null,null,null,null,null,null,null,null,null,null,null,null,null,null,null,null,null,{"$f":"入力欄!B59","v":0},{"$f":"入力欄!J59","v":0},0,0,"0",{"$f":"入力欄!F59","v":0},"0","0"]
[null,null,null,null,null,null,null,null,null,null,null,null,null,null,null,null,null,null,null,null,null,null,null,null,null,null,null,null,null,null,null,null,null,null,null,null,null,null,null,null,null,null,null,null,null,null,null,null,null,null,null,null,null,null,null,null,null,null,null,null,null,null,null,null,null,null,null,null,null,null,null,null,{"$f":"入力欄!B60","v":0},{"$f":"入力欄!J60","v":0},0,0,"0",{"$f":"入力欄!F60","v":0},"0","0"]
[null,null,null,null,null,null,null,null,null,null,null,null,null,null,null,null,null,null,null,null,null,null,null,null,null,null,null,null,null,null,null,null,null,null,null,null,null,null,null,null,null,null,null,null,null,null,null,null,null,null,null,null,null,null,null,null,null,null,null,null,null,null,null,null,null,null,null,null,null,null,null,null,{"$f":"入力欄!B61","v":0},{"$f":"入力欄!J61","v":0},0,0,"0",{"$f":"入力欄!F61","v":0},"0","0"]
[null,null,null,null,null,null,null,null,null,null,null,null,null,null,null,null,null,null,null,null,null,null,null,null,null,null,null,null,null,null,null,null,null,null,null,null,null,null,null,null,null,null,null,null,null,null,null,null,null,null,null,null,null,null,null,null,null,null,null,null,null,null,null,null,null,null,null,null,null,null,null,null,{"$f":"入力欄!B62","v":0},{"$f":"入力欄!J62","v":0},0,0,"0",{"$f":"入力欄!F62","v":0},"0","0"]
[null,null,null,null,null,null,null,null,null,null,null,null,null,null,null,null,null,null,null,null,null,null,null,null,null,null,null,null,null,null,null,null,null,null,null,null,null,null,null,null,null,null,null,null,null,null,null,null,null,null,null,null,null,null,null,null,null,null,null,null,null,null,null,null,null,null,null,null,null,null,null,null,null,null,0,0,"0",{"$f":"入力欄!B24","v":0},"0","0"]
[null,null,null,null,null,null,null,null,null,null,null,null,null,null,null,null,null,null,null,null,null,null,null,null,null,null,null,null,null,null,null,null,null,null,null,null,null,null,null,null,null,null,null,null,null,null,null,null,null,null,null,null,null,null,null,null,null,null,null,null,null,null,null,null,null,null,null,null,null,null,null,null,null,null,0,0,"0",{"$f":"入力欄!B29","v":0},"0","0"]

{"sheet":"個人情報","index":9,"n_rows":47,"n_cols":66,"rows_kept":47,"cut":false,"hidden":false,"merged":[[42,0,42,28],[43,0,44,10],[43,17,43,19],[45,5,45,13],[45,16,45,24],[46,6,46,13],[46,15,46,16],[46,17,46,24],[46,26,46,27],[39,0,39,1],[39,2,39,10],[39,11,39,13],[39,14,39,17],[39,18,39,28],[40,0,40,1],[40,2,40,10],[40,11,40,13],[40,14,40,17],[40,18,40,28],[37,0,37,1],[37,2,37,10],[37,11,37,13],[37,14,37,17],[37,18,37,28],[38,0,38,1],[38,2,38,10],[38,11,38,13],[38,14,38,17],[38,18,38,28],[35,0,35,1],[35,2,35,10],[35,11,35,13],[35,14,35,17],[35,18,35,28],[36,0,36,1],[36,2,36,10],[36,11,36,13],[36,14,36,17],[36,18,36,28],[33,0,33,1],[33,2,33,7],[33,8,33,10],[33,11,33,13],[33,14,33,17],[33,18,33,28],[32,0,32,1],[32,2,32,7],[32,8,32,10],[32,11,32,13],[32,14,32,17],[32,18,32,28],[31,0,31,1],[31,2,31,7],[31,8,31,10],[31,11,31,13],[31,14,31,17],[31,18,31,28],[30,0,30,1],[30,2,30,7],[30,8,30,10],[30,11,30,13],[30,14,30,17],[30,18,30,28],[29,0,29,1],[29,2,29,7],[29,8,29,10],[29,11,29,13],[29,14,29,17],[29,18,29,28],[28,0,28,1],[28,2,28,7],[28,8,28,10],[28,11,28,13],[28,14,28,17],[28,18,28,28],[27,0,27,1],[27,2,27,7],[27,8,27,10],[27,11,27,13],[27,14,27,17],[27,18,27,28],[26,0,26,1],[26,2,26,7],[26,8,26,10],[26,11,26,13],[26,14,26,17],[26,18,26,28],[25,0,25,1],[25,2,25,7],[25,8,25,10],[25,11,25,13],[25,14,25,17],[25,18,25,28],[24,0,24,1],[24,2,24,7],[24,8,24,10],[24,11,24,13],[24,14,24,17],[24,18,24,28],[23,0,23,1],[23,2,23,7],[23,8,23,10],[23,11,23,13],[23,14,23,17],[23,18,23,28],[22,0,22,1],[22,2,22,7],[22,8,22,10],[22,11,22,13],[22,14,22,17],[22,18,22,28],[20,31,21,34],[21,0,21,1],[21,2,21,7],[21,8,21,10],[21,11,21,13],[21,14,21,17],[21,18,21,28],[20,0,20,1],[20,2,20,7],[20,8,20,10],[20,11,20,13],[20,14,20,17],[20,18,20,28],[19,0,19,1],[19,2,19,7],[19,8,19,10],[19,11,19,13],[19,14,19,17],[19,18,19,28],[18,0,18,1],[18,2,18,7],[18,8,18,10],[18,11,18,13],[18,14,18,17],[18,18,18,28],[17,0,17,1],[17,2,17,7],[17,8,17,10],[17,11,17,13],[17,14,17,17],[17,18,17,28],[16,0,16,1],[16,2,16,7],[16,8,16,10],[16,11,16,13],[16,14,16,17],[16,18,16,28],[15,0,15,1],[15,2,15,7],[15,8,15,10],[15,11,15,13],[15,14,15,17],[15,18,15,28],[14,0,14,1],[14,2,14,7],[14,8,14,10],[14,11,14,13],[14,14,14,17],[14,18,14,28],[13,0,13,1],[13,2,13,7],[13,8,13,10],[13,11,13,13],[13,14,13,17],[13,18,13,28],[12,0,12,1],[12,2,12,7],[12,8,12,10],[12,11,12,13],[12,14,12,17],[12,18,12,28],[11,0,11,1],[11,2,11,7],[11,8,11,10],[11,11,11,13],[11,14,11,17],[11,18,11,28],[9,18,9,28],[10,0,10,1],[10,2,10,7],[10,8,10,10],[10,11,10,13],[10,14,10,17],[10,18,10,28],[8,0,8,1],[8,2,8,10],[8,11,8,13],[8,14,8,17],[8,18,8,28],[9,0,9,1],[9,2,9,7],[9,8,9,10],[9,11,9,13],[9,14,9,17],[5,0,6,3],[5,4,6,16],[5,17,5,19],[5,20,5,28],[6,17,6,19],[6,20,6,28],[0,1,0,3],[2,14,2,16],[2,17,2,19],[2,20,2,28],[3,14,3,16],[3,17,3,19],[3,20,3,28]]}
[null,{"$f":"参加申込!A1","v":2022},null,null,"年度",null,null,{"$f":"入力欄!A1","v":"香川県U-15バスケットボールリーグ"}]
[null,null,null,null,null,null,null,"個人情報の取り扱いに関する申請書"]
[null,null,null,null,null,null,null,null,null,null,null,null,null,null,"地区",null,null,"性別",null,null,"チームＩＤ"]
[null,null,null,null,null,null,null,null,null,null,null,null,null,null,{"$f":"入力欄!B18","v":0},null,null,{"$f":"入力欄!B19","v":0},null,null,{"$f":"IF(入力欄!E7=\"\",入力欄!B11,入力欄!B11&\"，\"&入力欄!E11)","v":0}]
[]
["チーム名",null,null,null,{"$f":"IF(入力欄!E7=\"\",入力欄!B7,入力欄!B7&\"，\"&入力欄!E7)","v":0},null,null,null,null,null,null,null,null,null,null,null,null,"住所",null,null,{"$f":"IF(入力欄!E7=\"\",入力欄!B9,入力欄!B9&\"，\"&入力欄!E9)","v":0},null,null,null,null,null,null,null,null,"個人情報の取扱について部員に確認する場合は『個人情報確認』のシートのプリントを利用してくださっても結構です。"]
[null,null,null,null,null,null,null,null,null,null,null,null,null,null,null,null,null,"電話",null,null,{"$f":"IF(入力欄!E7=\"\",入力欄!B10,入力欄!B10&\"，\"&入力欄!E10)","v":0}]
[]
["No.",null,"選　手　氏　名",null,null,null,null,null,null,null,null,"学年",null,null,"配慮が必要",null,null,null,"配慮する内容",null,null,null,null,null,null,null,null,null,null,null,null,null,null,null,null,null,null,null,null,null,null,null,"○"]
[1,null,{"$f":"IF(入力欄!B38=\"\",\"\",入力欄!B38)","v":""},null,null,null,null,null,{"$f":"IF(入力欄!K38=\"\",\"\",入力欄!K38)","v":""},null,null,{"$f":"IF(入力欄!C38=\"\",\"\",入力欄!C38)","v":""},null,null,null,null,null,null,null,null,null,null,null,null,null,null,null,null,null,"←配慮が必要な選手の欄に○をつけ、配慮する内容を番号で選択(複数可)するか、配慮事項を記入してください。"]
[2,null,{"$f":"IF(入力欄!B39=\"\",\"\",入力欄!B39)","v":""},null,null,null,null,null,{"$f":"IF(入力欄!K39=\"\",\"\",入力欄!K39)","v":""},null,null,{"$f":"IF(入力欄!C39=\"\",\"\",入力欄!C39)","v":""},null,null,null,null,null,null,null,null,null,null,null,null,null,null,null,null,null,"① プログラムに個人名・学年・身長を掲載しない(チーム集合写真は各チームで配慮してください)。"]
[3,null,{"$f":"IF(入力欄!B40=\"\",\"\",入力欄!B40)","v":""},null,null,null,null,null,{"$f":"IF(入力欄!K40=\"\",\"\",入力欄!K40)","v":""},null,null,{"$f":"IF(入力欄!C40=\"\",\"\",入力欄!C40)","v":""},null,null,null,null,null,null,null,null,null,null,null,null,null,null,null,null,null,"② 新聞社に個人名を提供しない。"]
[4,null,{"$f":"IF(入力欄!B41=\"\",\"\",入力欄!B41)","v":""},null,null,null,null,null,{"$f":"IF(入力欄!K41=\"\",\"\",入力欄!K41)","v":""},null,null,{"$f":"IF(入力欄!C41=\"\",\"\",入力欄!C41)","v":""},null,null,null,null,null,null,null,null,null,null,null,null,null,null,null,null,null,"③A 新聞社の写真に掲載されないようにする。"]
[5,null,{"$f":"IF(入力欄!B42=\"\",\"\",入力欄!B42)","v":""},null,null,null,null,null,{"$f":"IF(入力欄!K42=\"\",\"\",入力欄!K42)","v":""},null,null,{"$f":"IF(入力欄!C42=\"\",\"\",入力欄!C42)","v":""},null,null,null,null,null,null,null,null,null,null,null,null,null,null,null,null,null,"③Ｂ 新聞社の写真に個人が特定されないようにする。"]
[6,null,{"$f":"IF(入力欄!B43=\"\",\"\",入力欄!B43)","v":""},null,null,null,null,null,{"$f":"IF(入力欄!K43=\"\",\"\",入力欄!K43)","v":""},null,null,{"$f":"IF(入力欄!C43=\"\",\"\",入力欄!C43)","v":""},null,null,null,null,null,null,null,null,null,null,null,null,null,null,null,null,null,"④ 協会ホームページに個人名を掲載しない。"]
[7,null,{"$f":"IF(入力欄!B44=\"\",\"\",入力欄!B44)","v":""},null,null,null,null,null,{"$f":"IF(入力欄!K44=\"\",\"\",入力欄!K44)","v":""},null,null,{"$f":"IF(入力欄!C44=\"\",\"\",入力欄!C44)","v":""},null,null,null,null,null,null,null,null,null,null,null,null,null,null,null,null,null,"⑤A 協会ホームページの写真に掲載されないようにする。"]
[8,null,{"$f":"IF(入力欄!B45=\"\",\"\",入力欄!B45)","v":""},null,null,null,null,null,{"$f":"IF(入力欄!K45=\"\",\"\",入力欄!K45)","v":""},null,null,{"$f":"IF(入力欄!C45=\"\",\"\",入力欄!C45)","v":""},null,null,null,null,null,null,null,null,null,null,null,null,null,null,null,null,null,"⑤B 協会ホームページの写真に個人が特定されないようにする。"]
[9,null,{"$f":"IF(入力欄!B46=\"\",\"\",入力欄!B46)","v":""},null,null,null,null,null,{"$f":"IF(入力欄!K46=\"\",\"\",入力欄!K46)","v":""},null,null,{"$f":"IF(入力欄!C46=\"\",\"\",入力欄!C46)","v":""},null,null,null,null,null,null,null,null,null,null,null,null,null,null,null,null,null,"⑥ 協会からの求めがあっても、推薦資料を提供しない。"]
[10,null,{"$f":"IF(入力欄!B47=\"\",\"\",入力欄!B47)","v":""},null,null,null,null,null,{"$f":"IF(入力欄!K47=\"\",\"\",入力欄!K47)","v":""},null,null,{"$f":"IF(入力欄!C47=\"\",\"\",入力欄!C47)","v":""},null,null,null,null,null,null,null,null,null,null,null,null,null,null,null,null,null,"◎ メンバー票に載せないことはできません。"]
[11,null,{"$f":"IF(入力欄!B48=\"\",\"\",入力欄!B48)","v":""},null,null,null,null,null,{"$f":"IF(入力欄!K48=\"\",\"\",入力欄!K48)","v":""},null,null,{"$f":"IF(入力欄!C48=\"\",\"\",入力欄!C48)","v":""}]
[12,null,{"$f":"IF(入力欄!B49=\"\",\"\",入力欄!B49)","v":""},null,null,null,null,null,{"$f":"IF(入力欄!K49=\"\",\"\",入力欄!K49)","v":""},null,null,{"$f":"IF(入力欄!C49=\"\",\"\",入力欄!C49)","v":""},null,null,null,null,null,null,null,null,null,null,null,null,null,null,null,null,null,null,null,"個人情報の取り扱いについて"]
[13,null,{"$f":"IF(入力欄!B50=\"\",\"\",入力欄!B50)","v":""},null,null,null,null,null,{"$f":"IF(入力欄!K50=\"\",\"\",入力欄!K50)","v":""},null,null,{"$f":"IF(入力欄!C50=\"\",\"\",入力欄!C50)","v":""}]
[14,null,{"$f":"IF(入力欄!B51=\"\",\"\",入力欄!B51)","v":""},null,null,null,null,null,{"$f":"IF(入力欄!K51=\"\",\"\",入力欄!K51)","v":""},null,null,{"$f":"IF(入力欄!C51=\"\",\"\",入力欄!C51)","v":""},null,null,null,null,null,null,null,null,null,null,null,null,null,null,null,null,null,null,"　参加申込によって得た個人情報は原則として、大会の運営に関することのみに利用します。"]
[15,null,{"$f":"IF(入力欄!B52=\"\",\"\",入力欄!B52)","v":""},null,null,null,null,null,{"$f":"IF(入力欄!K52=\"\",\"\",入力欄!K52)","v":""},null,null,{"$f":"IF(入力欄!C52=\"\",\"\",入力欄!C52)","v":""},null,null,null,null,null,null,null,null,null,null,null,null,null,null,null,null,null,null,"ただし、以下の場合に個人情報を公開および提供することがあります。"]
[16,null,{"$f":"IF(入力欄!B53=\"\",\"\",入力欄!B53)","v":""},null,null,null,null,null,{"$f":"IF(入力欄!K53=\"\",\"\",入力欄!K53)","v":""},null,null,{"$f":"IF(入力欄!C53=\"\",\"\",入力欄!C53)","v":""},null,null,null,null,null,null,null,null,null,null,null,null,null,null,null,null,null,null,"① 大会プログラムを作成し、チームの集合写真・選手氏名・学年・身長等が掲載されることがあります。"]
[17,null,{"$f":"IF(入力欄!B54=\"\",\"\",入力欄!B54)","v":""},null,null,null,null,null,{"$f":"IF(入力欄!K54=\"\",\"\",入力欄!K54)","v":""},null,null,{"$f":"IF(入力欄!C54=\"\",\"\",入力欄!C54)","v":""},null,null,null,null,null,null,null,null,null,null,null,null,null,null,null,null,null,null,"② 新聞社に試合結果を提供します。その際に優秀選手等の個人名が提供されることがあります。"]
[18,null,{"$f":"IF(入力欄!B55=\"\",\"\",入力欄!B55)","v":""},null,null,null,null,null,{"$f":"IF(入力欄!K55=\"\",\"\",入力欄!K55)","v":""},null,null,{"$f":"IF(入力欄!C55=\"\",\"\",入力欄!C55)","v":""},null,null,null,null,null,null,null,null,null,null,null,null,null,null,null,null,null,null,"③ 新聞社が試合風景の写真を撮影し、掲載することがあります。"]
[19,null,{"$f":"IF(入力欄!B56=\"\",\"\",入力欄!B56)","v":""},null,null,null,null,null,{"$f":"IF(入力欄!K56=\"\",\"\",入力欄!K56)","v":""},null,null,{"$f":"IF(入力欄!C56=\"\",\"\",入力欄!C56)","v":""},null,null,null,null,null,null,null,null,null,null,null,null,null,null,null,null,null,null,"④ 協会ホームページに試合結果を掲載します。その際に優秀選手等の個人名が掲載されることがあります。"]
[20,null,{"$f":"IF(入力欄!B57=\"\",\"\",入力欄!B57)","v":""},null,null,null,null,null,{"$f":"IF(入力欄!K57=\"\",\"\",入力欄!K57)","v":""},null,null,{"$f":"IF(入力欄!C57=\"\",\"\",入力欄!C57)","v":""},null,null,null,null,null,null,null,null,null,null,null,null,null,null,null,null,null,null,"⑤ 協会ホームページに試合風景の写真を掲載することがあります。"]
[21,null,{"$f":"IF(入力欄!B58=\"\",\"\",入力欄!B58)","v":""},null,null,null,null,null,{"$f":"IF(入力欄!K58=\"\",\"\",入力欄!K58)","v":""},null,null,{"$f":"IF(入力欄!C58=\"\",\"\",入力欄!C58)","v":""},null,null,null,null,null,null,null,null,null,null,null,null,null,null,null,null,null,null,"⑥ 県協会、日本協会の求めに応じて、優秀選手の推薦等の資料として個人名・身長等を提供することがあります。"]
[22,null,{"$f":"IF(入力欄!B59=\"\",\"\",入力欄!B59)","v":""},null,null,null,null,null,{"$f":"IF(入力欄!K59=\"\",\"\",入力欄!K59)","v":""},null,null,{"$f":"IF(入力欄!C59=\"\",\"\",入力欄!C59)","v":""},null,null,null,null,null,null,null,null,null,null,null,null,null,null,null,null,null,null,"今大会はプログラムは作成しません。"]
[23,null,{"$f":"IF(入力欄!B60=\"\",\"\",入力欄!B60)","v":""},null,null,null,null,null,{"$f":"IF(入力欄!K60=\"\",\"\",入力欄!K60)","v":""},null,null,{"$f":"IF(入力欄!C60=\"\",\"\",入力欄!C60)","v":""}]
[24,null,{"$f":"IF(入力欄!B61=\"\",\"\",入力欄!B61)","v":""},null,null,null,null,null,{"$f":"IF(入力欄!K61=\"\",\"\",入力欄!K61)","v":""},null,null,{"$f":"IF(入力欄!C61=\"\",\"\",入力欄!C61)","v":""}]
[25,null,{"$f":"IF(入力欄!B62=\"\",\"\",入力欄!B62)","v":""},null,null,null,null,null,{"$f":"IF(入力欄!K62=\"\",\"\",入力欄!K62)","v":""},null,null,{"$f":"IF(入力欄!C62=\"\",\"\",入力欄!C62)","v":""}]
[]
["No.",null,"氏　　名",null,null,null,null,null,null,null,null,"役職",null,null,"配慮が必要",null,null,null,"配慮する内容"]
[1,null,null,null,null,null,null,null,null,null,null,null,null,null,null,null,null,null,null,null,null,null,null,null,null,null,null,null,null,null,null,null,null,null,null,null,null,null,null,null,null,null,null,null,null,null,null,null,null,null,null,null,null,null,null,null,null,null,null,null,"責任者","引率者","連絡責任者","コーチ","Ａコーチ","マネージャー"]
[2]
[3]
[4]
[5]
[]
["　標記大会において、上記の者の個人情報について配慮していただくことを申請いたします。"]
[{"$f":"入力欄!C1&\"長 殿\"","v":"(一社)香川県バスケットボール協会長 殿"},null,null,null,null,null,null,null,null,null,null,null,null,null,null,null,null,{"$f":"入力欄!B3","v":2022},null,null,"年",{"$f":"入力欄!B4","v":7},"月",{"$f":"入力欄!B5","v":26},"日"]
[]
[null,null,null,null,null,{"$f":"IF(入力欄!$E$7=\"\",\"\",入力欄!E7)","v":""},null,null,null,null,null,null,null,null,null,null,{"$f":"入力欄!B7","v":0}]
[null,null,null,null,null,null,{"$f":"IF(入力欄!E12=\"\",\"\",入力欄!E12)","v":""},null,null,null,null,null,null,null,null,{"$f":"IF(入力欄!E6=\"\",\"\",\"印\")","v":""},null,{"$f":"入力欄!B12","v":0},null,null,null,null,null,null,null,null,"印"]

{"sheet":"個人情報確認","index":10,"n_rows":56,"n_cols":12,"rows_kept":56,"cut":false,"hidden":false,"merged":[[38,5,39,5],[42,0,42,10],[45,2,45,9],[0,8,0,9],[1,1,1,3],[5,8,5,9],[6,8,6,9],[8,1,8,9],[10,1,17,9]]}
[null,null,null,null,null,null,null,null,{"$f":"TODAY()","v":"2022-07-26"},null,null,"←日付は変更して使用してください。"]
[null,"○○立○○中学校",null,null,null,null,null,null,null,null,null,"←学校名は入力して使用してください。"]
[null,"バスケットボール部保護者　各位"]
[null,null,null,null,null,null,null,null,null,{"$f":"B2","v":"○○立○○中学校"},null,"←こちらは上の学校名に連動しています。"]
[null,null,null,null,null,null,null,null,null,"バスケットボール部顧問"]
[null,null,null,null,null,null,null,null,"男子　　○○　○○",null,null,"←顧問名は入力して使用してください。"]
[null,null,null,null,null,null,null,null,"女子　　○○　○○"]
[]
[null,"バスケットボール大会参加時の個人情報の取扱について"]
[]
[null,"　日頃より、本校バスケットボール部の活動にご理解、ご協力いただきありがとうございます。\n　さて、香川県・地区バスケットボール協会、香川県・地区中学校体育連盟が主催するバスケットボール大会に出場する際、個人情報の取扱について大会申込時に確認が求められます。そこで部員全員に個人情報の取扱について確認をしたいと思います。この調査は来年度の県総体までの期間有効とします。途中で変更になる場合は生徒を通じて申し出るようお願いします。\n　各大会主催者から出されている下記の個人情報の取扱について確認していただき、『個人情報の配慮事項』に必要事項を記入して○月○日までに各顧問へ提出してください。"]
[]
[]
[]
[]
[]
[null,null,null,null,null,null,null,null,null,null,null,"←〆切日は入力して使用してください。"]
[]
[]
[null,null,null,null,null,"記"]
[]
[null,"※個人情報の取扱について"]
[null,"　参加申込によって得た個人情報は原則として、大会の運営に関することのみに利用します。"]
[null,"ただし、以下の場合に個人情報を公開および提供することがあります。"]
[]
[null,"① 大会プログラムを作成し、チームの集合写真・選手氏名・学年・身長等が掲載されることがあります"]
[null,"　（大会プログラムは県総体のみ作成、今年度は集合写真の掲載はなし）。"]
[null,"② 新聞社に試合結果を提供します。その際に優秀選手等の個人名が提供されることがあります(優秀"]
[null,"　選手は県ジュニア大会のみ設定があり）。"]
[null,"③ 新聞社が試合風景の写真を撮影し、掲載することがあります(県大会のベスト4の試合を四国新聞"]
[null,"　社が撮影し、新聞に掲載される可能性あり)。"]
[null,"④ 協会ホームページに試合結果を掲載します。その際に優秀選手等の個人名が掲載されることが"]
[null,"　あります(優秀選手は県ジュニア大会のみ設定あり）。"]
[null,"⑤ 協会ホームページに試合風景の写真を掲載することがあります(県大会のベスト4の試合を協会"]
[null,"　役員が撮影し、ホームページに掲載される可能性あり)。"]
[null,"⑥ 県協会、日本協会の求めに応じて、優秀選手の推薦等の資料として個人名・身長等を提供する"]
[null,"　ことがあります。"]
[]
[null,null,null,null,null,"切り取り"]
[]
[null,"バスケットボール部の大会参加時に関わる個人情報の取扱確認"]
[]
["(　　)年(　　)組　氏名(　　　　　　　　　　　　)　　保護者氏名(　　　　　　　　　　 印　)"]
[]
[null,"該当する項目の左の欄に○を記入する。",null,null,null,null,"記入日",{"$f":"入力欄!B3&\"年\"","v":"2022年"},"月","日"]
[null,"該当","項目"]
[null,null,"　配慮事項は特にない"]
[null,null,"①Ａ","プログラムに個人名・学年・身長を掲載しない。"]
[null,null,"①Ｂ","集合写真には入らない。"]
[null,null,"②","新聞社に個人名を提供しない。"]
[null,null,"③A","新聞社の写真に掲載されないようにする。"]
[null,null,"③Ｂ","新聞社の写真に個人が特定されないようにする。"]
[null,null,"④","協会ホームページに個人名を掲載しない。"]
[null,null,"⑤A","協会ホームページの写真に掲載されないようにする。"]
[null,null,"⑤B","協会ホームページの写真に個人が特定されないようにする。"]
[null,null,"⑥","協会からの求めがあっても、推薦資料を提供しない。"]

{"sheet":"Sheet2","index":11,"n_rows":6,"n_cols":21,"rows_kept":6,"cut":false,"hidden":true,"merged":[[0,0,0,4]]}
["タイムアウト\nTime-outs",null,null,null,null,null,null,null,null,null,null,null,null,null,null,null,"チームファウルTeam foules"]
[null,null,null,null,null,"クォーターquarter",null,null,null,null,null,"①","1","2","3","4","②","1","2","3","4"]
[]
[null,null,null,null,null,"クォーターquarter",null,null,null,null,null,"③","1","2","3","4","④","1","2","3","4"]
[]
[null,null,null,null,null,"オーバータイムOvertimes"]